{"text_format":"1","workbook":"xlsx","n_sheets":30,"sheets":["Исходные данные","activityDirections","Сопроводительная записка","noteTemplate","Ведомость объема работ","workSections","Требования к расчету","Ведомость ОР","Ценовые нормативы","СМР","НМЦ","priceTemplate","materialMetadata","priceTemplate_round","smrTemplate_common","priceTemplate_common","priceTemplate_common_round","priceChapterTemplates","workTypes","Ежеднев. возка и перевозка вахт","relocationTemplate","вахтовая надбавка","Перебазировка","materialTemplate","ВМП по лоту","РВ по лоту","Реестр МТР","contractorMaterialReport_belich","materialReport_belich","temp"],"not_rendered":{"charts":0,"images":0,"macros":1,"external_links":0,"defined_names":358,"comments":0,"pivot_tables":0},"unopened":[],"bounds":{"document_bytes":16777216,"sheet_cells":100000,"rows_first":2000,"rows_last":500,"rows_between":2000,"halvings":0,"cell_chars":16384,"cell_head_chars":4096},"cells_cut":0,"cells_raw":0,"read":"whole","date_system":"1900"}

{"sheet":"Исходные данные","index":0,"n_rows":40,"n_cols":38,"rows_kept":40,"cut":false,"hidden":true,"merged":[[20,33,20,36],[20,20,21,20],[38,6,38,7],[38,8,38,9],[39,6,39,7],[39,8,39,9],[20,17,21,17],[20,6,20,7],[20,8,20,9],[36,8,36,9],[36,6,36,7],[20,16,21,16],[29,6,29,7],[30,6,30,7],[35,6,35,7],[29,8,29,9],[11,5,11,7],[12,5,12,7],[13,5,13,7],[14,5,14,7],[32,6,32,7],[2,1,2,14],[7,5,7,7],[8,5,8,7],[9,5,9,7],[10,5,10,7],[20,25,20,28],[20,29,20,32],[20,3,21,3],[20,1,21,1],[20,4,21,4],[20,5,21,5],[20,18,21,18],[20,10,20,12],[20,13,20,15],[20,19,21,19],[20,2,21,2],[20,21,20,24],[30,8,30,9],[35,8,35,9],[32,8,32,9],[33,6,33,7],[33,8,33,9]]}
[25,50,300,400,150,100,100,100,100,100,100,100,100,100,100,100,200,100,100,60,60,60,60,60,60,60,60,60,60,60,60,60,60,60,60,60,25]
["95B8996E-A92E-40F2-8A9B-251AB1F004D4"]
[null,"Исходные данные для расчета НМЦ"]
[]
[null,"№ п/п","Параметры","Значение",null,null,null,null,"5.50",null,null,null,null,null,null,"Округление","Не использовать"]
[null,1,2,3]
[null,1,"Уникальный номер в РПЗ общества","2000350438 (680-20-КС(ТЗ))"]
[null,2,"Дата формирования ТЗ","2020-08-10",null,"Приложение",null,null,"Значение"]
[null,3,"Дата расчета НМЦ","2020-08-20",null,1,null,null,2]
[null,4,"Вид договорной цены","Твердая цена",null,"Исходные данные",null,null,"Проверено"]
[null,5,"Способ проведения закупки","Конкурентная закупка",null,"Ведомость объема работ",null,null,"Проверено"]
[null,6,"Метод определения НМЦ","Базисно-индексный метод",null,"Ежеднев. возка и перевозка вахт",null,null,"Проверено"]
[null,7,"Источники ценовой информации","ПСД",null,"Перебазировка",null,null,"Проверено"]
[null,8,"Срок строительства","10.03.2021 - 30.06.2021",null,"Реестр МТР",null,null,"Проверено"]
[null,9,"Период для прогнозного уровня цен",{"$f":"YEAR(LEFT(D14,FIND(\" \",D14) - 1))","v":2021},null,"Общий статус",null,null,{"$f":"IF(I10=\"Проверено\",IF(I11=\"Проверено\",IF(I12=\"Проверено\",IF(I13=\"Проверено\",IF(I14=\"Проверено\",\"Проверено\",\"Ошибка\"),\"Ошибка\"),\"Ошибка\")),\"Ошибка\")","v":"Проверено"}]
[null,10,"Шифр проекта","1980615/0880Д"]
[null,11,"Разработчик проекта","ООО «РН-УфаНИПИнефть»"]
[null,12,"Вид работ","Капитальное строительство"]
[null,13,"Наименование лота","Строительство объектов энергетики Правдинского региона"]
[]
[null,"№ п/п","Технический код объекта ","Наименование объекта\n(не использовать символ *) ","Регион строительства","Код Объекта","Сроки строительства",null,"Объемы строительства",null,"Транспортировка щебня ",null,null,"Транспортировка песка",null,null,"Краткое наименование объекта (не более 25 символов, не использовать: : ,  \\ ,  / , ? , * , [ , ] )","Направление деятельности","Доп. признак","Номер расчета","Итог",{"$f":"D15","v":2021},null,null,null,{"$f":"V21+1","v":2022},null,null,null,{"$f":"Z21+1","v":2023},null,null,null,{"$f":"AD21+1","v":2024}]
[null,null,null,null,null,null,"Дата начала","Дата окончания","Единица измерения","Количество","1 Класс","2 Класс","3 Класс","1 Класс","2 Класс","3 Класс",null,null,null,null,null,"I кв","II кв","III кв","IV кв","I кв","II кв","III кв","IV кв","I кв","II кв","III кв","IV кв","I кв","II кв","III кв","IV кв"]
[null,1,2,3,4,5,6,7,8,9,10,11,12,13,14,15,16,17,18,19,20,21,22,23,24,25,26,27,28,29,30,31,32,33,34,35,36]
[null,"C10","C45","C11","C12","C13","C14","C15","C16","C17","C37","C38","C39","C40","C41","C42","C18","C19","C43","C44","C36","C20","C21","C22","C23","C24","C25","C26","C27","C28","C29","C30","C31","C32","C33","C34","C35"]
[null,1,"5D57A968-2E2D-47A8-B7F4-6C635AF194C3","ВЛ 6 кВ на куст 3129.1 (габ.110 кВ) Приразломное м/р.","Правдинский","КС00091309","10.03.2021","30.06.2021","м",1980,93,0,0,0,31,0,"ВЛ 6 на куст 3129.1","Объекты энергетики","-",1,{"$f":"SUM(V25:AK25)","v":1},0.1,0.9,null,null,null,null,null,null,null,null,null,null,null,null,null,null,{"$f":"VLOOKUP(R25,activityDirections!$A$2:$B$8,2,0)","v":8.09E-2}]
[null,2,"AEEAB128-A9D6-4DE1-ACE9-6CD791FCF82A","ВЛ 6 кВ на куст 3129.2 (габ. 6 кВ) Приразломное м/р.","Правдинский","КС00091313","10.03.2021","30.06.2021","м",520,93,0,0,0,31,0,"ВЛ 6 на куст 3129.2","Объекты энергетики","-",1,{"$f":"SUM(V26:AK26)","v":1},0.1,0.9,null,null,null,null,null,null,null,null,null,null,null,null,null,null,{"$f":"VLOOKUP(R26,activityDirections!$A$2:$B$8,2,0)","v":8.09E-2}]
[]
[]
[]
[null,null,null,"Ответственный исполнитель",null,null,"Вед. Специалист ОСОЭ УКС",null,"Волостников Н.А."]
[null,null,null,null,null,null,"должность",null,"Ф.И.О."]
[]
[null,null,null,"Ответственный исполнитель ОСП",null,null,"Главный специалист",null,"Еременко С.В."]
[null,null,null,null,null,null,"должность",null,"Ф.И.О."]
[]
[null,null,null,"Ответственный исполнитель ОЦП по КВ",null,null,"Ведущий специалист",null,"Берестова А.В."]
[null,null,null,null,null,null,"должность",null,"Ф.И.О."]
[]
[null,null,null,"Ответственный исполнитель ОЦП по КВ ТМЦ Подрядчика",null,null,"Главный специалист",null,"Федотов Е.А."]
[null,null,null,null,null,null,"должность",null,"Ф.И.О."]

{"sheet":"activityDirections","index":1,"n_rows":122,"n_cols":15,"rows_kept":122,"cut":false,"hidden":true,"merged":[]}
["activity_direction","factor",null,null,null,null,null,null,null,"sheet_name","button_name",null,null,null,true]
["Трубопроводное строительство",0.10639999999999999,null,null,null,null,null,null,null,"Исходные данные","checkSheet"]
["Объекты энергетики",8.09E-2,null,null,null,null,null,null,null,"Исходные данные","unloadMaterial"]
["Площадочное строительство и объекты инфраструктуры",5.8299999999999998E-2,null,null,null,null,null,null,null,"Исходные данные","loadMaterial"]
["Обустройство кустов скважин",6.13E-2,null,null,null,null,null,null,null,"Исходные данные","addRow_new"]
["Объекты подготовительных работ, транспортного строительства и кустовых площадок",8.3500000000000005E-2,null,null,null,null,null,null,null,"Исходные данные","removeRow_new"]
["Мосты",8.5099999999999995E-2,null,null,null,null,null,null,null,"Исходные данные","updateTemplates"]
["Объекты КИП",5.8299999999999998E-2,null,null,null,null,null,null,null,"Исходные данные","calculationImport"]
[null,null,null,null,null,null,null,null,null,"НМЦ - ВЛ 6 на куст 3129.1","Button 1"]
[null,null,null,null,null,null,null,null,null,"НМЦ - ВЛ 6 на куст 3129.1","Button 2"]
[null,null,null,null,null,null,null,null,null,"НМЦ - ВЛ 6 на куст 3129.1","Button 3"]
["price_type",null,null,null,null,null,null,null,null,"НМЦ - ВЛ 6 на куст 3129.1","Button 4"]
["Твердая цена",null,null,null,null,null,null,null,null,"НМЦ - ВЛ 6 на куст 3129.1","Button 5"]
["Приблизительная цена",null,null,null,null,null,null,null,null,"НМЦ - ВЛ 6 на куст 3129.1","Button 6"]
["Максимальная / предельная цена",null,null,null,null,null,null,null,null,"НМЦ - ВЛ 6 на куст 3129.1","Button 7"]
[null,null,null,null,null,null,null,null,null,"НМЦ - ВЛ 6 на куст 3129.1","Button 8"]
["additional feature",null,null,null,null,null,null,null,null,"НМЦ - ВЛ 6 на куст 3129.1","Button 9"]
["-",null,null,null,null,null,null,null,null,"НМЦ - ВЛ 6 на куст 3129.1","Button 10"]
["Мосты",null,null,null,null,null,null,null,null,"НМЦ - ВЛ 6 на куст 3129.1","Button 11"]
[null,null,null,null,null,null,null,null,null,"НМЦ - ВЛ 6 на куст 3129.1","Button 12"]
[null,null,null,null,null,null,null,null,null,"НМЦ - ВЛ 6 на куст 3129.2","Button 1"]
[null,null,null,null,null,null,null,null,null,"НМЦ - ВЛ 6 на куст 3129.2","Button 2"]
[null,null,null,null,null,null,null,null,null,"НМЦ - ВЛ 6 на куст 3129.2","Button 3"]
["purchase_method",null,null,null,null,null,null,null,null,"НМЦ - ВЛ 6 на куст 3129.2","Button 4"]
["Конкурентная закупка",null,null,null,null,null,null,null,null,"НМЦ - ВЛ 6 на куст 3129.2","Button 5"]
["Неконкурентная закупка",null,null,null,null,null,null,null,null,"НМЦ - ВЛ 6 на куст 3129.2","Button 6"]
["Мелкая закупка",null,null,null,null,null,null,null,null,"НМЦ - ВЛ 6 на куст 3129.2","Button 7"]
[null,null,null,null,null,null,null,null,null,"НМЦ - ВЛ 6 на куст 3129.2","Button 8"]
["price_method",null,null,null,null,null,null,null,null,"НМЦ - ВЛ 6 на куст 3129.2","Button 9"]
["Базисно-индексный метод",null,null,null,null,null,null,null,null,"НМЦ - ВЛ 6 на куст 3129.2","Button 10"]
[null,null,null,null,null,null,null,null,null,"НМЦ - ВЛ 6 на куст 3129.2","Button 11"]
["road_class",null,null,null,null,null,null,null,null,"НМЦ - ВЛ 6 на куст 3129.2","Button 12"]
["Не предусмотрено",null,null,null,null,null,null,null,null,"Ежеднев. возка и перевозка вахт","checkSheet"]
["1 класс",null,null,null,null,null,null,null,null,"Перебазировка","Ins"]
["2 класс",null,null,null,null,null,null,null,null,"Перебазировка","Del"]
["3 класс",null,null,null,null,null,null,null,null,"Перебазировка","InsMany"]
[null,null,null,null,null,null,null,null,null,"Перебазировка","checkSheet"]
["unit"]
["км"]
["м"]
["м2"]
["м3"]
["1000 м3"]
["т"]
["шт"]
["скважина"]
["система"]
["га"]
["пог.м"]
[]
[]
[]
[]
[]
[]
["dev"]
["ОАО «ТомскНИПИнефть»"]
["ООО «РН-УфаНИПИнефть»"]
["ООО «РН-СахалинНИПИморнефть»"]
["ООО «СамараНИПИнефть»"]
["ПАО «Гипротюменнефтегаз»"]
["ООО ИК \"Сибинтек\""]
[]
[]
["work"]
["Капитальное строительство"]
["Капитальный ремонт"]
[]
["users"]
["TAUshakova","Ушакова Татьяна Андреевнва"]
["SMDavydov","Давыдов Сергей Михайлович"]
["AGSivak","Сивак Александр Григорьевич"]
["FedotovEA","Федотов Евгений Александрович"]
["ShinkarenkoRR","Шинкаренко Райфа Рашитовна"]
["RRMarganova","Марганова Рузиля Рашитовна"]
["MordvinovaKS","Мордвинова Кристина Сергеевна"]
["KuznecovaNB","Кузнецова Наталья Борисовна"]
["gridunovaes","Гридунова Евгения Сергеевна"]
["Куртханова Анна Артемовна","Куртханова Анна Артемовна"]
["ChervyakovaOV","Червякова Ольга Владимировна"]
["MustafinaGR2","Мустафина Гузель Равиловна"]
["SAOsipova-ung","Осипова Светлана Анатольевна"]
["ESVolkova2-ung","Волкова Екатерина Сергеевна"]
["EAShvytkina","Швыткина Эльвира Альфавиевна"]
["OvsannicovaIA","Овсянникова Ирина Анатольевна"]
["VagizovaEE","Вагизова Елена Евгеньевна"]
["VodovatovaAV","Водоватова Анна Валерьевна"]
["MazharIA","Мажар Ирина Анатольевна"]
["PraporovaOA","Прапорова Ольга Александровна"]
["PervuhinaNV","Первухина Наталия Владимировна"]
["AVBerestova","Берестова Алина Владимировна"]
["PahotinaEA","Пахотина Елена Анатольевна"]
["GolodnikovSV","Голодников Сергей Васильевич"]
["ShmelevaIL","Шмелева Ирина Леонтьевна"]
["IAEvchenko","Евченко Иван Александрович"]
["SaitovaMA","Саитова Мария Александровна"]
["GoncharovaNV","Гончарова Наталия Владимировна"]
["ZyryanovaSA","Зырянова Светлана Анатольевна"]
["NasedkinaTN","Наседкина Татьяна Николаевна"]
["shumovain","Шумова Ирина Николаевна"]
["SuprunTE","Супрун Татьяна Евгеньевна"]
["KalashnikovaEA","Калашникова Елена Александровна"]
["TimofeevaAI","Тимофеева Александра Игоревна"]
["VoronkovaYA","Воронкова Яна Александровна"]
["KvacheginaSA","Квачегина Светлана Александровна"]
["DASorokina-ung","Сорокина Дарья Алексеевна"]
["DodonovaAA"]
["MakarenkovSD"]
["KoadaDY"]
["nigmatullinrr-ung"]
["RRGaynullin"]
["AVKochurov-ung"]
["RybalkoEA"]
["HaziahmetovaEA"]
["NovikovaMI"]
["ManakovaOV"]
["ESReshetnikova"]
["Demakova_GN "]
["GazievaEI"]
["ParhomenkoNG"]
["DVZaloga"]
["EYVorokutova2"]

{"sheet":"Сопроводительная записка","index":2,"n_rows":89,"n_cols":9,"rows_kept":89,"cut":false,"hidden":true,"merged":[[15,1,15,2],[17,1,17,2],[23,1,24,1],[23,2,24,2],[19,1,19,7],[23,3,24,3],[2,1,2,7],[3,1,3,7],[9,1,9,2],[11,1,11,2],[13,1,13,2],[34,1,34,7],[42,1,42,7],[58,1,58,7],[66,1,66,7],[23,4,24,4],[23,7,24,7]]}
[25,null,null,null,null,null,null,null,25]
["95B8996E-A92E-40F2-8A9B-251AB1F004D4"]
["B329BF19-5028-446C-89F7-75C77ACB972A","Сопроводительная записка"]
[null,"Обоснование начальной (максимальной) цены договора (цены лота) "]
[]
[null,{"$f":"\"Предмет договора:  \"&'Исходные данные'!workType","v":"Предмет договора:  Капитальное строительство"},null,null,null,null,null,{"$f":"'Исходные данные'!lotNumber","v":"2000350438 (680-20-КС(ТЗ))"}]
[]
["5D57A968-2E2D-47A8-B7F4-6C635AF194C3",{"$f":"'Исходные данные'!$D$25 & \" \" & 'Исходные данные'!$E$25 & \" (\" & 'Исходные данные'!$F$25 & \")\"","v":"ВЛ 6 кВ на куст 3129.1 (габ.110 кВ) Приразломное м/р. Правдинский (КС00091309)"}]
["AEEAB128-A9D6-4DE1-ACE9-6CD791FCF82A",{"$f":"'Исходные данные'!$D$26 & \" \" & 'Исходные данные'!$E$26 & \" (\" & 'Исходные данные'!$F$26 & \")\"","v":"ВЛ 6 кВ на куст 3129.2 (габ. 6 кВ) Приразломное м/р. Правдинский (КС00091313)"}]
[null,"(данные из РПЗ)"]
[null,{"$f":"\"Вид договорной цены:  \"&'Исходные данные'!typecontractprice","v":"Вид договорной цены:  Твердая цена"}]
[null,"(данные из РПЗ)"]
[null,{"$f":" \"Уникальный номер в РПЗ общества:  \"&'Исходные данные'!lotNumber","v":"Уникальный номер в РПЗ общества:  2000350438 (680-20-КС(ТЗ))"}]
[null,"(данные из РПЗ)"]
[null,{"$f":"\"Способ проведения закупки: \"&'Исходные данные'!methodprocurement","v":"Способ проведения закупки: Конкурентная закупка"}]
[null," (данные из РПЗ)"]
[null,{"$f":" \"Метод определения  НМЦ: \" &'Исходные данные'!methoddeterminingNMS","v":"Метод определения  НМЦ: Базисно-индексный метод"}]
[null,"(рыночная стоимость, договора-аналоги, тарифный метод, ресурсный метод, базисно-индексный метод)"]
[null,{"$f":" \"Источники ценовой информации: \"&'Исходные данные'!sourcespriceinformation","v":"Источники ценовой информации: ПСД"}]
[null,"(цены закупок предыдущих периодов; оферентные цены; цены технико-коммерческих предложений; прейскурантные цены; справочные цены публикуемые в информационно-справочных изданиях, специализированных журналах, статистических и аналитических обзорах; сметы (расчеты) составленные на основе утвержденных методических и нормативных документов, публичные оферты только для мелкой закупки)"]
[null,{"$f":"\"Срок строительства : \"& 'Исходные данные'!termconstruction","v":"Срок строительства : 10.03.2021 - 30.06.2021"}]
[null,{"$f":"\"Дата расчета НМЦ: \"& TEXT('Исходные данные'!calculationdate,\"ДД.ММ.ГГГГ\")","v":"Дата расчета НМЦ: 20.08.2020"}]
[]
[null,"№ п/п","Наименование услуги","Единица измерения","Количество","Номер договора","Предлагаемая НМЦ  (Лота)  руб.  с  НДС","% снижения (увеличения)"]
[null,null,null,null,null,"Цена 201_ года, руб. с НДС","период, указанный в РПЗ "]
[null,1,2,3,4,5,6,7]
[null,"C10","C11","C12","C13","C14","C15","C16"]
["5D57A968-2E2D-47A8-B7F4-6C635AF194C3",{"$f":"'Исходные данные'!$B$25","v":1},{"$f":"'Исходные данные'!$D$25 & \" \" & 'Исходные данные'!$E$25 & \" (\" & 'Исходные данные'!$F$25 & \")\"","v":"ВЛ 6 кВ на куст 3129.1 (габ.110 кВ) Приразломное м/р. Правдинский (КС00091309)"},{"$f":"'Исходные данные'!$I$25","v":"м"},{"$f":"'Исходные данные'!$J$25","v":1980}]
[null,null,{"$f":"\"Стоимость с НДС \"&'Ценовые нормативы'!Nds*100&\"%, всего\"","v":"Стоимость с НДС 20%, всего"},"руб.",null,null,{"$f":"G31+G33+G34","v":{"$error":"#DIV/0!"}}]
[null,null,"в том числе:"]
[null,null,"Услуги и ТМЦ Подрядчика ","руб.",null,null,{"$f":"(СМР!F15+СМР!F18)","v":{"$error":"#DIV/0!"}}]
[null,null,"в том числе ТМЦ Подрядчика",null,null,null,{"$f":"СМР!F18","v":0}]
[null,null,"Справочно, ТМЦ обеспечения Заказчика","руб.",null,null,{"$f":"СМР!F21","v":23513197.629999995}]
[null,null,"Прочие затраты Заказчика (непредвиденные затраты), лимит","руб.",null,null,{"$f":"СМР!F24","v":{"$error":"#DIV/0!"}}]
[]
["AEEAB128-A9D6-4DE1-ACE9-6CD791FCF82A",{"$f":"'Исходные данные'!$B$26","v":2},{"$f":"'Исходные данные'!$D$26 & \" \" & 'Исходные данные'!$E$26 & \" (\" & 'Исходные данные'!$F$26 & \")\"","v":"ВЛ 6 кВ на куст 3129.2 (габ. 6 кВ) Приразломное м/р. Правдинский (КС00091313)"},{"$f":"'Исходные данные'!$I$26","v":"м"},{"$f":"'Исходные данные'!$J$26","v":520}]
[null,null,{"$f":"\"Стоимость с НДС \"&'Ценовые нормативы'!Nds*100&\"%, всего\"","v":"Стоимость с НДС 20%, всего"},"руб.",null,null,{"$f":"G39+G41+G42","v":{"$error":"#DIV/0!"}}]
[null,null,"в том числе:"]
[null,null,"Услуги и ТМЦ Подрядчика ","руб.",null,null,{"$f":"(СМР!F16+СМР!F19)","v":{"$error":"#DIV/0!"}}]
[null,null,"в том числе ТМЦ Подрядчика",null,null,null,{"$f":"СМР!F19","v":0}]
[null,null,"Справочно, ТМЦ обеспечения Заказчика","руб.",null,null,{"$f":"СМР!F22","v":3383124.790000001}]
[null,null,"Прочие затраты Заказчика (непредвиденные затраты), лимит","руб.",null,null,{"$f":"СМР!F25","v":{"$error":"#DIV/0!"}}]
[]
[null,null,{"$f":"\"Итого по лоту \" &'Исходные данные'!lotNumber","v":"Итого по лоту 2000350438 (680-20-КС(ТЗ))"},null,null,null,{"$f":"$G$31+$G$39","v":{"$error":"#DIV/0!"}}]
[]
[]
[]
[]
[null,"№ п/п","Наименование статьи и № стр. в формате Экономика и КВ 9.1","Единица измерения",{"$f":"'Исходные данные'!D15","v":2021},{"$f":"E49+1","v":2022},{"$f":"F49+1","v":2023},"Итого"]
[null,1,2,3,4,5,6,7]
[null,"C10","C11","C12","C13","C14","C15","C16"]
["5D57A968-2E2D-47A8-B7F4-6C635AF194C3",{"$f":"'Исходные данные'!$B$25","v":1},{"$f":"'Исходные данные'!$D$25 & \" \" & 'Исходные данные'!$E$25 & \" (\" & 'Исходные данные'!$F$25 & \")\"","v":"ВЛ 6 кВ на куст 3129.1 (габ.110 кВ) Приразломное м/р. Правдинский (КС00091309)"}]
[null,null,{"$f":"\"Стоимость с НДС \"&'Ценовые нормативы'!Nds*100&\"%, всего\"","v":"Стоимость с НДС 20%, всего"},"руб.",{"$f":"SUM(E55:E58)","v":0},{"$f":"SUM(F55:F58)","v":0},{"$f":"SUM(G55:G58)","v":0},{"$f":"SUM(E53:G53)","v":0}]
[null,null,"в том числе:"]
[null,null,"Услуги и ТМЦ Подрядчика ","руб.",null,null,null,{"$f":"SUM(E55:G55)","v":0}]
[null,null,"в том числе ТМЦ Подрядчика"]
[null,null,"Справочно, ТМЦ обеспечения Заказчика","руб.",null,null,null,{"$f":"SUM(E57:G57)","v":0}]
[null,null,"Прочие затраты Заказчика (непредвиденные затраты), лимит","руб.",null,null,null,{"$f":"SUM(E58:G58)","v":0}]
[]
["AEEAB128-A9D6-4DE1-ACE9-6CD791FCF82A",{"$f":"'Исходные данные'!$B$26","v":2},{"$f":"'Исходные данные'!$D$26 & \" \" & 'Исходные данные'!$E$26 & \" (\" & 'Исходные данные'!$F$26 & \")\"","v":"ВЛ 6 кВ на куст 3129.2 (габ. 6 кВ) Приразломное м/р. Правдинский (КС00091313)"}]
[null,null,{"$f":"\"Стоимость с НДС \"&'Ценовые нормативы'!Nds*100&\"%, всего\"","v":"Стоимость с НДС 20%, всего"},"руб.",{"$f":"SUM(E63:E66)","v":0},{"$f":"SUM(F63:F66)","v":0},{"$f":"SUM(G63:G66)","v":0},{"$f":"SUM(E61:G61)","v":0}]
[null,null,"в том числе:"]
[null,null,"Услуги и ТМЦ Подрядчика ","руб.",null,null,null,{"$f":"SUM(E63:G63)","v":0}]
[null,null,"в том числе ТМЦ Подрядчика"]
[null,null,"Справочно, ТМЦ обеспечения Заказчика","руб.",null,null,null,{"$f":"SUM(E65:G65)","v":0}]
[null,null,"Прочие затраты Заказчика (непредвиденные затраты), лимит","руб.",null,null,null,{"$f":"SUM(E66:G66)","v":0}]
[]
[null,null,{"$f":"\"Итого по лоту \" &'Исходные данные'!lotNumber","v":"Итого по лоту 2000350438 (680-20-КС(ТЗ))"},null,null,null,null,{"$f":"$H$55+$H$63","v":0}]
[]
[null,null,"Откл. РПЗ от БП (-) снижение, (+) превышение"]
[]
[]
[null,null,"И.о. руководителя Службы стандартизации бизнеса, ценообразования  и договорной работы",null,null,null,"О.Г. Верхоланцева"]
[]
[null,null,"Начальник Управления ценовой политики",null,null,null,"А.Ю. Топал"]
[]
[null,null,"Начальник ОЦП по КВ ",null,null,null,"И.А. Овсянникова"]
[]
[null,null,"Начальник ОЦЭ",null,null,null,"Н.Б. Кузнецова"]
[]
[null,null,"Начальник  ПЭО УТПСиУКВ",null,null,null,"Г.Н. Гордеева"]
[]
[null,null,"Начальник"]
[]
[null,null,{"$f":"'Исходные данные'!executor & \" - \" & 'Исходные данные'!executorPosition","v":"Ответственный исполнитель - Вед. Специалист ОСОЭ УКС"},null,null,null,{"$f":"'Исходные данные'!executorFio","v":"Волостников Н.А."}]
[]
[null,null,{"$f":"'Исходные данные'!executor2 & \" - \" & 'Исходные данные'!executor2Position","v":"Ответственный исполнитель ОЦП по КВ - Ведущий специалист"},null,null,null,{"$f":"'Исходные данные'!executor2Fio","v":"Берестова А.В."}]
[]
[null,null,{"$f":"'Исходные данные'!executor3 & \" - \" & 'Исходные данные'!executor3Position","v":"Ответственный исполнитель ОЦП по КВ ТМЦ Подрядчика - Главный специалист"},null,null,null,{"$f":"'Исходные данные'!executor3Fio","v":"Федотов Е.А."}]

{"sheet":"noteTemplate","index":3,"n_rows":15,"n_cols":7,"rows_kept":15,"cut":false,"hidden":true,"merged":[[6,0,6,6],[15,0,15,6]]}
[null,{"$f":"\"Стоимость с НДС \"&'Ценовые нормативы'!Nds*100&\"%, всего\"","v":"Стоимость с НДС 20%, всего"},"руб.",null,null,{"$f":"F3+F5+F6","v":0}]
[null,"в том числе:"]
[null,"Услуги и ТМЦ Подрядчика ","руб."]
[null,"в том числе ТМЦ Подрядчика"]
[null,"Справочно, ТМЦ обеспечения Заказчика","руб."]
[null,"Прочие затраты Заказчика (непредвиденные затраты), лимит","руб."]
[]
[]
[]
[null,{"$f":"\"Стоимость с НДС \"&'Ценовые нормативы'!Nds*100&\"%, всего\"","v":"Стоимость с НДС 20%, всего"},"руб.",{"$f":"SUM(D12:D15)","v":0},{"$f":"SUM(E12:E15)","v":0},{"$f":"SUM(F12:F15)","v":0},{"$f":"SUM(D10:F10)","v":0}]
[null,"в том числе:"]
[null,"Услуги и ТМЦ Подрядчика ","руб.",null,null,null,{"$f":"SUM(D12:F12)","v":0}]
[null,"в том числе ТМЦ Подрядчика"]
[null,"Справочно, ТМЦ обеспечения Заказчика","руб.",null,null,null,{"$f":"SUM(D14:F14)","v":0}]
[null,"Прочие затраты Заказчика (непредвиденные затраты), лимит","руб.",null,null,null,{"$f":"SUM(D15:F15)","v":0}]

{"sheet":"Ведомость объема работ","index":4,"n_rows":33,"n_cols":12,"rows_kept":33,"cut":false,"hidden":true,"merged":[[3,2,3,10],[31,5,31,6],[32,5,32,6],[4,2,4,10],[12,2,12,10],[23,2,23,10]]}
[]
[]
["95B8996E-A92E-40F2-8A9B-251AB1F004D4"]
[null,null,"Ведомость объема работ",null,null,null,null,null,null,null,null,true]
[null,null,{"$f":"'Исходные данные'!D19","v":"Строительство объектов энергетики Правдинского региона"}]
[null,null,null,"Шифр проекта",{"$f":"'Исходные данные'!projectcode","v":"1980615/0880Д"},null,null,null,null,null,{"$f":"'Исходные данные'!lotNumber","v":"2000350438 (680-20-КС(ТЗ))"}]
[null,null,null,"Разработчик проекта",{"$f":"'Исходные данные'!projectdeveloper","v":"ООО «РН-УфаНИПИнефть»"}]
[null,null,null,"Заказчик","ООО \"РН-Юганскнефтегаз\""]
[]
[null,null,"№ п/п","Обоснование (№ЛС)","Виды работ и затрат","Единица измерения ","Количество","Объем выполняемых работ по ЛС","Примечание","Название файла локальной сметы","Раздел"]
[null,null,1,2,3,4,5,6,7,8,9]
["object_code","outlay_code","C10","C11","C12","C13","C14","C15","C17","C18","C16"]
["5D57A968-2E2D-47A8-B7F4-6C635AF194C3",null,{"$f":"'Исходные данные'!$D$25 & \" \" & 'Исходные данные'!$E$25 & \" (\" & 'Исходные данные'!$F$25 & \")\"","v":"ВЛ 6 кВ на куст 3129.1 (габ.110 кВ) Приразломное м/р. Правдинский (КС00091309)"}]
[null,100,1,"01-04-01-01","Рубка леса , ВЛ 6 кВ на куст 3129.1 (объект 017.170.001-01)","комплекс работ",1,"учесть следующий объем работ:",null,"1980615_0880Д-Р-017.170.001-СМ-01-ЛС_01-04-01-01_(17110)","Глава 1 Лес"]
[null,103,2,"04-01-01","Двухцепная ВЛ 6 кВ, ВЛ 6 кВ на куст 3129.1 (объект 017.170.001-01)","комплекс работ",1,"позиции с п.14 по п.17; с п.23 по п.112; с п.118 по п.122 по смете в полном объеме.\nПо остальным позициям учесть следующий объем работ:",null,"1980615_0880Д-Р-017.170.001-СМ-01-ЛС_04-01-01_(13400)","Глава 2-7"]
[null,109,3,"04-01-02","Кабельная линия 6 кВ, ВЛ 6 кВ на куст 3129.1 (объект 017.170.001-01)","комплекс работ",1,"Учесть весь объем предусмотренный сметой",null,"1980615_0880Д-Р-017.170.001-СМ-01-ЛС_04-01-02_(13410)","Глава 2-7"]
[null,110,4,"08-04-01-01","Устройство зимника, ВЛ 6 кВ на куст 3129.1 (объект 017.170.001-01)","комплекс работ",1,"Учесть весь объем предусмотренный сметой",null,"1980615_0880Д-Р-017.170.001-СМ-01-ЛСР_08-04-01-01_(17050)","Глава 9"]
[null,111,5,"08-04-01-02","Устройство лежневой дороги , ВЛ 6 кВ на куст 3129.1 (объект 017.170.001-01)","комплекс работ",1,"Учесть весь объем предусмотренный сметой",null,"1980615_0880Д-Р-017.170.001-СМ-01-ЛСР_08-04-01-02_(17060)","Глава 8 ВЗиС"]
[null,112,6,"08-04-01-03 К=5","Монтажная площадка из лежневого настила под анкерные опоры . На 1 шт. Всего 5 шт., ВЛ 6 кВ на куст 3129.1 (объект 017.170.001-01)","комплекс работ",1,"Учесть весь объем предусмотренный сметой",null,"1980615_0880Д-Р-017.170.001-СМ-01-ЛСР_08-04-01-03_(17070)","Глава 8 ВЗиС"]
[null,113,7,"08-04-01-04 К=7","Монтажная площадка из лежневого настила под промежуточные опоры . На 1 шт. Всего 7 шт., ВЛ 6 кВ на куст 3129.1 (объект 017.170.001-01","комплекс работ",1,"Учесть весь объем предусмотренный сметой",null,"1980615_0880Д-Р-017.170.001-СМ-01-ЛСР_08-04-01-04_(17080)","Глава 8 ВЗиС"]
[null,115,8,"09-04-01-01","Первоначальная очистка от снега территории строительства , ВЛ 6 кВ на куст 3029.1 (объект 017.170.001-01)","комплекс работ",1,"учесть следующий объем работ:",null,"1980615_0880Д-Р-017.170.001-СМ-01-ЛСР_09-04-01-01_(17100)","Глава 9"]
[null,118,9,"09-04-01-02","Пусконаладочные работы ВЛ 6 кВ, ВЛ 6 кВ на куст 3129.1 (объект 017.170.001-01)","комплекс работ",1,"Учесть весь объем предусмотренный сметой",null,"1980615_0880Д-Р-017.170.001-СМ-01-ЛСР_09-04-01-02_(17030)","ПНР"]
[null,119,10,"09-04-01-03","Пусконаладочные работы КЛ 6 кВ, ВЛ 6 кВ на куст 3129.1 (объект 017.170.001-01)","комплекс работ",1,"Учесть весь объем предусмотренный сметой",null,"1980615_0880Д-Р-017.170.001-СМ-01-ЛСР_09-04-01-03_(17040)","ПНР"]
["AEEAB128-A9D6-4DE1-ACE9-6CD791FCF82A",null,{"$f":"'Исходные данные'!$D$26 & \" \" & 'Исходные данные'!$E$26 & \" (\" & 'Исходные данные'!$F$26 & \")\"","v":"ВЛ 6 кВ на куст 3129.2 (габ. 6 кВ) Приразломное м/р. Правдинский (КС00091313)"}]
[null,100,1,"01-04-02-01","Рубка леса , ВЛ 6 кВ на куст 3129.2 (объект 017.170.001-02)","комплекс работ",1,"Учесть весь объем предусмотренный сметой",null,"1980615_0880Д-Р-017.170.001-СМ-02-ЛС_01-04-02-01_(16080)","Глава 1 Лес"]
[null,101,2,"04-02-01","Одноцепная ВЛ 6 кВ , ВЛ 6 кВ на куст 3129.2 (объект 017.170.001-02)","комплекс работ",1,"позиции с п.1 по п.8; с п.17 по п.20; с п.26 по п.79 по смете в полном объеме.\n\nУчесть следующий объем работ:",null,"1980615_0880Д-Р-017.170.001-СМ-02-ЛС_04-02-01_(13420)","Глава 2-7"]
[null,114,3,"08-04-02-01","Устройство лежневой дороги , ВЛ 6 кВ на куст 3129.2 (объект 017.170.001-02)","комплекс работ",1,"Учесть весь объем предусмотренный сметой",null,"1980615_0880Д-Р-017.170.001-СМ-02-ЛСР_08-04-02-01_(16060)","Глава 8 ВЗиС"]
[null,116,4,"09-04-02-01","Пусконаладочные работы, ВЛ 6 кВ на куст 3129.2 (объект 017.170.001-02)","комплекс работ",1,"Учесть весь объем предусмотренный сметой",null,"1980615_0880Д-Р-017.170.001-СМ-02-ЛСР_09-04-02-01_(16050)","ПНР"]
[]
[]
[]
[null,null,null,null,{"$f":"'Исходные данные'!executor&\"_______________________\"","v":"Ответственный исполнитель_______________________"},{"$f":"'Исходные данные'!executorPosition","v":"Вед. Специалист ОСОЭ УКС"},null,{"$f":"'Исходные данные'!executorFio","v":"Волостников Н.А."}]
[null,null,null,null,null,"должность",null,"Ф.И.О."]

{"sheet":"workSections","index":5,"n_rows":11,"n_cols":1,"rows_kept":11,"cut":false,"hidden":true,"merged":[]}
["section"]
["Глава 1 Лес"]
["Глава 1 Прочие"]
["Глава 2-7"]
["Глава 8 ВЗиС"]
["Глава 8 Зимник"]
["Глава 9"]
["ПНР"]
["Испытание свай"]
["Врезка"]
["Разница в стоимости электроэнергии"]

{"sheet":"Требования к расчету","index":6,"n_rows":66,"n_cols":13,"rows_kept":66,"cut":false,"hidden":true,"merged":[[23,1,26,1],[3,1,3,12],[65,8,65,9],[64,8,64,9],[21,2,21,12],[22,2,22,12],[23,2,23,12],[27,2,27,12],[11,2,11,12],[12,2,12,12],[28,2,28,12],[29,2,29,12],[13,2,13,12],[14,2,14,12],[15,2,15,12],[44,3,44,10],[53,2,55,2],[55,3,55,10],[17,2,17,12],[18,2,18,12],[19,2,19,12],[33,2,33,12],[41,3,41,10],[20,2,20,12],[49,3,49,10],[50,3,50,10],[45,3,45,10],[46,3,46,10],[47,3,47,10],[48,3,48,10],[4,1,4,12],[33,1,56,1],[64,10,64,12],[34,3,34,10],[16,2,16,12],[43,3,43,10],[60,2,60,12],[31,2,31,12],[30,2,30,12],[32,2,32,12],[59,2,59,12],[58,2,58,12],[57,2,57,12],[51,3,51,10],[52,3,52,10],[53,3,53,10],[65,10,65,12],[35,2,37,2],[38,2,40,2],[41,2,43,2],[44,2,46,2],[47,2,49,2],[35,3,35,10],[36,3,36,10],[37,3,37,10],[38,3,38,10],[39,3,39,10],[40,3,40,10],[42,3,42,10],[56,2,56,12],[54,3,54,10],[50,2,52,2]]}
[]
[]
["95B8996E-A92E-40F2-8A9B-251AB1F004D4"]
["44F0DDE4-406B-4C0C-A16C-0277CC39E372","Требования к расчету стоимости лота"]
[null,"Строительство объектов энергетики Правдинского региона"]
[null,null,null,null,null,null,null,null,null,null,null,null,"2000350438 (680-20-КС(ТЗ))"]
["5D57A968-2E2D-47A8-B7F4-6C635AF194C3","ВЛ 6 кВ на куст 3129.1 (габ.110 кВ) Приразломное м/р. Правдинский (КС00091309)"]
["AEEAB128-A9D6-4DE1-ACE9-6CD791FCF82A","ВЛ 6 кВ на куст 3129.2 (габ. 6 кВ) Приразломное м/р. Правдинский (КС00091313)"]
[]
[null,"Срок строительства : 10.03.2021 - 30.06.2021"]
[]
[null,"№ п/п","Наименование"]
[null,1,2]
[null,1,"Стоимость работ и услуг формируется на основании ТЗ  и базисной стоимости услуг пересчетом в текущие цены с помощью индексов."]
[null,2,"Стоимость СМР и ПНР в текущем уровне цен определяется с накладными расходами и сметной прибылью согласно сметной документации, разработанной проектантом, с применением письма Минрегионразвития от 27.11.2012г. №2536-ИП/12/ГС."]
[null,3,"Лимитированные затраты по объектам, входящим в проект «Обустройство … месторождения», определяются в соответствии со ССР / объектными сметами; \nпо объектам, входящим в проект  «ВЛ..»,  затраты на ВЗиС определяются согласно нормам 2.5-2.7 Таблицы 1 Приложения 1 ГСН 81-05-01-2001 г. и затраты на зимнее удорожание по ГСН 81-05-02-2007». Нормы, определенные по ГСН не должны превышать нормы, предусмотренные сметной документацией.     "]
[null,4,"В расчет НМЦ необходимо включать часть резерва средств на непредвиденные работы и затраты по норме, не превышающей предусмотренную в Сводном сметном расчете (рекомендуется 50% от норматива, учтенного Сводным сметным расчетом), т.е в затраты Подрядчика включать 1,5 %."]
[null,5,"Для начисления лимитированных и прочих затрат используется сметная стоимость МТР пересчетом в текущий уровень цен с помощью индекса на МТР, соответствующего Приложению 1 настоящего Распоряжения. Из полученной базы для начисления лимитированных необходимо исключить 50% стоимости ТМЦ поставки Заказчика со среднесложившимся индексом (формула указана в Приложении ... \"Расчет стоимости\") "]
[null,6,"Прочие затраты подрядчика – перевозка рабочих, затраты, связанные с осуществлением работ вахтовым методом, определяются на основе расчета, но не выше лимита, предусмотренного СД на данный объект."]
[null,7,"Затраты на перебазировку строительной техники определяются на основании расчета, но не выше лимита, предусмотренного СД на данный объект, приведенному к текущему уровню цен. При этом необходимо исключить затраты, учтённые в единичных расценках на ЭММ на перебазировку техники согласно «Указаниям по применению территориальных единичных расценок на строительные и специальные строительные работы»."]
[null,8,"Затраты на страхование строительных рисков для объектов строительства относятся к затратам Заказчика."]
[null,9,"На стоимость материалов и оборудования, приобретаемых Подрядчиком, начисляются заготовительно-складские расходы в следующем размере:\n- материалы  (за исключением металлоконструкций) – 2%;\n- металлоконструкции - 0,75%;\n- оборудование - 1,2%;"]
[null,10,"Если предусмотрены работы по бурению лидерных скважин под забивку свай на основании ТЕР-2001 ХМАО сборника 4, то стоимость работ по погружению свай в лидерные скважины с последующей забивкой их в плотные грунты, рассчитывать с использованием коэффициента 0,71 к расценкам сборника 5 на погружение свай (без учета стоимости свай)."]
[null,11,"Стоимость работ при укладке и демонтаже временного лежневого проезда (настила) рассчитывать от базисной стоимости услуг пересчетом в текущие цены с помощью индексов, соответствующих Приложению 1 настоящего Распоряжения. Стоимость в базисном уровне цен не должна превышать стоимость по СД."]
[null,null,"Наименование","Единица измерения","Количество","Стоимость за единицу","Основная зарплата","Эксплуатация машин","Зарплата машинистов","Материалы","Трудозатраты рабочих","НР","СП"]
[null,null,"Устройство лежневого настила ","1м2",1,161.29,8.48,6.25,1.1299999999999999,134.16,0.32,8.07,4.33]
[null,null,"Демонтаж лежневого настила ","1м2",1,21.694000000000003,6.7840000000000007,5,0.90399999999999991,null,0.25600000000000001,6.45,3.46]
[null,12,"Стоимость работ по монтажу блок-боксов определять по расценкам ГЭСН 2001-25 с привязкой по нормативам к базе 2001г."]
[null,13,"Для объекта, обеспеченного 100% РД расчет затрат на транспортировку навалочных грузов (песок, щебень) выполнять на расстояние, указанное в СД.  \nДля объекта, необеспеченного 100% РД, расчет затрат на транспортировку навалочных грузов (песок, щебень) выполнять на расстояние указанные в ТЗ, транспортной схеме."]
[null,14,"Оплата затрат по водоотливу, предусмотренному СД, производится по фактическому использованию техники,  но не выше лимита предусмотренного ЛС."]
[null,15,"Стоимость работ на ремонт и содержание дорог формируется на основании ПСД с включением затрат в главу 9 ССРСС."]
[null,16,"Формирование затрат по наклонно-направленному бурению (ННБ) определяется в соответствии со сметной документацией, т.е. с применением расценок СНБ (редакция 2014)."]
[null,17,"Транспортные затраты на привозные материалы определяются расчетным путем на основании %, предусмотренного СД, и не выше сметного лимита (дополнительные затраты на доставку материалов до объекта). "]
[null,18,"На этапе формирования ТЗ и стоимости МТР нормы расхода шнека при шнековом бурении ГЭСН (ТЕР)-2001-4 «Скважины» определять согласно указанным нормам расхода материалов на свайные работы (письмо К от 28.08.2018 исх.№ ЭЛ-12998). \nКоличество не должно превышать объем, предусмотренный СД."]
[null,null,"Наименование норматива","Наименование работ",null,null,null,null,null,null,null,"Единицы измерения","Рекомендованный расход"]
[null,null,"ГЭСН 04-01-037-хх","Шнековое бурение скважин станками типа ЛБУ-50 глубиной бурения до 10 м в грунтах группы: 1-4",null,null,null,null,null,null,null,"100 м"]
[null,null,null,"Шнек ",null,null,null,null,null,null,null,"шт.",0.17]
[null,null,null,"Долота",null,null,null,null,null,null,null,"шт.",0.31]
[null,null,"ГЭСН 04-01-038-хх","Шнековое бурение скважин станками типа ЛБУ-50 глубиной бурения до 20 м в грунтах группы: 1-4",null,null,null,null,null,null,null,"100 м"]
[null,null,null,"Шнек ",null,null,null,null,null,null,null,"шт.",0.34]
[null,null,null,"Долота",null,null,null,null,null,null,null,"шт.",0.31]
[null,null,"ГЭСН 04-01-039-хх","Шнековое бурение скважин станками типа ЛБУ-50 глубиной бурения до 30 м в грунтах группы: 1-4",null,null,null,null,null,null,null,"100 м"]
[null,null,null,"Шнек ",null,null,null,null,null,null,null,"шт.",0.43]
[null,null,null,"Долота",null,null,null,null,null,null,null,"шт.",0.31]
[null,null,"ГЭСН 04-01-040-хх","Шнековое бурение скважин станками типа СО-2 глубиной бурения до 6 м в грунтах группы: 1-3",null,null,null,null,null,null,null,"100 м"]
[null,null,null,"Шнек ",null,null,null,null,null,null,null,"шт.",0.09]
[null,null,null,"Долота",null,null,null,null,null,null,null,"шт.",0.31]
[null,null,"ГЭСН 04-01-041-хх","Шнековое бурение скважин станками типа СО-2 глубиной бурения до 12 м в грунтах группы: 1-3",null,null,null,null,null,null,null,"100 м"]
[null,null,null,"Шнек ",null,null,null,null,null,null,null,"шт.",0.17]
[null,null,null,"Долота",null,null,null,null,null,null,null,"шт.",0.31]
[null,null,"ГЭСН 04-01-042-хх","Шнековое бурение скважин станками типа СО-2 глубиной бурения до 18 м в грунтах группы: 1-3",null,null,null,null,null,null,null,"100 м"]
[null,null,null,"Шнек ",null,null,null,null,null,null,null,"шт.",0.26]
[null,null,null,"Долота",null,null,null,null,null,null,null,"шт.",0.31]
[null,null,"ГЭСН 04-01-043-хх","Шнековое бурение скважин станками типа СО-2 глубиной бурения до 24 м в грунтах группы: 1-3",null,null,null,null,null,null,null,"100 м"]
[null,null,null,"Шнек ",null,null,null,null,null,null,null,"шт.",0.34]
[null,null,null,"Долота",null,null,null,null,null,null,null,"шт.",0.31]
[null,null,"Приемка и списание (количества) шнеков буровых (ШБ) осуществляется на основе подтверждающего документа утвержденного руководителем Заказчика – (акт на количество отработанных шнеков буровых по факту, согласно тех. паспорта с указанием марки и диаметра шнеков с визой представителя Подрядчика, представителя контролирующих органов строительного контроля, уполномоченного представителя  Заказчика.)"]
[null,19,"Затраты на компенсацию разницы в стоимости электроэнергии, получаемой от дизельной электростанции для включения в расчет стоимости строительства должны быть обоснованы ПОС и учтены в утвержденном Сводном сметном расчете. При отсутствии данных затрат в ПСД, в расчете затраты не учитывать. "]
[null,20,"В тех случаях, когда проектно-сметной документацией предусмотрены работы по выдержке трубопроводов под давлением при гидравлическом испытании на прочность и герметичность и при пневматическом испытании на герметичность  следует применять коэффициент 0.3 к расценкам сборника №25 \"Магистральные трубопроводы\"."]
[null,21,"Формирование затрат на транспортировку грузов и погрузо-разгрузочных работ в НМЦ производится с использованием базисно-индексного метода от базисного уровня цен 2001 года с применением индекса."]
[null,22,"Возможны дополнения в зависимости от ПСД, вида строительства и т.д."]
[]
[]
[]
[null,null,null,null,null,null,"Ответственный исполнитель ОЦП по КВ",null,"Ведущий специалист","Ведущий специалист","Берестова А.В.","Берестова А.В.","Берестова А.В."]
[null,null,null,null,null,null,null,null,"должность",null,"Ф.И.О."]

{"sheet":"Ведомость ОР","index":7,"n_rows":83,"n_cols":9,"rows_kept":83,"cut":false,"hidden":false,"merged":[[3,2,3,7],[4,2,4,7],[12,2,12,7],[61,2,61,7]]}
[]
[]
["95B8996E-A92E-40F2-8A9B-251AB1F004D4"]
[null,null,"Ведомость объема работ",null,null,null,null,null,true]
[null,null,"Строительство объектов энергетики Правдинского региона"]
[null,null,null,"Шифр проекта","1980615/0880Д"]
[null,null,null,"Разработчик проекта","ООО «РН-УфаНИПИнефть»"]
[null,null,null,"Заказчик","ООО \"РН-Юганскнефтегаз\""]
[]
[null,null,"№ п/п","Обоснование (№ЛС)","Виды работ и затрат","Единица измерения ","Количество","Объем выполняемых работ по ЛС"]
[null,null,1,2,3,4,5,6]
["object_code","outlay_code","C10","C11","C12","C13","C14","C15"]
["5D57A968-2E2D-47A8-B7F4-6C635AF194C3",null,"ВЛ 6 кВ на куст 3129.1 (габ.110 кВ) Приразломное м/р. Правдинский (КС00091309)"]
[null,100,1,"01-04-01-01","Рубка леса , ВЛ 6 кВ на куст 3129.1 (объект 017.170.001-01)","комплекс работ",1,"Учесть следующий объем работ:\nп. 9 Расчистка площадей от кустарника и мелколесья машинами глубинной подготовки полей на тракторе мощностью 103 кВт (140 л.с.) - 11,697 га\nп. 10 Планировка площадей бульдозерами мощностью 79 кВт (108 л.с.) - 116,97 1000 м2 спланированной  поверхности за 1 проход  бульдозера\n"]
[null,null,null,null,"Расчистка площадей от кустарника и мелколесья машинами глубинной подготовки полей на тракторе мощностью: 103 кВт (140 л.с.)","1 га",11.696999999999999,"искл п. 9"]
[null,null,null,null,"Дробление древесно-кустарниковой растительности в щепу","10 м3",15.8,"вкл п.9"]
[null,103,2,"04-01-01","Двухцепная ВЛ 6 кВ, ВЛ 6 кВ на куст 3129.1 (объект 017.170.001-01)","комплекс работ",1,"позиции с п.14 по п.17; с п.23 по п.112; с п.118 по п.122 по смете в полном объеме.\nПо остальным позициям учесть следующий объем работ:\nп. 113 Забивка вертикальных заземлителей механизированная на глубину до 5 м - 8 заземлителей\nп. 114 Горячекатаная арматурная сталь гладкая класса А-I, диаметром 12 мм - 0,04 тн\nп. 115 Сталь круглая углеродистая обыкновенного качества марки ВСт3пс5-1 диаметром 18 мм . Круг В18 ГОСТ 2590-2006 - 0,1918 тн\nп. 116 Развозка конструкций и материалов опор ВЛ 0,38-10 кВ по трассе одностоечных железобетонных опор - 3 опоры\nп. 117 Развозка конструкци й и материалов опор ВЛ 0,38-10 кВ по трассе приставок железобетонных - 7 опор"]
[null,null,null,null,"Перевозка грузов I класса автомобилями бортовыми грузоподъемностью до 5 т на расстояние до 1 км . Перевозка по трассе линейной арматуры,изоляторов, стальных ростверков,оголовков","т",34.158999999999999,"искл п. 121"]
[null,null,null,null,"Перевозка грузов I класса автомобилями бортовыми грузоподъемностью до 5 т на расстояние до 1 км . Перевозка по трассе линейной арматуры,изоляторов, стальных ростверков,оголовков","т",34.158999999999999,"вкл п. 121"]
[null,null,null,null,"Шнек буровой диаметром 300мм ШБ 300х114/1400/200-Т90, цена 10860:3,61.1,13","шт.",0.13524,"искл п. 34"]
[null,null,null,null,"Шнек буровой диаметром 300мм ШБ 300х114/1400/200-Т90, цена 10860:3,61.1,13","шт.",5.2920000000000002E-2,"вкл п. 34"]
[null,null,null,null,"Перевозка грузов I класса автомобилями бортовыми грузоподъемностью до 15 т на расстояние до 1 км. Развозка по трассе опор","т",72.588999999999999,"искл п.122"]
[null,null,null,null,"Перевозка грузов I класса автомобилями бортовыми грузоподъемностью до 15 т на расстояние до 1 км. Развозка по трассе опор","т",72.588999999999999,"вкл п.122"]
[null,109,3,"04-01-02","Кабельная линия 6 кВ, ВЛ 6 кВ на куст 3129.1 (объект 017.170.001-01)","км",7.0000000000000007E-2,"Учесть весь объем предусмотренный сметой"]
[null,110,4,"08-04-01-01","Устройство зимника, ВЛ 6 кВ на куст 3129.1 (объект 017.170.001-01)","км",0.159,"Учесть весь объем предусмотренный сметой"]
[null,null,null,null,"Уборка снега со строительных площадок и дорог бульдозерами с перемещениями на расстояние до 20 м. Надвигание снега на дорожную полосу толщиной 50 см","1000м3",0.71550000000000002,"искл п. 2"]
[null,null,null,null,"Уборка снега со строительных площадок и дорог бульдозерами с перемещениями на расстояние до 20 м. Устройство валков из снега","1000м3",0.1352295,"искл п.5"]
[null,111,5,"08-04-01-02","Устройство лежневой дороги , ВЛ 6 кВ на куст 3129.1 (объект 017.170.001-01)","км",1.6879999999999999,"Учесть весь объем предусмотренный сметой"]
[null,null,null,null,"Погрузка, разгрузка при автомобильных перевозках леса круглого","т",238.17,"искл п. 1,2"]
[null,null,null,null,"Погрузка, разгрузка при автомобильных перевозках леса круглого","т",238.17,"вкл п. 1,2"]
[null,null,null,null,"Перевозка грузов I класса автомобилями бортовыми грузоподъемностью до 15 т на расстояние до 1 км. Перевозка деловой древесины","т",238.17,"искл п. 3"]
[null,null,null,null,"Перевозка грузов I класса автомобилями бортовыми грузоподъемностью до 15 т на расстояние до 1 км. Перевозка деловой древесины","т",238.17,"вкл п. 3"]
[null,null,null,null,"Устройство лежневого настила","м2",7596,"искл п. 4"]
[null,null,null,null,"Устройство лежневого настила","м2",7596,"вкл п. 4"]
[null,null,null,null,"Перевозка грузов автомобилями-самосвалами грузоподъемностью 10 т работающих из карьера на расстояние от 9,5 до 10,0 км","т",3638.9088000000002,"искл п. 7"]
[null,null,null,null,"Перевозка грузов автомобилями-самосвалами грузоподъемностью 10 т работающих из карьера за каждые 0,5 км св.10 км. Подвозка грунта на 33 км","т",3638.9088000000002,"искл п.8"]
[null,null,null,null,"Перевозка грузов автомобилями-самосвалами грузоподъемностью 10 т работающих вне карьера на расстояние до 32 км 1 класс груза","т",3638.9088000000002,"вкл. п. 7"]
[null,null,null,null,"Демонтаж лежневого настила","м2",7596,"искл п. 12"]
[null,null,null,null,"Демонтаж лежневого настила","м2",7596,"вкл п. 12"]
[null,112,6,"08-04-01-03 К=5","Монтажная площадка из лежневого настила под анкерные опоры . На 1 шт. Всего 5 шт., ВЛ 6 кВ на куст 3129.1 (объект 017.170.001-01)","шт",5,"Учесть весь объем предусмотренный сметой"]
[null,null,null,null,"Устройство лежневого настила","м2",4500,"искл п. 1"]
[null,null,null,null,"Устройство лежневого настила","м2",4500,"вкл п. 1"]
[null,null,null,null,"Перевозка грузов автомобилями-самосвалами грузоподъемностью 10 т работающих из карьера на расстояние от 9,5 до 10,0 км","т",{"$f":"5*436.32","v":2181.6},"искл п. 3"]
[null,null,null,null,"Перевозка грузов автомобилями-самосвалами грузоподъемностью 10 т работающих из карьера за каждые 0,5 км св.10 км. Подвозка грунта на 33 км","т",{"$f":"5*436.32","v":2181.6},"искл п.4"]
[null,null,null,null,"Перевозка грузов автомобилями-самосвалами грузоподъемностью 10 т работающих вне карьера на расстояние до 32 км 1 класс груза","т",{"$f":"5*436.32","v":2181.6},"вкл. п. 3"]
[null,null,null,null,"Демонтаж лежневого настила","м2",4500,"искл п. 8"]
[null,null,null,null,"Демонтаж лежневого настила","м2",4500,"вкл п. 8"]
[null,113,7,"08-04-01-04 К=7","Монтажная площадка из лежневого настила под промежуточные опоры . На 1 шт. Всего 7 шт., ВЛ 6 кВ на куст 3129.1 (объект 017.170.001-01","шт",7,"Учесть весь объем предусмотренный сметой"]
[null,null,null,null,"Устройство лежневого настила","м2",2625,"искл п.1"]
[null,null,null,null,"Устройство лежневого настила","м2",2625,"вкл п.1"]
[null,null,null,null,"Перевозка грузов автомобилями-самосвалами грузоподъемностью 10 т работающих из карьера на расстояние от 9,5 до 10,0 км","т",{"$f":"7*181.8","v":1272.6000000000001},"искл п.3"]
[null,null,null,null,"Перевозка грузов автомобилями-самосвалами грузоподъемностью 10 т работающих из карьера за каждые 0,5 км св.10 км. Подвозка грунта на 33 км","т",{"$f":"7*181.8","v":1272.6000000000001},"искл п.4"]
[null,null,null,null,"Перевозка грузов автомобилями-самосвалами грузоподъемностью 10 т работающих вне карьера на расстояние до 32 км 1 класс груза","т",{"$f":"7*181.8","v":1272.6000000000001},"вкл.п.3"]
[null,null,null,null,"Демонтаж лежневого настила","м2",2625,"искл п.8"]
[null,null,null,null,"Демонтаж лежневого настила","м2",2625,"искл п.8"]
[null,115,8,"09-04-01-01","Первоначальная очистка от снега территории строительства , ВЛ 6 кВ на куст 3029.1 (объект 017.170.001-01)","комплекс работ",1,"учесть следующий объем работ: \nп.1 Уборка снега со строительных площадок и дорог бульдозерами с перемещениями на расстояние до 20 м - 26,06196 -  1000 м3 снега\nп.2 Уборка снега со строительных площадок и дорог бульдозерами с перемещениями на расстояние на каждые последующие 10 м - 26,06196 -  1000 м3 снега"]
[null,null,null,"08-04-01-01","Устройство зимника, ВЛ 6 кВ на куст 3129.1 (объект 017.170.001-01)"]
[null,null,null,null,"Уборка снега со строительных площадок и дорог бульдозерами с перемещениями на расстояние до 20 м. Надвигание снега на дорожную полосу толщиной 50 см","1000м3",0.71550000000000002,"вкл п. 2"]
[null,null,null,null,"Уборка снега со строительных площадок и дорог бульдозерами с перемещениями на расстояние до 20 м. Устройство валков из снега","1000м3",0.1352295,"вкл п.5"]
[null,118,9,"09-04-01-02","Пусконаладочные работы ВЛ 6 кВ, ВЛ 6 кВ на куст 3129.1 (объект 017.170.001-01)","комплекс работ",1,"Учесть весь объем предусмотренный сметой"]
[null,119,10,"09-04-01-03","Пусконаладочные работы КЛ 6 кВ, ВЛ 6 кВ на куст 3129.1 (объект 017.170.001-01)","комплекс работ",1,"Учесть весь объем предусмотренный сметой"]
["AEEAB128-A9D6-4DE1-ACE9-6CD791FCF82A",null,"ВЛ 6 кВ на куст 3129.2 (габ. 6 кВ) Приразломное м/р. Правдинский (КС00091313)"]
[null,100,1,"01-04-02-01","Рубка леса , ВЛ 6 кВ на куст 3129.2 (объект 017.170.001-02)","га",3.88,"Учесть весь объем предусмотренный сметой"]
[null,null,null,null,"Расчистка площадей от кустарника и мелколесья машинами глубинной подготовки полей на тракторе мощностью 103 кВт (140 л.с.)","1 га",3.875,"искл п. 6"]
[null,null,null,null,"Дробление древесно-кустарниковой растительности в щепу","10 м3",5.24,"вкл п.6"]
[null,101,2,"04-02-01","Одноцепная ВЛ 6 кВ , ВЛ 6 кВ на куст 3129.2 (объект 017.170.001-02)","комплекс работ",1,"позиции с п.1 по п.8; с п.17 по п.20; с п.26 по п.79 по смете в полном объеме.\nУчесть следующий объем работ: п.9 Бурение ям глубиной до 2 м бурильно-крановыми машинами на тракторе, группа грунтов 1 - 0,12 -100 ям; п.10 Погружение дизель-молотом копровой установки на базе трактора стальных свай шпунтового ряда массой 1 м до 70 кг, длиной свыше 8 м в грунты группы 1- 9,126 тн;п.11 Погружение дизель-молотом копровой установки на базе трактора стальных свай шпунтового ряда массой 1 м свыше 70 кг, длиной свыше 8 м в грунты группы 1-5,4756 тн;п.13 Профили фасонные горячекатаные для шпунтовых свай Л4 и Л5 массой от 50 до 100 кг, сталь марки 16ХГ--14,747616 тн;п.14 Резка обсадных труб наружным диаметром до 168 мм. Наращивание свай- 12 рез;п.15 Сварка обсадных труб наружным диаметром до 168 мм. Наращивание свай-12 сварок.\nп.16 Трубы бесшовные обсадные из стали группы Д и Б с короткой треугольной резьбой наружный диаметр 168 мм толщина стенки 8.9 мм. Сваи- 420,16 м\nп. 21 Очистка поверхности щетками. Очистка свай-219,4 м2\nп.22 Обеспыливание поверхности. Обеспыливание свай- 219,4 м2\nп.23 Окраска металлических огрунтованных поверхностей эмалью КО-88. Окраска труб эмалью КО-198 в 2 слоя-0,18 - 100м2\nп.24 Огрунтовка металлических поверхностей за один раз грунтовкой ХС-059 - 2,01 -100м2\nп.25 Окраска металлических огрунтованных поверхностей эмалью ХС-759. Окраска в 4 слоя- 2,01-100 м2"]
[null,null,null,null,"Перевозка грузов I класса автомобилями бортовыми грузоподъемностью до 5 т на расстояние до 1 км . Перевозка по трассе стальных ростверков","т",0.53400000000000003,"искл п. 77"]
[null,null,null,null,"Перевозка грузов I класса автомобилями бортовыми грузоподъемностью до 5 т на расстояние до 1 км . Перевозка по трассе стальных ростверков","т",0.53400000000000003,"вкл п. 77"]
[null,null,null,null,"Перевозка грузов I класса автомобилями бортовыми грузоподъемностью до 15 т на расстояние до 1 км. Развозка по трассе портала","т",2.6619999999999999,"искл п.78"]
[null,null,null,null,"Перевозка грузов I класса автомобилями бортовыми грузоподъемностью до 15 т на расстояние до 1 км. Развозка по трассе портала","т",2.6619999999999999,"вкл п.78"]
[null,114,3,"08-04-02-01","Устройство лежневой дороги , ВЛ 6 кВ на куст 3129.2 (объект 017.170.001-02)","км",0.52,"Учесть весь объем предусмотренный сметой"]
[null,null,null,null,"Погрузка, разгрузка при автомобильных перевозках леса круглого","т",131.97999999999999,"искл п. 1,2"]
[null,null,null,null,"Погрузка, разгрузка при автомобильных перевозках леса круглого","т",131.97999999999999,"вкл п. 1,2"]
[null,null,null,null,"Перевозка грузов I класса автомобилями бортовыми грузоподъемностью до 15 т на расстояние до 1 км. Перевозка деловой древесины","т",131.97999999999999,"искл п. 3"]
[null,null,null,null,"Перевозка грузов I класса автомобилями бортовыми грузоподъемностью до 15 т на расстояние до 1 км. Перевозка деловой древесины","т",131.97999999999999,"вкл п. 3"]
[null,null,null,null,"Устройство лежневого настила","м2",4160,"искл п.4"]
[null,null,null,null,"Устройство лежневого настила","м2",4160,"вкл п.4"]
[null,null,null,null,"Перевозка грузов автомобилями-самосвалами грузоподъемностью 10 т работающих из карьера на расстояние от 9,5 до 10,0 км","т",2016.768,"искл п.7"]
[null,null,null,null,"Перевозка грузов автомобилями-самосвалами грузоподъемностью 10 т работающих из карьера за каждые 0,5 км св.10 км. Подвозка грунта на 33 км","т",2016.768,"искл п.8"]
[null,null,null,null,"Перевозка грузов автомобилями-самосвалами грузоподъемностью 10 т работающих вне карьера на расстояние до 32 км 1 класс груза","т",2016.768,"вкл.п.7"]
[null,null,null,null,"Демонтаж лежневого настила","м2",4160,"искл п.12"]
[null,null,null,null,"Демонтаж лежневого настила","м2",4160,"вкл п.12"]
[null,116,4,"09-04-02-01","Пусконаладочные работы, ВЛ 6 кВ на куст 3129.2 (объект 017.170.001-02)","комплекс работ",1,"Учесть весь объем предусмотренный сметой"]

{"sheet":"Ценовые нормативы","index":8,"n_rows":52,"n_cols":7,"rows_kept":52,"cut":false,"hidden":true,"merged":[[3,1,3,5],[34,5,37,5],[4,1,4,5],[15,1,15,5],[23,5,24,5],[31,5,33,5],[21,5,22,5],[27,5,28,5],[25,5,26,5],[5,1,5,5]]}
[]
[]
["95B8996E-A92E-40F2-8A9B-251AB1F004D4"]
["AAC140DA-C642-4FD7-9815-44843558A1D2","Ценовые нормативы,"]
[null,"применяемые при расчете Договорной цены"]
[null,{"$f":"'Исходные данные'!D19","v":"Строительство объектов энергетики Правдинского региона"}]
[null,null,null,null,null,{"$f":"'Исходные данные'!lotNumber","v":"2000350438 (680-20-КС(ТЗ))"}]
[null,"Шифр проекта",{"$f":"'Исходные данные'!projectcode","v":"1980615/0880Д"},null,null,"5.50"]
[null,"Разработчик проекта",{"$f":"'Исходные данные'!projectdeveloper","v":"ООО «РН-УфаНИПИнефть»"}]
[null,"Заказчик","ООО \"РН-Юганскнефтегаз\""]
[]
[]
[null,"№ п/п","Наименование","Единица измерения","Ценовые нормативы ","Примечания"]
[null,1,2,3,4,5]
[null,"C10","C11","C14","C12","C13"]
[null," Для расчета стоимости строительства объекта базисно-индексным методом от ТСНБ-2001 по ХМАО-Югре:"]
[null,1,"Индекс оплаты труда основных рабочих и механизаторов СМР",null,14.29]
[null,2,"Индекс эксплуатации машин и механизмов СМР",null,7.86]
[null,3,"Индекс на перевозку грузов",null,6.41]
[null,4,"Индекс МТР (для расчета лимитированных затрат) СМР",null,4.16]
[null,5,"Индекс к оплате труда пусконаладочного персонала",null,14.29]
[null,6,"Уровень накладных расходов для СМР",null,"согласно МДС 81-34.2004","В районах Крайнего Севера и местностях, приравненных к ним "]
[null,7,"Уровень сметной прибыли для СМР",null,"согласно МДС 81-25.2001"]
[null,8,"Коэффициент к накладным расходам для СМР (кроме работ по строительству мостов)",null,1,"На основании письма Федерального агентства по строительству и Жилищно-коммунальному хозяйству от 27 ноября 2012 г. N 2536-ИП/12/ГС"]
[null,9,"Коэффициент к сметной прибыли для СМР (кроме работ по строительству мостов)",null,1]
[null,10,"Коэффициент к накладным расходам для СМР (для работ по строительству мостов)",null,1,"На основании письма Федерального агентства по строительству и Жилищно-коммунальному хозяйству от 27 ноября 2012 г. N 2536-ИП/12/ГС"]
[null,11,"Коэффициент к сметной прибыли для СМР (для работ по строительству мостов)",null,1]
[null,12,"Уровень накладных расходов для ПНР",null,"согласно МДС 81-34.2004","В районах Крайнего Севера и местностях, приравненных к ним "]
[null,13,"Уровень сметной прибыли для ПНР",null,"согласно МДС 81-25.2001"]
[null,14,"Средневзвешенный курс евро 2013г.","руб.",42.19]
[null,15,"НДС","%",0.2]
[null,16,"Затраты на мобилизацию строительной техники","руб.",{"$f":"Перебазировка!$R$38+Перебазировка!$R$63","v":0},"Недопустимо превышение  указанной стоимости прочих затрат "]
[null,17,"Затраты, связанные с осуществлением работ вахтовым методом","руб.",{"$f":"'Ежеднев. возка и перевозка вахт'!$N$40+'Ежеднев. возка и перевозка вахт'!$N$45","v":0}]
[null,18,"Затраты по перевозке автомобильным транспортом работников","руб.",{"$f":"'Ежеднев. возка и перевозка вахт'!$N$38+'Ежеднев. возка и перевозка вахт'!$N$43","v":0}]
[null,19,"Норма затрат на временные здания и сооружения","%",2.5000000000000001E-2,"Лимитированные затраты учесть не выше процента, указанного в  сборнике сметных норм дополнительных затрат при производстве строительно-монтажных работ в зимнее время и сборнике сметных норм затрат на строительство временных зданий и сооружений (ГСН 81-05-02-2007, ГСН 81-05-01-2001)."]
[null,20,"Норма затрат на удорожание работ в зимний период","%",3.6999999999999998E-2]
[null,21,"Норма затрат на снегоборьбу","%",4.0000000000000001E-3]
[null,22,"Норма затрат на борьбу с гнусом","%",1E-3]
[null,23,"Норматив непредвиденных расходов","%",1.4999999999999999E-2,"Не более 50% от норматива, предусмотренного сметной документацией, разработанной проектантом, согласно МДС 81-35.2004"]
[null,24,"Индекс на динамическое испытание свай",null,2.5950000000000002]
[null,25,"Индекс МТР для определения текущей стоимости вспомогательных материалов поставки Подрядчика",null,4.16,"Текущая стоимость по вспомогательным материалам (малозначимых) раздел II определяется от сметной цены(столбец 18) с применением индекса на МТР. Указывается в приложении \"ВПМ по лоту\""]
[null,26,"Индекс МТР для определения текущей стоимости оборудования поставки Подрядчика",null,5.01]
[null,27,"Индекс на погрузочно-разгрузочные работы",null,9.5299999999999994,null,"Новый ценовой норматив"]
[null,28,"Устройство лежневого настила","руб/м2",179.14,null,{"$f":"$B$44&\" - \"&$C$44&\" - \"&$E$44","v":"28 - Устройство лежневого настила - 179,14"}]
[null,29,"Демонтаж лежневого настила","руб/м2",143.31,null,{"$f":"$B$45&\" - \"&$C$45&\" - \"&$E$45","v":"29 - Демонтаж лежневого настила - 143,31"}]
[null,30,"Норма затрат на временные здания и сооружения (ВЛ 6 кВ на куст 3129.1 в габ.110кВ)","%",3.3000000000000002E-2,null,{"$f":"$B$46&\" - \"&$C$46&\" - \"&$E$46","v":"30 - Норма затрат на временные здания и сооружения (ВЛ 6 кВ на куст 3129.1 в габ.110кВ) - 0,033"}]
[null,31,"Норма затрат на удорожание работ в зимний период (ВЛ 6 кВ на куст 3129.1 в габ.110кВ)","%",1.7000000000000001E-2,null,{"$f":"$B$47&\" - \"&$C$47&\" - \"&$E$47","v":"31 - Норма затрат на удорожание работ в зимний период (ВЛ 6 кВ на куст 3129.1 в габ.110кВ) - 0,017"}]
[]
[]
[]
[null,null,{"$f":"'Исходные данные'!executor2&\"_________________________\"","v":"Ответственный исполнитель ОЦП по КВ_________________________"},null,{"$f":"'Исходные данные'!executor2Position","v":"Ведущий специалист"},{"$f":"'Исходные данные'!executor2Fio","v":"Берестова А.В."}]
[null,null,null,null,"должность","Ф.И.О."]

{"sheet":"СМР","index":9,"n_rows":42,"n_cols":6,"rows_kept":42,"cut":false,"hidden":false,"merged":[[40,2,40,5],[41,2,41,5],[3,2,3,5],[4,2,4,5],[36,2,36,5],[37,2,37,5],[38,2,38,5],[39,2,39,5]]}
[]
[]
[]
[null,"95B8996E-A92E-40F2-8A9B-251AB1F004D4","Расчет стоимости СМР"]
[null,null,{"$f":"'Исходные данные'!D19","v":"Строительство объектов энергетики Правдинского региона"}]
[]
[null,null,null,"Шифр проекта","1980615/0880Д","2000350438 (680-20-КС(ТЗ))"]
[null,null,null,"Разработчик проекта","ООО «РН-УфаНИПИнефть»","Срок строительства:"]
[null,null,null,"Заказчик","ООО \"РН-Юганскнефтегаз\"","10.10.2021 - 28.02.2022"]
[]
[null,null,"№ п/п","Наименование работ и затрат","Ед.изм.","Стоимость в текущих ценах"]
[null,null,1,2,3,4]
[null,null,"C10","C11","C12","C14"]
["smr1",null,1,"Услуги подрядчика","руб.",{"$f":"SUM(F15:F16)","v":{"$error":"#DIV/0!"}}]
[null,"5D57A968-2E2D-47A8-B7F4-6C635AF194C3","1.1","ВЛ 6 кВ на куст 3129.1 (габ.110 кВ) Приразломное м/р. Правдинский (КС00091309)","руб.",{"$f":"(НМЦ!AE181+НМЦ!AJ181+НМЦ!AF181+НМЦ!AI181+НМЦ!AG181+НМЦ!AH181)*(1+НМЦ!K165)*1000","v":{"$error":"#DIV/0!"}}]
[null,"AEEAB128-A9D6-4DE1-ACE9-6CD791FCF82A","1.2","ВЛ 6 кВ на куст 3129.2 (габ. 6 кВ) Приразломное м/р. Правдинский (КС00091313)","руб.",{"$f":"(НМЦ!AE182+НМЦ!AJ182+НМЦ!AF182+НМЦ!AI182+НМЦ!AG182+НМЦ!AH182)*(1+НМЦ!K165)*1000","v":{"$error":"#DIV/0!"}}]
["smr2",null,2,"Стоимость ТМЦ поставки подрядчика, в.т.ч.","руб.",{"$f":"SUM(F18:F19)","v":0}]
[null,"5D57A968-2E2D-47A8-B7F4-6C635AF194C3","2.1","ВЛ 6 кВ на куст 3129.1 (габ.110 кВ) Приразломное м/р. Правдинский (КС00091309)","руб.",{"$f":"(НМЦ!Q181+НМЦ!R181)*(1+НМЦ!K165)*1000","v":0}]
[null,"AEEAB128-A9D6-4DE1-ACE9-6CD791FCF82A","2.2","ВЛ 6 кВ на куст 3129.2 (габ. 6 кВ) Приразломное м/р. Правдинский (КС00091313)","руб.",{"$f":"(НМЦ!Q182+НМЦ!R182)*(1+НМЦ!K165)*1000","v":0}]
["smr3",null,3,"Стоимость ТМЦ обеспечения Заказчика","руб.",{"$f":"SUM(F21:F22)","v":26896322.419999994}]
[null,"5D57A968-2E2D-47A8-B7F4-6C635AF194C3","3.1","ВЛ 6 кВ на куст 3129.1 (габ.110 кВ) Приразломное м/р. Правдинский (КС00091309)","руб.",{"$f":"(НМЦ!O181+НМЦ!P181)*(1+НМЦ!K165)*1000","v":23513197.629999995}]
[null,"AEEAB128-A9D6-4DE1-ACE9-6CD791FCF82A","3.2","ВЛ 6 кВ на куст 3129.2 (габ. 6 кВ) Приразломное м/р. Правдинский (КС00091313)","руб.",{"$f":"(НМЦ!O182+НМЦ!P182)*(1+НМЦ!K165)*1000","v":3383124.790000001}]
["smr4",null,4,"Прочие затраты Заказчика","руб.",{"$f":"SUM(F24:F25)","v":{"$error":"#DIV/0!"}}]
[null,"5D57A968-2E2D-47A8-B7F4-6C635AF194C3","4.1","ВЛ 6 кВ на куст 3129.1 (габ.110 кВ) Приразломное м/р. Правдинский (КС00091309)","руб.",{"$f":"(НМЦ!AJ181)*(1+НМЦ!K165)*1000","v":{"$error":"#DIV/0!"}}]
[null,"AEEAB128-A9D6-4DE1-ACE9-6CD791FCF82A","4.2","ВЛ 6 кВ на куст 3129.2 (габ. 6 кВ) Приразломное м/р. Правдинский (КС00091313)","руб.",{"$f":"(НМЦ!AJ182)*(1+НМЦ!K165)*1000","v":{"$error":"#DIV/0!"}}]
["smr5",null,5,"Итого затраты Подрядчика, с учетом НДС ","руб.",{"$f":"SUM(F27:F28)","v":{"$error":"#DIV/0!"}}]
[null,"5D57A968-2E2D-47A8-B7F4-6C635AF194C3","5.1","ВЛ 6 кВ на куст 3129.1 (габ.110 кВ) Приразломное м/р. Правдинский (КС00091309)","руб.",{"$f":"F15+F18","v":{"$error":"#DIV/0!"}}]
[null,"AEEAB128-A9D6-4DE1-ACE9-6CD791FCF82A","5.2","ВЛ 6 кВ на куст 3129.2 (габ. 6 кВ) Приразломное м/р. Правдинский (КС00091313)","руб.",{"$f":"F16+F19","v":{"$error":"#DIV/0!"}}]
["smr6",null,6,"Итого затраты Заказчика, с учетом НДС ","руб.",{"$f":"SUM(F30:F31)","v":{"$error":"#DIV/0!"}}]
[null,"5D57A968-2E2D-47A8-B7F4-6C635AF194C3","6.1","ВЛ 6 кВ на куст 3129.1 (габ.110 кВ) Приразломное м/р. Правдинский (КС00091309)","руб.",{"$f":"F21+F24","v":{"$error":"#DIV/0!"}}]
[null,"AEEAB128-A9D6-4DE1-ACE9-6CD791FCF82A","6.2","ВЛ 6 кВ на куст 3129.2 (габ. 6 кВ) Приразломное м/р. Правдинский (КС00091313)","руб.",{"$f":"F22+F25","v":{"$error":"#DIV/0!"}}]
["smr7",null,7,"ВСЕГО, с учетом НДС","руб.",{"$f":"SUM(F33:F34)","v":{"$error":"#DIV/0!"}}]
[null,"5D57A968-2E2D-47A8-B7F4-6C635AF194C3","7.1","ВЛ 6 кВ на куст 3129.1 (габ.110 кВ) Приразломное м/р. Правдинский (КС00091309)","руб.",{"$f":"F27+F30","v":{"$error":"#DIV/0!"}}]
[null,"AEEAB128-A9D6-4DE1-ACE9-6CD791FCF82A","7.2","ВЛ 6 кВ на куст 3129.2 (габ. 6 кВ) Приразломное м/р. Правдинский (КС00091313)","руб.",{"$f":"F28+F31","v":{"$error":"#DIV/0!"}}]
[]
[null,null,null,"Примечание:"]
[null,null,"1.Размер затрат на временные здания и сооружения следует определять расчетом с документальным подтверждением в пределах лимита, установленного договором строительного подряда."]
[null,null,"2. При расчетах за выполненные работы затраты, связанные с удорожанием работ в зимний период, следует принимать не более норматива, предусмотренного договором строительного подряда. При производстве работ только в летний период начисление норм дополнительных затрат на производство в зимнее время запрещается."]
[null,null,"3. Затраты, связанные с перевозкой рабочих автотранспортом, следует определять расчетом с документальным подтверждением в пределах лимита, установленного договором строительного подряда."]
[null,null,"4. Компенсацию непредвиденных расходов следует осуществлять в пределах лимита, установленного договором строительного подряда, на основании подтверждающих документов."]
[null,null,"5. Затраты по разделу \"Прочие работы и затраты\" подлежат возмещению по факту произведенных затрат, с обязательным предоставлением подтверждающих документов."]
[null,null,"6. При завершении работ по наладке в соответствии с проектной документацией и нормативами производится паспортизация оборудования, за которую отвечает организация, проводящая его пусконаладку."]

{"sheet":"НМЦ","index":10,"n_rows":234,"n_cols":38,"rows_kept":234,"cut":false,"hidden":false,"merged":[[202,7,202,10],[184,8,184,26],[185,7,185,11],[187,7,188,7],[187,8,188,8],[187,9,188,9],[187,10,187,13],[187,14,187,17],[187,18,187,21],[187,22,187,25],[187,26,188,26],[198,8,198,26],[199,7,199,11],[176,19,177,19],[176,20,177,20],[176,22,177,22],[176,23,177,23],[176,24,177,24],[176,25,177,25],[175,35,177,35],[175,36,177,36],[175,37,177,37],[176,9,177,9],[176,10,177,10],[176,11,177,11],[176,12,177,12],[176,13,177,13],[176,14,176,15],[176,16,176,17],[175,22,175,29],[175,30,177,30],[175,31,177,31],[175,32,177,32],[175,33,177,33],[175,34,177,34],[176,26,177,26],[176,27,177,27],[176,28,177,28],[176,29,177,29],[11,22,11,23],[172,7,172,11],[174,7,177,7],[174,8,177,8],[174,9,175,13],[174,14,175,17],[174,18,174,37],[175,18,177,18],[175,19,175,20],[175,21,177,21],[11,14,12,14],[11,15,12,15],[11,16,12,16],[11,17,12,17],[11,18,12,18],[11,20,11,21],[10,34,12,34],[9,19,9,34],[10,11,12,11],[10,12,10,18],[10,19,12,19],[10,20,10,23],[10,24,12,24],[10,25,12,25],[10,26,12,26],[10,27,12,27],[10,28,12,28],[10,29,12,29],[10,30,12,30],[10,31,12,31],[10,32,12,32],[10,33,12,33],[136,7,137,7],[4,7,4,11],[5,7,5,11],[9,6,12,6],[9,7,12,7],[9,8,12,8],[9,9,12,9],[9,10,12,10],[9,11,9,18],[11,12,12,12],[11,13,12,13]]}
[]
[]
[]
[]
["95B8996E-A92E-40F2-8A9B-251AB1F004D4",null,null,null,null,null,null,"Расчет стоимости строительства по лоту",null,null,null,null,null,"Шифр проекта","1980615/0880Д"]
[null,null,null,null,null,null,null,"Строительство объектов энергетики Правдинского региона",null,null,null,null,null,"Разработчик проекта","ООО «РН-УфаНИПИнефть»"]
[null,null,null,null,null,null,null,null,null,null,null,null,null,"Заказчик","ООО \"РН-Юганскнефтегаз\""]
[null,null,null,null,null,null,null,null,null,null,null,null,null,null,"2000350438 (680-20-КС(ТЗ))"]
[]
[null,null,null,null,null,null,"№","Обоснование (№ЛС)","Наименование работ и затрат","Единица измерения мощности (км, м3, шт и т.д.)","Количество","Базисный уровень цен 2001г. (ТЕР-ХМАО)",null,null,null,null,null,null,null,"Текущий уровень цен"]
[null,null,null,null,null,null,null,null,null,null,null,"Стоимость объекта всего, тыс. руб.","в том числе:",null,null,null,null,null,null,"Стоимость МТР всего, тыс. руб.","в том числе:",null,null,null,"Оплата труда  основных рабочих, тыс.руб.","Трудозатраты основных рабочих, чел-час","Затраты на эксплуатацию машин и механизмов,  тыс. руб.","Оплата труда механизаторов, тыс.руб.","Трудозатраты рабочих-механизаторов, чел-час","Накладные расходы, тыс. руб.","Сметная прибыль, тыс. руб.","Стоимость строительства объекта без учета затрат Заказчика, тыс. руб.","Общая стоимость строительства объекта (с учетом затрат Заказчика), тыс. руб.","Полная стоимость с учетом материалов и оборудования поставки Заказчика"," Полная стоимость с учетом материалов и оборудования поставки Заказчика с учетом прочих затрат и НДС"]
[null,null,null,null,null,null,null,null,null,null,null,null,"Стоимость оборудования всего, тыс. руб.","Стоимость материалов всего, тыс. руб.","Оплата труда основных рабочих, тыс. руб.","Стоимость ЭММ, тыс. руб.","в том числе оплата труда механизаторов, тыс. руб.","Накладные расходы, тыс. руб.","Сметная прибыль, тыс. руб.",null,"Поставка Заказчика",null,"Поставка Подрядчика"]
[null,null,null,null,null,null,null,null,null,null,null,null,null,null,null,null,null,null,null,null,"Стоимость оборудования, тыс. руб.","Стоимость материалов, тыс. руб.","Стоимость оборудования, тыс. руб.","Стоимость материалов, тыс. руб."]
[null,null,null,null,null,null,1,2,3,4,5,6,7,8,9,10,11,12,13,14,15,16,17,18,19,20,21,22,23,24,25,26,27,28,29]
[null,"object_code","outlay_code","exception_code","exception_type","exception_mark","C10","C11","C12","C13","C14","C15","C16","C17","C18","C19","C20","C21","C22","C23","C24","C25","C26","C27","C28","C29","C30","C31","C32","C33","C34","C35","C36","C37","C38"]
["Глава 1-7",null,null,null,null,null,null,null,"ГЛАВА 1-7. Подготовка территории и основные объекты строительства"]
["Глава 1-7Объект","5D57A968-2E2D-47A8-B7F4-6C635AF194C3",null,null,null,null,1,null,"ВЛ 6 кВ на куст 3129.1 (габ.110 кВ) Приразломное м/р. Правдинский (КС00091309)"]
[null,null,"5D57A968-2E2D-47A8-B7F4-6C635AF194C3100",null,null,null,null,"01-04-01-01","Рубка леса , ВЛ 6 кВ на куст 3129.1 (объект 017.170.001-01)","комплекс работ",1,{"$f":"M18+N18+O18+P18+R18+S18","v":145.49700000000001},0,0,0,127.542,13.712,11.721,6.234,null,null,null,null,null,{"$f":"(O18*$K$210)","v":0},null,{"$f":"(P18*$K$211)","v":0},{"$f":"(Q18*$K$210)","v":0},316,{"$f":"(R18*$K$210*$K$215)","v":0},{"$f":"(S18*$K$210*$K$216)","v":0},{"$f":"Y18+AA18+AD18+AE18","v":0}]
[null,null,null,null,null,null,null,"искл п. 9","Расчистка площадей от кустарника и мелколесья машинами глубинной подготовки полей на тракторе мощностью: 103 кВт (140 л.с.)","1 га",11.696999999999999,-137.28299999999999,null,null,null,-121.23,-12.444000000000001,-10.452999999999999,-5.6,null,null,null,null,null,0,null,{"$f":"(P19*$K$211)","v":0},0,-287,0,0,0]
[null,null,null,null,null,null,null,"вкл п.9","Дробление древесно-кустарниковой растительности в щепу","10 м3",15.8,7.0249999999999995,null,null,0.60899999999999999,4.3259999999999996,1.0109999999999999,1.361,0.72899999999999998,null,null,null,null,null,0,25,{"$f":"(P20*$K$211)","v":0},0,25,0,0,0]
[null,null,"5D57A968-2E2D-47A8-B7F4-6C635AF194C3103",null,null,null,null,"04-01-01","Двухцепная ВЛ 6 кВ, ВЛ 6 кВ на куст 3129.1 (объект 017.170.001-01)","комплекс работ",1,4658.4830000000002,42.002000000000002,3849.1210000000001,138.25200000000001,332.04599999999999,33.515000000000001,192.089,104.973,null,null,null,null,null,0,4615,{"$f":"(P21*$K$211)","v":0},0,900,0,0,0]
[null,null,"5D57A968-2E2D-47A8-B7F4-6C635AF194C3103",103,"f",null,null,"искл п. 121","Перевозка грузов I класса автомобилями бортовыми грузоподъемностью до 5 т на расстояние до 1 км . Перевозка по трассе линейной арматуры,изоляторов, стальных ростверков,оголовков","т",34.158999999999999,-0.624,null,null,null,-0.624,null,null,null,null,null,null,null,null,0,null,{"$f":"(P22*$K$211)","v":0},0,null,0,0,0]
[null,null,"5D57A968-2E2D-47A8-B7F4-6C635AF194C3103",103,"s","К",null,"вкл п. 121",{"$f":"I22","v":"Перевозка грузов I класса автомобилями бортовыми грузоподъемностью до 5 т на расстояние до 1 км . Перевозка по трассе линейной арматуры,изоляторов, стальных ростверков,оголовков"},{"$f":"J22","v":"т"},{"$f":"K22","v":34.158999999999999},0.624,null,null,null,{"$f":"-P22","v":0.624},null,null,null,null,null,null,null,null,0,null,{"$f":"P23*$K$212","v":0},0,{"$f":"AC22*-1","v":0},0,0,0]
[null,null,"5D57A968-2E2D-47A8-B7F4-6C635AF194C3103",102,"n",null,null,"искл п. 34","Шнек буровой диаметром 300мм ШБ 300х114/1400/200-Т90, цена 10860:3,61.1,13","шт.",0.13524,-0.46,null,-0.46,null,null,null,null,null,null,null,null,null,null,0,null,{"$f":"(P24*$K$211)","v":0},0,null,0,0,0]
[null,null,"5D57A968-2E2D-47A8-B7F4-6C635AF194C3103",101,"n",null,null,"вкл п. 34","Шнек буровой диаметром 300мм ШБ 300х114/1400/200-Т90, цена 10860:3,61.1,13","шт.",5.2920000000000002E-2,0.18,null,0.18,null,null,null,null,null,null,null,null,null,null,0,null,{"$f":"(P25*$K$211)","v":0},0,null,0,0,0]
[null,null,"5D57A968-2E2D-47A8-B7F4-6C635AF194C3103",100,"f",null,null,"искл п.122","Перевозка грузов I класса автомобилями бортовыми грузоподъемностью до 15 т на расстояние до 1 км. Развозка по трассе опор","т",72.588999999999999,-1.2370000000000001,null,null,null,-1.2370000000000001,null,null,null,null,null,null,null,null,0,null,{"$f":"(P26*$K$211)","v":0},0,null,0,0,0]
[null,null,"5D57A968-2E2D-47A8-B7F4-6C635AF194C3103",100,"s","К",null,"вкл п.122",{"$f":"I26","v":"Перевозка грузов I класса автомобилями бортовыми грузоподъемностью до 15 т на расстояние до 1 км. Развозка по трассе опор"},{"$f":"J26","v":"т"},{"$f":"K26","v":72.588999999999999},1.2370000000000001,null,null,null,{"$f":"-P26","v":1.2370000000000001},null,null,null,null,null,null,null,null,0,null,{"$f":"P27*$K$212","v":0},0,null,0,0,0]
[null,null,"5D57A968-2E2D-47A8-B7F4-6C635AF194C3109",null,null,null,null,"04-01-02","Кабельная линия 6 кВ, ВЛ 6 кВ на куст 3129.1 (объект 017.170.001-01)","км",7.0000000000000007E-2,150.25399999999996,null,120.026,6.3529999999999998,10.808,1.3380000000000001,7.8070000000000004,5.26,null,null,null,null,null,0,215,{"$f":"(P28*$K$211)","v":0},0,36,0,0,0]
["Глава 1-7Объект","AEEAB128-A9D6-4DE1-ACE9-6CD791FCF82A",null,null,null,null,2,null,"ВЛ 6 кВ на куст 3129.2 (габ. 6 кВ) Приразломное м/р. Правдинский (КС00091313)"]
[null,null,"AEEAB128-A9D6-4DE1-ACE9-6CD791FCF82A100",null,null,null,null,"01-04-02-01","Рубка леса , ВЛ 6 кВ на куст 3129.2 (объект 017.170.001-02)","га",3.88,{"$f":"M30+N30+O30+P30+R30+S30","v":96.250999999999991},0,0,9.83,62.906999999999996,8.3290000000000006,15.321,8.1929999999999996,null,null,null,null,null,{"$f":"(O30*$K$210)","v":0},371,{"$f":"(P30*$K$211)","v":0},{"$f":"(Q30*$K$210)","v":0},192,{"$f":"(R30*$K$210*$K$215)","v":0},{"$f":"(S30*$K$210*$K$216)","v":0},{"$f":"Y30+AA30+AD30+AE30","v":0}]
[null,null,null,null,null,null,null,"искл п. 6","Расчистка площадей от кустарника и мелколесья машинами глубинной подготовки полей на тракторе мощностью 103 кВт (140 л.с.)","1 га",3.875,-45.478999999999999,null,null,null,-40.161000000000001,-4.1219999999999999,-3.4630000000000001,-1.855,null,null,null,null,null,{"$f":"(O31*$K$210)","v":0},null,{"$f":"(P31*$K$211)","v":0},{"$f":"(Q31*$K$210)","v":0},-95,{"$f":"(R31*$K$210*$K$215)","v":0},{"$f":"(S31*$K$210*$K$216)","v":0},0]
[null,null,null,null,null,null,null,"вкл п.6","Дробление древесно-кустарниковой растительности в щепу","10 м3",5.24,2.33,null,null,0.20200000000000001,1.4350000000000001,0.33500000000000002,0.45100000000000001,0.24199999999999999,null,null,null,null,null,0,8,0,0,8,0,0,0]
[null,null,"AEEAB128-A9D6-4DE1-ACE9-6CD791FCF82A101",null,null,null,null,"04-02-01","Одноцепная ВЛ 6 кВ , ВЛ 6 кВ на куст 3129.2 (объект 017.170.001-02)","комплекс работ",1,796.46900000000005,34.902000000000001,602.56799999999998,31.914999999999999,56.656999999999996,7.2350000000000003,43.865000000000002,26.562000000000001,null,null,null,null,null,{"$f":"(O33*$K$210)","v":0},1098,{"$f":"(P33*$K$211)","v":0},{"$f":"(Q33*$K$210)","v":0},172,{"$f":"(R33*$K$210*$K$215)","v":0},{"$f":"(S33*$K$210*$K$216)","v":0},0]
[null,null,"AEEAB128-A9D6-4DE1-ACE9-6CD791FCF82A101",101,"f",null,null,"искл п. 77","Перевозка грузов I класса автомобилями бортовыми грузоподъемностью до 5 т на расстояние до 1 км . Перевозка по трассе стальных ростверков","т",0.53400000000000003,-0.01,null,null,null,-0.01,null,null,null,null,null,null,null,null,{"$f":"(O34*$K$210)","v":0},null,{"$f":"(P34*$K$211)","v":0},{"$f":"(Q34*$K$210)","v":0},null,{"$f":"(R34*$K$210*$K$215)","v":0},{"$f":"(S34*$K$210*$K$216)","v":0},0]
[null,null,"AEEAB128-A9D6-4DE1-ACE9-6CD791FCF82A101",101,"s","К",null,"вкл п. 77",{"$f":"I34","v":"Перевозка грузов I класса автомобилями бортовыми грузоподъемностью до 5 т на расстояние до 1 км . Перевозка по трассе стальных ростверков"},{"$f":"J34","v":"т"},{"$f":"K34","v":0.53400000000000003},0.01,null,null,null,0.01,null,null,null,null,null,null,null,null,{"$f":"(O35*$K$210)","v":0},{"$f":"Z34*-1","v":0},{"$f":"P35*$K$212","v":0},{"$f":"(Q35*$K$210)","v":0},{"$f":"AC34*-1","v":0},{"$f":"(R35*$K$210*$K$215)","v":0},{"$f":"(S35*$K$210*$K$216)","v":0},0]
[null,null,"AEEAB128-A9D6-4DE1-ACE9-6CD791FCF82A101",100,"f",null,null,"искл п.78","Перевозка грузов I класса автомобилями бортовыми грузоподъемностью до 15 т на расстояние до 1 км. Развозка по трассе портала","т",2.6619999999999999,-4.4999999999999998E-2,null,null,null,-4.4999999999999998E-2,null,null,null,null,null,null,null,null,{"$f":"(O36*$K$210)","v":0},null,{"$f":"(P36*$K$211)","v":0},{"$f":"(Q36*$K$210)","v":0},null,{"$f":"(R36*$K$210*$K$215)","v":0},{"$f":"(S36*$K$210*$K$216)","v":0},0]
[null,null,"AEEAB128-A9D6-4DE1-ACE9-6CD791FCF82A101",100,"s","К",null,"вкл п.78",{"$f":"I36","v":"Перевозка грузов I класса автомобилями бортовыми грузоподъемностью до 15 т на расстояние до 1 км. Развозка по трассе портала"},{"$f":"J36","v":"т"},{"$f":"K36","v":2.6619999999999999},4.4999999999999998E-2,null,null,null,4.4999999999999998E-2,null,null,null,null,null,null,null,null,{"$f":"(O37*$K$210)","v":0},{"$f":"Z36*-1","v":0},{"$f":"P37*$K$212","v":0},{"$f":"(Q37*$K$210)","v":0},{"$f":"AC36*-1","v":0},{"$f":"(R37*$K$210*$K$215)","v":0},{"$f":"(S37*$K$210*$K$216)","v":0},0]
["Глава 1-7Итог",null,null,null,null,null,null,null,"ИТОГО ГЛАВЫ 1-7 Подготовка территории и основные объекты строительства",null,null,{"$f":"SUM(L17:L37)","v":5673.2669999999998},76.903999999999996,4571.4349999999995,187.16100000000003,434.32999999999993,48.908999999999999,258.69899999999996,144.738,null,null,null,null,null,{"$f":"SUM(Y17:Y37)","v":0},6332,0,0,1267,0,0,0]
[]
["БлокЛимитбазы1",null,null,null,null,null,null,null,"Лимит базы 2001г  МТР для начисления лимитированных",null,null,{"$f":"M38+N40+O38+P38+R38+S38","v":5673.2669999999998},null,{"$f":"N38","v":4571.4349999999995}]
[null,null,null,null,null,null,null,1,"ВЛ 6 кВ на куст 3129.1 (габ.110 кВ) Приразломное м/р. Правдинский (КС00091309)",null,null,{"$f":"M41+N41+O41+P41+R41+S41","v":4823.6959999999999},{"$f":"SUM(M18:M28)","v":42.002000000000002},{"$f":"SUM(N18:N28)","v":3968.8669999999997},145.21400000000003,353.49199999999996,37.131999999999998,202.52499999999998,111.596,null,null,null,null,null,null,null,null,null,null,null,null,{"$f":"SUM(AF18:AF28)","v":0}]
[null,null,null,null,null,null,null,2,"ВЛ 6 кВ на куст 3129.2 (габ. 6 кВ) Приразломное м/р. Правдинский (КС00091313)",null,null,{"$f":"M42+N42+O42+P42+R42+S42","v":849.57100000000003},{"$f":"SUM(M30:M37)","v":34.902000000000001},{"$f":"SUM(N30:N37)","v":602.56799999999998},41.947000000000003,80.837999999999994,11.777000000000001,56.174000000000007,33.142000000000003,null,null,null,null,null,null,null,null,null,null,null,null,{"$f":"SUM(AF30:AF37)","v":0}]
[]
["Глава 8",null,null,null,null,null,null,null,"ГЛАВА 8. Временные здания и сооружения"]
["Глава 8 ВЗиС",null,null,null,null,null,null,"ГСН 81-05-01-2001","Временные здания и сооружения ВЛ 6 кВ на куст 3129.1 (габ.110 кВ) Приразломное м/р. Правдинский (КС00091309)",null,{"$f":"$K$232","v":0},{"$f":"(L41-M41)*K45","v":0},null,null,null,null,null,null,null,null,null,null,null,null,null,null,null,null,null,null,null,{"$f":"(AF41*K45)+(N41*K45*$K$213)","v":0}]
["Глава 8 ВЗиС",null,null,null,null,null,null,"ГСН 81-05-01-2001","Временные здания и сооружения ВЛ 6 кВ на куст 3129.2 (габ. 6 кВ) Приразломное м/р. Правдинский (КС00091313)",null,{"$f":"$K$221","v":0},{"$f":"(L42-M42)*K46","v":0},null,null,null,null,null,null,null,null,null,null,null,null,null,null,null,null,null,null,null,{"$f":"(AF42*K46)+(N42*K46*$K$213)","v":0}]
["Глава 8Объект","5D57A968-2E2D-47A8-B7F4-6C635AF194C3",null,null,null,null,1,null,"ВЛ 6 кВ на куст 3129.1 (габ.110 кВ) Приразломное м/р. Правдинский (КС00091309)"]
[null,null,"5D57A968-2E2D-47A8-B7F4-6C635AF194C3111",null,null,null,null,"08-04-01-02","Устройство лежневой дороги , ВЛ 6 кВ на куст 3129.1 (объект 017.170.001-01)","комплекс работ",1,{"$f":"M48+N48+O48+P48+R48+S48","v":1684.9180000000001},0,949.029,119.111,434.14,20.838000000000001,118.84,63.798000000000002,null,null,null,null,null,{"$f":"(O48*$K$210)","v":0},3958,{"$f":"(P48*$K$211)","v":0},{"$f":"(Q48*$K$210)","v":0},679,{"$f":"(R48*$K$210*$K$215)","v":0},{"$f":"(S48*$K$210*$K$216)","v":0},{"$f":"Y48+AA48+AD48+AE48","v":0}]
[null,null,"5D57A968-2E2D-47A8-B7F4-6C635AF194C3111",105,"f",null,null,"искл п. 1,2","Погрузка, разгрузка при автомобильных перевозках леса круглого","т",238.17,-16.43,null,null,-3.1779999999999999,-6.5220000000000002,-1.028,-4.2060000000000004,-2.524,null,null,null,null,null,{"$f":"(O49*$K$210)","v":0},-118,{"$f":"(P49*$K$211)","v":0},{"$f":"(Q49*$K$210)","v":0},-30,{"$f":"(R49*$K$210*$K$215)","v":0},{"$f":"(S49*$K$210*$K$216)","v":0},0]
[null,null,"5D57A968-2E2D-47A8-B7F4-6C635AF194C3111",105,"s","Е",null,"вкл п. 1,2",{"$f":"I49","v":"Погрузка, разгрузка при автомобильных перевозках леса круглого"},{"$f":"J49","v":"т"},{"$f":"K49","v":238.17},16.43,null,null,null,{"$f":"-L49","v":16.43},null,null,null,null,null,null,null,null,null,118,{"$f":"P50*$K$229","v":0},null,30,null,null,{"$f":"Y50+AA50+AD50+AE50","v":0}]
[null,null,"5D57A968-2E2D-47A8-B7F4-6C635AF194C3111",104,"f",null,null,"искл п. 3","Перевозка грузов I класса автомобилями бортовыми грузоподъемностью до 15 т на расстояние до 1 км. Перевозка деловой древесины","т",238.17,-4.0590000000000002,null,null,null,-4.0590000000000002,null,null,null,null,null,null,null,null,{"$f":"(O51*$K$210)","v":0},null,{"$f":"(P51*$K$211)","v":0},{"$f":"(Q51*$K$210)","v":0},null,{"$f":"(R51*$K$210*$K$215)","v":0},{"$f":"(S51*$K$210*$K$216)","v":0},0]
[null,null,"5D57A968-2E2D-47A8-B7F4-6C635AF194C3111",104,"s","К",null,"вкл п. 3",{"$f":"I51","v":"Перевозка грузов I класса автомобилями бортовыми грузоподъемностью до 15 т на расстояние до 1 км. Перевозка деловой древесины"},{"$f":"J51","v":"т"},{"$f":"K51","v":238.17},4.0590000000000002,null,null,null,{"$f":"-P51","v":4.0590000000000002},null,null,null,null,null,null,null,null,0,{"$f":"Z51*-1","v":0},{"$f":"P52*$K$212","v":0},0,{"$f":"AC51*-1","v":0},0,0,0]
[null,null,"5D57A968-2E2D-47A8-B7F4-6C635AF194C3111",103,"f",null,null,"искл п. 4","Устройство лежневого настила","м2",7596,-215.887,null,null,-64.262,-57.654000000000003,-8.5830000000000002,-61.19,-32.780999999999999,null,null,null,null,null,0,-2127,{"$f":"(P53*$K$211)","v":0},0,-304,0,0,0]
[null,null,"5D57A968-2E2D-47A8-B7F4-6C635AF194C3111",103,"s","Л",null,"вкл п. 4",{"$f":"НМЦ!$I$230","v":"Устройство лежневого настила"},{"$f":"J53","v":"м2"},{"$f":"K53","v":7596},0,null,null,null,null,null,null,null,null,null,null,null,null,0,{"$f":"K54*0.229","v":1739.4840000000002},{"$f":"(P54*$K$211)","v":0},0,{"$f":"K54*0.0036","v":27.345600000000001},0,0,{"$f":"K54*НМЦ!$K$230/1000","v":0}]
[null,null,"5D57A968-2E2D-47A8-B7F4-6C635AF194C3111",102,"n",null,null,"искл п. 7","Перевозка грузов автомобилями-самосвалами грузоподъемностью 10 т работающих из карьера на расстояние от 9,5 до 10,0 км","т",3638.9088000000002,-90.718000000000004,null,null,null,-90.718000000000004,null,null,null,null,null,null,null,null,0,null,{"$f":"(P55*$K$211)","v":0},0,null,0,0,{"$f":"Y55+AA55+AD55+AE55","v":0}]
[null,null,"5D57A968-2E2D-47A8-B7F4-6C635AF194C3111",101,"f",null,null,"искл п.8","Перевозка грузов автомобилями-самосвалами грузоподъемностью 10 т работающих из карьера за каждые 0,5 км св.10 км. Подвозка грунта на 33 км","т",3638.9088000000002,-200.86799999999999,null,null,null,-200.86799999999999,null,null,null,null,null,null,null,null,0,null,{"$f":"(P56*$K$211)","v":0},0,null,0,0,{"$f":"Y56+AA56+AD56+AE56","v":0}]
[null,null,"5D57A968-2E2D-47A8-B7F4-6C635AF194C3111",101,"s","К",null,"вкл. п. 7","Перевозка грузов автомобилями-самосвалами грузоподъемностью 10 т работающих вне карьера на расстояние до 32 км 1 класс груза",{"$f":"J56","v":"т"},{"$f":"K56","v":3638.9088000000002},162.58644518400001,null,null,null,162.58644518400001,null,null,null,null,null,null,null,null,0,{"$f":"Z56*-1","v":0},{"$f":"P57*$K$212","v":0},0,{"$f":"AC56*-1","v":0},0,0,{"$f":"Y57+AA57+AD57+AE57","v":0}]
[null,null,"5D57A968-2E2D-47A8-B7F4-6C635AF194C3111",100,"f",null,null,"искл п. 12","Демонтаж лежневого настила","м2",7596,-172.70899999999997,null,null,-51.41,-46.122999999999998,-6.867,-48.951999999999998,-26.224,null,null,null,null,null,0,-1702,{"$f":"(P58*$K$211)","v":0},0,-243,0,0,{"$f":"Y58+AA58+AD58+AE58","v":0}]
[null,null,"5D57A968-2E2D-47A8-B7F4-6C635AF194C3111",100,"s","Л",null,"вкл п. 12",{"$f":"НМЦ!$I$231","v":"Демонтаж лежневого настила"},{"$f":"J58","v":"м2"},{"$f":"K58","v":7596},0,null,null,null,null,null,null,null,null,null,null,null,null,0,{"$f":"K59*0.1834","v":1393.1064000000001},0,0,{"$f":"K59*0.0027","v":20.5092},0,0,{"$f":"K59*НМЦ!$K$231/1000","v":0}]
[null,null,null,null,null,null,null,"ЛСР 08-04-01-01","Устройство зимника","км",0.159,3.2919999999999998,null,8.5999999999999993E-2,0.112,2.3929999999999998,0.36699999999999999,0.46600000000000003,0.23499999999999999,null,null,null,null,null,0,5,0,0,7,0,0,{"$f":"Y60+AA60+AD60+AE60","v":0}]
[null,null,null,null,null,null,null,"искл п. 2","Уборка снега со строительных площадок и дорог бульдозерами с перемещениями на расстояние до 20 м. Надвигание снега на дорожную полосу толщиной 50 см","1000м3",0.71550000000000002,-0.44899999999999995,null,null,null,-0.35699999999999998,-7.1999999999999995E-2,-0.06,-3.2000000000000001E-2,null,null,null,null,null,0,null,0,0,-2,0,0,{"$f":"Y61+AA61+AD61+AE61","v":0}]
[null,null,null,null,null,null,null,"искл п.5","Уборка снега со строительных площадок и дорог бульдозерами с перемещениями на расстояние до 20 м. Устройство валков из снега","1000м3",0.1352295,-8.4000000000000005E-2,null,null,null,-6.7000000000000004E-2,-1.4E-2,-1.0999999999999999E-2,-6.0000000000000001E-3,null,null,null,null,null,0,null,0,0,null,0,0,0]
[null,null,"5D57A968-2E2D-47A8-B7F4-6C635AF194C3112",null,null,null,null,"08-04-01-03 К=5","Монтажная площадка из лежневого настила под анкерные опоры . На 1 шт. Всего 5 шт., ВЛ 6 кВ на куст 3129.1 (объект 017.170.001-01)","шт",5,1138.5250000000001,0,714.42,68.650000000000006,251.72,11.445,67.594999999999999,36.14,null,null,null,null,null,0,2275,0,0,380,0,0,{"$f":"Y63+AA63+AD63+AE63","v":0}]
[null,null,"5D57A968-2E2D-47A8-B7F4-6C635AF194C3112",103,"f",null,null,"искл п. 1","Устройство лежневого настила","м2",{"$f":"5*900","v":4500},-127.895,null,null,-38.07,-34.155000000000001,-5.085,-36.25,-19.420000000000002,null,null,null,null,null,0,-1260,0,0,-180,0,0,{"$f":"Y64+AA64+AD64+AE64","v":0}]
[null,null,"5D57A968-2E2D-47A8-B7F4-6C635AF194C3112",103,"s","Л",null,"вкл п. 1",{"$f":"НМЦ!$I$230","v":"Устройство лежневого настила"},{"$f":"J64","v":"м2"},{"$f":"K64","v":4500},0,null,null,null,null,null,null,null,null,null,null,null,null,0,{"$f":"K65*0.229","v":1030.5},0,0,{"$f":"K65*0.0036","v":16.2},0,0,{"$f":"K65*НМЦ!$K$230/1000","v":0}]
[null,null,"5D57A968-2E2D-47A8-B7F4-6C635AF194C3112",102,"n",null,null,"искл п. 3","Перевозка грузов автомобилями-самосвалами грузоподъемностью 10 т работающих из карьера на расстояние от 9,5 до 10,0 км","т",{"$f":"5*436.32","v":2181.6},-54.384999999999998,null,null,null,-54.384999999999998,null,null,null,null,null,null,null,null,0,null,0,0,null,0,0,{"$f":"Y66+AA66+AD66+AE66","v":0}]
[null,null,"5D57A968-2E2D-47A8-B7F4-6C635AF194C3112",101,"f",null,null,"искл п.4","Перевозка грузов автомобилями-самосвалами грузоподъемностью 10 т работающих из карьера за каждые 0,5 км св.10 км. Подвозка грунта на 33 км","т",{"$f":"5*436.32","v":2181.6},-120.425,null,null,null,-120.425,null,null,null,null,null,null,null,null,0,null,0,0,null,0,0,{"$f":"Y67+AA67+AD67+AE67","v":0}]
[null,null,"5D57A968-2E2D-47A8-B7F4-6C635AF194C3112",101,"s","К",null,"вкл. п. 3","Перевозка грузов автомобилями-самосвалами грузоподъемностью 10 т работающих вне карьера на расстояние до 32 км 1 класс груза",{"$f":"J67","v":"т"},{"$f":"K67","v":2181.6},97.474000000000004,null,null,null,{"$f":"97.474","v":97.474000000000004},null,null,null,null,null,null,null,null,0,{"$f":"Z67*-1","v":0},{"$f":"P68*$K$212","v":0},0,{"$f":"AC67*-1","v":0},0,0,{"$f":"Y68+AA68+AD68+AE68","v":0}]
[null,null,"5D57A968-2E2D-47A8-B7F4-6C635AF194C3112",100,"f",null,null,"искл п. 8","Демонтаж лежневого настила","м2",{"$f":"5*900","v":4500},-102.315,null,null,-30.454999999999998,-27.324999999999999,-4.07,-29,-15.535,null,null,null,null,null,0,-1010,{"$f":"(P69*$K$211)","v":0},0,-145,0,0,{"$f":"Y69+AA69+AD69+AE69","v":0}]
[null,null,"5D57A968-2E2D-47A8-B7F4-6C635AF194C3112",100,"s","Л",null,"вкл п. 8",{"$f":"НМЦ!$I$231","v":"Демонтаж лежневого настила"},{"$f":"J69","v":"м2"},{"$f":"K69","v":4500},0,null,null,null,null,null,null,null,null,null,null,null,null,0,{"$f":"K70*0.1834","v":825.30000000000007},0,0,{"$f":"K70*0.0027","v":12.15},0,0,{"$f":"K70*НМЦ!$K$231/1000","v":0}]
[null,null,"5D57A968-2E2D-47A8-B7F4-6C635AF194C3113",null,null,null,null,"08-04-01-04 К=7","Монтажная площадка из лежневого настила под промежуточные опоры . На 1 шт. Всего 7 шт., ВЛ 6 кВ на куст 3129.1 (объект 017.170.001-01","шт",7,664.13900000000001,0,416.738,40.046999999999997,146.839,6.6779999999999999,39.430999999999997,21.084,null,null,null,null,null,0,1323,0,0,217,0,0,{"$f":"Y71+AA71+AD71+AE71","v":0}]
[null,null,"5D57A968-2E2D-47A8-B7F4-6C635AF194C3113",103,"f",null,null,"искл п.1","Устройство лежневого настила","м2",{"$f":"7*375","v":2625},-74.605999999999995,null,null,-22.210999999999999,-19.922000000000001,-2.968,-21.146999999999998,-11.326000000000001,null,null,null,null,null,0,-735,0,0,-105,0,0,{"$f":"Y72+AA72+AD72+AE72","v":0}]
[null,null,"5D57A968-2E2D-47A8-B7F4-6C635AF194C3113",103,"s","Л",null,"вкл п.1",{"$f":"НМЦ!$I$230","v":"Устройство лежневого настила"},{"$f":"J72","v":"м2"},{"$f":"K72","v":2625},0,null,null,null,null,null,null,null,null,null,null,null,null,0,{"$f":"K73*0.229","v":601.125},0,0,{"$f":"K73*0.0036","v":9.4499999999999993},0,0,{"$f":"K73*НМЦ!$K$230/1000","v":0}]
[null,null,"5D57A968-2E2D-47A8-B7F4-6C635AF194C3113",102,"n",null,null,"искл п.3","Перевозка грузов автомобилями-самосвалами грузоподъемностью 10 т работающих из карьера на расстояние от 9,5 до 10,0 км","т",{"$f":"7*181.8","v":1272.6000000000001},-31.724,null,null,null,-31.724,null,null,null,null,null,null,null,null,0,null,0,0,null,0,0,{"$f":"Y74+AA74+AD74+AE74","v":0}]
[null,null,"5D57A968-2E2D-47A8-B7F4-6C635AF194C3113",101,"f",null,null,"искл п.4","Перевозка грузов автомобилями-самосвалами грузоподъемностью 10 т работающих из карьера за каждые 0,5 км св.10 км. Подвозка грунта на 33 км","т",{"$f":"7*181.8","v":1272.6000000000001},-70.245000000000005,null,null,null,-70.245000000000005,null,null,null,null,null,null,null,null,0,null,0,0,null,0,0,{"$f":"Y75+AA75+AD75+AE75","v":0}]
[null,null,"5D57A968-2E2D-47A8-B7F4-6C635AF194C3113",101,"s","К",null,"вкл.п.3","Перевозка грузов автомобилями-самосвалами грузоподъемностью 10 т работающих вне карьера на расстояние до 32 км 1 класс груза",{"$f":"J75","v":"т"},{"$f":"K75","v":1272.6000000000001},56.86,null,null,null,{"$f":"56.86","v":56.86},null,null,null,null,null,null,null,null,0,{"$f":"Z75*-1","v":0},{"$f":"P76*$K$212","v":0},0,{"$f":"AC75*-1","v":0},0,0,{"$f":"Y76+AA76+AD76+AE76","v":0}]
[null,null,"5D57A968-2E2D-47A8-B7F4-6C635AF194C3113",100,"f",null,null,"искл п.8","Демонтаж лежневого настила","м2",{"$f":"7*375","v":2625},-59.688999999999993,null,null,-17.765999999999998,-15.939,-2.3730000000000002,-16.919,-9.0649999999999995,null,null,null,null,null,0,-588,{"$f":"(P77*$K$211)","v":0},0,-84,0,0,{"$f":"Y77+AA77+AD77+AE77","v":0}]
[null,null,"5D57A968-2E2D-47A8-B7F4-6C635AF194C3113",100,"s","Л",null,"вкл п.8",{"$f":"НМЦ!$I$231","v":"Демонтаж лежневого настила"},{"$f":"J77","v":"м2"},{"$f":"K77","v":2625},0,null,null,null,null,null,null,null,null,null,null,null,null,0,{"$f":"K78*0.1834","v":481.42500000000001},{"$f":"(P78*$K$211)","v":0},0,{"$f":"K78*0.0027","v":7.0875000000000004},0,0,{"$f":"K78*НМЦ!$K$231/1000","v":0}]
["Глава 8Объект","AEEAB128-A9D6-4DE1-ACE9-6CD791FCF82A",null,null,null,null,2,null,"ВЛ 6 кВ на куст 3129.2 (габ. 6 кВ) Приразломное м/р. Правдинский (КС00091313)"]
[null,null,"AEEAB128-A9D6-4DE1-ACE9-6CD791FCF82A114",null,null,null,null,"08-04-02-01","Устройство лежневой дороги , ВЛ 6 кВ на куст 3129.2 (объект 017.170.001-02)","км",0.52,{"$f":"M80+N80+O80+P80+R80+S80","v":923.65899999999999},0,518.42399999999998,65.254000000000005,239.876,11.442,65.135999999999996,34.969000000000001,null,null,null,null,null,{"$f":"(O80*$K$210)","v":0},2168,{"$f":"(P80*$K$211)","v":0},{"$f":"(Q80*$K$210)","v":0},373,{"$f":"(R80*$K$210*$K$215)","v":0},{"$f":"(S80*$K$210*$K$216)","v":0},{"$f":"Y80+AA80+AD80+AE80","v":0}]
[null,null,"AEEAB128-A9D6-4DE1-ACE9-6CD791FCF82A114",105,"f",null,null,"искл п. 1,2","Погрузка, разгрузка при автомобильных перевозках леса круглого","т",131.97999999999999,-9.1020000000000003,null,null,-1.76,-3.6139999999999999,-0.56999999999999995,-2.33,-1.3979999999999999,null,null,null,null,null,{"$f":"(O81*$K$210)","v":0},-66,{"$f":"(P81*$K$211)","v":0},{"$f":"(Q81*$K$210)","v":0},-16,{"$f":"(R81*$K$210*$K$215)","v":0},{"$f":"(S81*$K$210*$K$216)","v":0},0]
[null,null,"AEEAB128-A9D6-4DE1-ACE9-6CD791FCF82A114",105,"s","Е",null,"вкл п. 1,2",{"$f":"I81","v":"Погрузка, разгрузка при автомобильных перевозках леса круглого"},{"$f":"J81","v":"т"},{"$f":"K81","v":131.97999999999999},9.1020000000000003,null,null,null,{"$f":"-L81","v":9.1020000000000003},null,null,null,null,null,null,null,null,null,66,{"$f":"P82*$K$229","v":0},null,16,null,null,0]
[null,null,"AEEAB128-A9D6-4DE1-ACE9-6CD791FCF82A114",104,"f",null,null,"искл п. 3","Перевозка грузов I класса автомобилями бортовыми грузоподъемностью до 15 т на расстояние до 1 км. Перевозка деловой древесины","т",131.97999999999999,-2.2490000000000001,null,null,null,-2.2490000000000001,null,null,null,null,null,null,null,null,{"$f":"(O83*$K$210)","v":0},null,{"$f":"(P83*$K$211)","v":0},{"$f":"(Q83*$K$210)","v":0},null,{"$f":"(R83*$K$210*$K$215)","v":0},{"$f":"(S83*$K$210*$K$216)","v":0},0]
[null,null,"AEEAB128-A9D6-4DE1-ACE9-6CD791FCF82A114",104,"s","К",null,"вкл п. 3",{"$f":"I83","v":"Перевозка грузов I класса автомобилями бортовыми грузоподъемностью до 15 т на расстояние до 1 км. Перевозка деловой древесины"},{"$f":"J83","v":"т"},{"$f":"K83","v":131.97999999999999},2.2490000000000001,null,null,null,2.2490000000000001,null,null,null,null,null,null,null,null,0,{"$f":"Z83*-1","v":0},{"$f":"P84*$K$212","v":0},0,{"$f":"AC83*-1","v":0},0,0,0]
[null,null,"AEEAB128-A9D6-4DE1-ACE9-6CD791FCF82A114",103,"f",null,null,"искл п.4","Устройство лежневого настила","м2",4160,-118.23099999999999,null,null,-35.194000000000003,-31.574000000000002,-4.7009999999999996,-33.511000000000003,-17.952000000000002,null,null,null,null,null,0,-1165,{"$f":"(P85*$K$211)","v":0},0,-166,0,0,0]
[null,null,"AEEAB128-A9D6-4DE1-ACE9-6CD791FCF82A114",103,"s","Л",null,"вкл п.4",{"$f":"НМЦ!$I$230","v":"Устройство лежневого настила"},{"$f":"J85","v":"м2"},{"$f":"K85","v":4160},0,null,null,null,null,null,null,null,null,null,null,null,null,0,{"$f":"K86*0.229","v":952.64},{"$f":"(P86*$K$211)","v":0},0,{"$f":"K86*0.0036","v":14.975999999999999},0,0,{"$f":"K86*НМЦ!$K$230/1000","v":0}]
[null,null,"AEEAB128-A9D6-4DE1-ACE9-6CD791FCF82A114",102,"n",null,null,"искл п.7","Перевозка грузов автомобилями-самосвалами грузоподъемностью 10 т работающих из карьера на расстояние от 9,5 до 10,0 км","т",2016.768,-50.277999999999999,null,null,null,-50.277999999999999,null,null,null,null,null,null,null,null,0,null,{"$f":"(P87*$K$211)","v":0},0,null,0,0,{"$f":"Y87+AA87+AD87+AE87","v":0}]
[null,null,"AEEAB128-A9D6-4DE1-ACE9-6CD791FCF82A114",101,"f",null,null,"искл п.8","Перевозка грузов автомобилями-самосвалами грузоподъемностью 10 т работающих вне карьера на расстояние до 32 км 1 класс груза","т",2016.768,-111.32599999999999,null,null,null,-111.32599999999999,null,null,null,null,null,null,null,null,0,null,{"$f":"(P88*$K$211)","v":0},0,null,0,0,{"$f":"Y88+AA88+AD88+AE88","v":0}]
[null,null,"AEEAB128-A9D6-4DE1-ACE9-6CD791FCF82A114",101,"s","К",null,"вкл.п.7","Перевозка грузов автомобилями-самосвалами грузоподъемностью 10 т работающих вне карьера на расстояние до 32 км 1 класс груза",{"$f":"J88","v":"т"},{"$f":"K88","v":2016.768},90.108999999999995,null,null,null,90.108999999999995,null,null,null,null,null,null,null,null,0,{"$f":"Z88*-1","v":0},{"$f":"P89*$K$212","v":0},0,{"$f":"AC88*-1","v":0},0,0,{"$f":"Y89+AA89+AD89+AE89","v":0}]
[null,null,"AEEAB128-A9D6-4DE1-ACE9-6CD791FCF82A114",100,"f",null,null,"искл п.12","Демонтаж лежневого настила","м2",4160,-94.585999999999999,null,null,-28.155000000000001,-25.26,-3.7610000000000001,-26.809000000000001,-14.362,null,null,null,null,null,0,-932,{"$f":"(P90*$K$211)","v":0},0,-133,0,0,{"$f":"Y90+AA90+AD90+AE90","v":0}]
[null,null,"AEEAB128-A9D6-4DE1-ACE9-6CD791FCF82A114",100,"s","Л",null,"вкл п.12",{"$f":"НМЦ!$I$231","v":"Демонтаж лежневого настила"},{"$f":"J90","v":"м2"},{"$f":"K90","v":4160},0,null,null,null,null,null,null,null,null,null,null,null,null,0,{"$f":"K91*0.1834","v":762.94400000000007},{"$f":"(P91*$K$211)","v":0},0,{"$f":"K91*0.0027","v":11.232000000000001},0,0,{"$f":"K91*НМЦ!$K$231/1000","v":0}]
["Глава 8Итог",null,null,null,null,null,null,null,"ИТОГО ГЛАВА 8. Временные здания и сооружения",null,null,{"$f":"SUM(L45:L91)","v":3125.1424451840007},0,2598.6969999999997,0.71300000000000807,509.048445184,10.678000000000001,11.082999999999988,5.6009999999999973,null,null,null,null,null,{"$f":"SUM(Y45:Y91)","v":0},7996.5244000000021,0,0,412.95029999999991,0,0,{"$f":"SUM(AF45:AF91)","v":0}]
[]
["Глава 1-8",null,null,null,null,null,null,null,"ИТОГО ГЛАВЫ 1-8",null,null,{"$f":"L92+L38","v":8798.409445184001},76.903999999999996,7170.1319999999996,187.87400000000002,943.37844518399993,59.587000000000003,269.78199999999993,150.339,0,0,0,0,0,0,14328.524400000002,0,0,1679.9503,0,0,0]
[]
["БлокЛимитбазы2",null,null,null,null,null,null,null,"Лимит базы 2001г  МТР для начисления лимитированных",null,null,{"$f":"M94+N96+O94+P94+R94+S94","v":8798.4094451839992},null,{"$f":"N94","v":7170.1319999999996}]
[null,null,null,null,null,null,null,1,"ВЛ 6 кВ на куст 3129.1 (габ.110 кВ) Приразломное м/р. Правдинский (КС00091309)",null,null,{"$f":"M97+N97+O97+P97+R97+S97","v":7309.4914451839995},{"$f":"M41+M48+M49+M50+M51+M52+M53+M54+M55+M56+M57+M58+M59+M61+M62+M63+M64+M65+M66+M67+M68+M69+M70+M71+M72+M73+M74+M75+M76+M77+M78","v":42.002000000000002},{"$f":"SUM(N48:N78)+N41","v":6049.1399999999994},{"$f":"O41+O48+O49+O53+O58+O60+O63+O64+O69+O71+O72+O77","v":145.78200000000007},{"$f":"P41+P48+P49+P50+P51+P52+P53+P55+P56+P57+P58+P60+P61+P62+P63+P64+P66+P67+P68+P69+P71+P72+P74+P75+P76+P77","v":745.50544518400011},{"$f":"Q41+Q48+Q49+Q53+Q58+Q60+Q61+Q62+Q63+Q64+Q69+Q71+Q72+Q77","v":45.4},{"$f":"R41+R48+R49+R53+R58+R60+R61+R62+R63+R64+R69+R71+R72+R77","v":211.12199999999999},{"$f":"S41+S48+S49+S53+S58+S60+S61+S62+S63+S64+S69+S71+S72+S77","v":115.94},null,null,null,null,null,null,null,null,null,null,null,null,{"$f":"SUM(AF48:AF78)+AF41+AF45","v":0}]
[null,null,null,null,null,null,null,2,"ВЛ 6 кВ на куст 3129.2 (габ. 6 кВ) Приразломное м/р. Правдинский (КС00091313)",null,null,{"$f":"M98+N98+O98+P98+R98+S98","v":1488.9180000000003},{"$f":"M42+M80+M81+M82+M83+M84+M85+M87+M88+M89+M90","v":34.902000000000001},{"$f":"SUM(N80:N91)+N42","v":1120.992},{"$f":"O42+O80+O81+O82+O83+O84+O85+O87+O88+O89+O90","v":42.091999999999999},197.87299999999999,14.187000000000001,58.66,34.399000000000008,null,null,null,null,null,null,null,null,null,null,null,null,{"$f":"SUM(AF80:AF91)+AF46+AF42","v":0}]
[]
["БлокГлава9",null,null,null,null,null,null,null,"ГЛАВА 9. Прочие работы и затраты"]
["БлокГлава9ПЗЗУОбъект",null,null,null,null,null,null,"ГСН 81-05-02-2007","Зимнее удорожание",null,{"$f":"$K$233","v":0},{"$f":"(L97-M97)*K101","v":0},null,null,null,null,null,null,null,null,null,null,null,null,null,null,null,null,null,null,null,{"$f":"(AF97*K101)+(N97*K101*$K$213)","v":0}]
["БлокГлава9ПЗЗУОбъект",null,null,null,null,null,null,"ГСН 81-05-02-2007","Зимнее удорожание",null,{"$f":"$K$222","v":0},{"$f":"(L98-M98)*K102","v":0},null,null,null,null,null,null,null,null,null,null,null,null,null,null,null,null,null,null,null,{"$f":"(AF98*K102)+(N98*K102*$K$213)","v":0}]
["БлокГлава9ПЗСОбъект",null,null,null,null,null,null,"ГСН 81-05-02-2007","Снегоборьба",null,{"$f":"$K$223","v":0},{"$f":"(L96-M94)*K103","v":0},null,null,null,null,null,null,null,null,null,null,null,null,null,null,null,null,null,null,null,{"$f":"(AF94*K103)+(N96*K103*$K$213)","v":0}]
["БлокГлава9ПЗБГОбъект",null,null,null,null,null,null,"МДС 81-35.2004","Борьба с гнусом",null,{"$f":"$K$224","v":0},{"$f":"(L96-M94)*K104","v":0},null,null,null,null,null,null,null,null,null,null,null,null,null,null,null,null,null,null,null,{"$f":"(AF94*K104)+(N96*K104*$K$213)","v":0}]
[]
["Глава 9",null,null,null,null,null,null,null,"ПРОЧИЕ РАБОТЫ"]
["Глава 9Объект","5D57A968-2E2D-47A8-B7F4-6C635AF194C3",null,null,null,null,1,null,"ВЛ 6 кВ на куст 3129.1 (габ.110 кВ) Приразломное м/р. Правдинский (КС00091309)"]
[null,null,"5D57A968-2E2D-47A8-B7F4-6C635AF194C3110",null,null,null,null,"08-04-01-01","Устройство зимника, ВЛ 6 кВ на куст 3129.1 (объект 017.170.001-01)"]
[null,null,null,null,null,null,null,"вкл п. 2","Уборка снега со строительных площадок и дорог бульдозерами с перемещениями на расстояние до 20 м. Надвигание снега на дорожную полосу толщиной 50 см","1000м3",0.71550000000000002,{"$f":"M109+N109+O109+P109+R109+S109","v":0.44899999999999995},null,null,null,0.35699999999999998,7.1999999999999995E-2,0.06,3.2000000000000001E-2,null,null,null,null,null,{"$f":"(O109*$K$210)","v":0},null,{"$f":"(P109*$K$211)","v":0},{"$f":"(Q109*$K$210)","v":0},2,{"$f":"(R109*$K$210*$K$215)","v":0},{"$f":"(S109*$K$210*$K$216)","v":0},{"$f":"Y109+AA109+AD109+AE109","v":0}]
[null,null,null,null,null,null,null,"вкл п.5","Уборка снега со строительных площадок и дорог бульдозерами с перемещениями на расстояние до 20 м. Устройство валков из снега","1000м3",0.1352295,8.4000000000000005E-2,null,null,null,6.7000000000000004E-2,1.4E-2,1.0999999999999999E-2,6.0000000000000001E-3,null,null,null,null,null,{"$f":"(O110*$K$210)","v":0},null,{"$f":"(P110*$K$211)","v":0},{"$f":"(Q110*$K$210)","v":0},null,{"$f":"(R110*$K$210*$K$215)","v":0},{"$f":"(S110*$K$210*$K$216)","v":0},0]
[null,null,"5D57A968-2E2D-47A8-B7F4-6C635AF194C3115",null,null,null,null,"09-04-01-01","Первоначальная очистка от снега территории строительства , ВЛ 6 кВ на куст 3029.1 (объект 017.170.001-01)","комплекс работ",1,{"$f":"M111+N111+O111+P111+R111+S111","v":21.675999999999998},0,0,0,17.213000000000001,3.4590000000000001,2.9060000000000001,1.5569999999999999,null,null,null,null,null,{"$f":"(O111*$K$210)","v":0},null,{"$f":"(P111*$K$211)","v":0},{"$f":"(Q111*$K$210)","v":0},79.75,{"$f":"(R111*$K$210*$K$215)","v":0},{"$f":"(S111*$K$210*$K$216)","v":0},{"$f":"Y111+AA111+AD111+AE111","v":0}]
["Глава 9Итог",null,null,null,null,null,null,null,"ИТОГО ПРОЧИЕ РАБОТЫ",null,null,{"$f":"SUM(L107:L111)","v":22.209},0,0,0,17.637,3.5449999999999999,2.9770000000000003,1.595,null,null,null,null,null,{"$f":"SUM(Y107:Y111)","v":0},0,0,0,81.75,0,0,0]
[]
[null,null,null,null,null,null,null,null,"ИТОГО С ПРОЧИМИ РАБОТАМИ",null,null,{"$f":"L112+SUM(L101:L104)+L94","v":8820.6184451840018},76.903999999999996,7170.1319999999996,187.87400000000002,961.01544518399987,63.132000000000005,272.7589999999999,151.934,0,0,0,0,0,0,14328.524400000002,0,0,1761.7003,0,0,0]
[]
["ПНР",null,null,null,null,null,null,null,"ПНР"]
["ПНРОбъект","5D57A968-2E2D-47A8-B7F4-6C635AF194C3",null,null,null,null,1,null,"ВЛ 6 кВ на куст 3129.1 (габ.110 кВ) Приразломное м/р. Правдинский (КС00091309)"]
[null,null,"5D57A968-2E2D-47A8-B7F4-6C635AF194C3118",null,null,null,null,"09-04-01-02","Пусконаладочные работы ВЛ 6 кВ, ВЛ 6 кВ на куст 3129.1 (объект 017.170.001-01)","комплекс работ",1,{"$f":"M118+N118+O118+P118+R118+S118","v":13.591999999999999},0,0,6.5350000000000001,0,0,4.4429999999999996,2.6139999999999999,null,null,null,null,null,{"$f":"(O118*$K$214)","v":0},168,{"$f":"(P118*$K$211)","v":0},{"$f":"(Q118*$K$214)","v":0},null,{"$f":"(R118*$K$214)","v":0},{"$f":"(S118*$K$214)","v":0},{"$f":"Y118+AA118+AD118+AE118","v":0}]
[null,null,"5D57A968-2E2D-47A8-B7F4-6C635AF194C3119",null,null,null,null,"09-04-01-03","Пусконаладочные работы КЛ 6 кВ, ВЛ 6 кВ на куст 3129.1 (объект 017.170.001-01)","комплекс работ",1,{"$f":"M119+N119+O119+P119+R119+S119","v":2.6970000000000001},0,0,1.296,0,0,0.88200000000000001,0.51900000000000002,null,null,null,null,null,{"$f":"(O119*$K$214)","v":0},36,{"$f":"(P119*$K$211)","v":0},{"$f":"(Q119*$K$214)","v":0},null,{"$f":"(R119*$K$214)","v":0},{"$f":"(S119*$K$214)","v":0},{"$f":"Y119+AA119+AD119+AE119","v":0}]
["ПНРОбъект","AEEAB128-A9D6-4DE1-ACE9-6CD791FCF82A",null,null,null,null,2,null,"ВЛ 6 кВ на куст 3129.2 (габ. 6 кВ) Приразломное м/р. Правдинский (КС00091313)"]
[null,null,"AEEAB128-A9D6-4DE1-ACE9-6CD791FCF82A116",null,null,null,null,"09-04-04-01","Пусконаладочные работы, ВЛ 6 кВ на куст 3129.2 (объект 017.170.001-02)","комплекс работ",1,{"$f":"M121+N121+O121+P121+R121+S121","v":8.6110000000000007},0,0,4.1399999999999997,0,0,2.8149999999999999,1.6559999999999999,null,null,null,null,null,{"$f":"(O121*$K$214)","v":0},107,{"$f":"(P121*$K$211)","v":0},{"$f":"(Q121*$K$214)","v":0},null,{"$f":"(R121*$K$214)","v":0},{"$f":"(S121*$K$214)","v":0},{"$f":"Y121+AA121+AD121+AE121","v":0}]
["ПНРИтог",null,null,null,null,null,null,null,"ИТОГО ПНР",null,null,{"$f":"SUM(L117:L121)","v":24.9},0,0,11.971,0,0,8.1399999999999988,4.7889999999999997,null,null,null,null,null,{"$f":"SUM(Y117:Y121)","v":0},311,0,0,0,0,0,0]
[]
[null,null,null,null,null,null,null,null,"ИТОГО С ПНР",null,null,{"$f":"L122+L114","v":8845.5184451840014},76.903999999999996,7170.1319999999996,199.84500000000003,961.01544518399987,63.132000000000005,280.89899999999989,156.72299999999998,0,0,0,0,0,0,14639.524400000002,0,0,1761.7003,0,0,0]
[]
["БлокГлава9ПТ",null,null,null,null,null,null,null,"Перебазировка техники сверх нормативной величины"]
["БлокГлава9ПТОбъект","5D57A968-2E2D-47A8-B7F4-6C635AF194C3",null,null,null,null,1,"ТЗ, ПОС","ВЛ 6 кВ на куст 3129.1 (габ.110 кВ) Приразломное м/р. Правдинский (КС00091309)",null,null,null,null,null,null,null,null,null,null,null,null,null,null,null,null,null,null,null,null,null,null,{"$f":"Перебазировка!$R$38/1000","v":0}]
["БлокГлава9ПТОбъект","AEEAB128-A9D6-4DE1-ACE9-6CD791FCF82A",null,null,null,null,2,"ТЗ, ПОС","ВЛ 6 кВ на куст 3129.2 (габ. 6 кВ) Приразломное м/р. Правдинский (КС00091313)",null,null,null,null,null,null,null,null,null,null,null,null,null,null,null,null,null,null,null,null,null,null,{"$f":"Перебазировка!$R$63/1000","v":0}]
["БлокГлава9ПТИтог",null,null,null,null,null,null,null,"Итого Перебазировка техники сверх нормативной величины",null,null,null,null,null,null,null,null,null,null,null,null,null,null,null,null,null,null,null,null,null,null,{"$f":"SUM(AF127:AF128)","v":0}]
[]
["БлокГлава9ВМ",null,null,null,null,null,null,null,"Затраты, связанные с осуществлением работ вахтовым методом"]
["БлокГлава9ВМОбъект","5D57A968-2E2D-47A8-B7F4-6C635AF194C3",null,null,null,null,1,"ТЗ, ПОС","ВЛ 6 кВ на куст 3129.1 (габ.110 кВ) Приразломное м/р. Правдинский (КС00091309)",null,null,null,null,null,null,null,null,null,null,null,null,null,null,null,null,null,null,null,null,null,null,{"$f":"'Ежеднев. возка и перевозка вахт'!$N$40/1000","v":0}]
["БлокГлава9ВМОбъект","AEEAB128-A9D6-4DE1-ACE9-6CD791FCF82A",null,null,null,null,2,"ТЗ, ПОС","ВЛ 6 кВ на куст 3129.2 (габ. 6 кВ) Приразломное м/р. Правдинский (КС00091313)",null,null,null,null,null,null,null,null,null,null,null,null,null,null,null,null,null,null,null,null,null,null,{"$f":"'Ежеднев. возка и перевозка вахт'!$N$45/1000","v":0}]
["БлокГлава9ВМИтог",null,null,null,null,null,null,null,"Итого Затраты, связанные с осуществлением работ вахтовым методом",null,null,null,null,null,null,null,null,null,null,null,null,null,null,null,null,null,null,null,null,null,null,{"$f":"SUM(AF132:AF133)","v":0}]
[]
[null,null,null,null,null,null,null,null,"Выплаты, связанные с вахтовым методом выполнения работ"]
[null,null,null,null,null,null,1,"Затраты компенсируются по фактическим затратам на основании подтверждающих документов.","ВЛ 6 кВ на куст 3129.1 (габ.110 кВ) Приразломное м/р. Правдинский (КС00091309)",null,null,null,null,null,null,null,null,null,null,null,null,null,null,null,null,null,null,null,null,null,null,{"$f":"'вахтовая надбавка'!E43/1000","v":{"$error":"#DIV/0!"}}]
[null,null,null,null,null,null,2,null,"ВЛ 6 кВ на куст 3129.2 (габ. 6 кВ) Приразломное м/р. Правдинский (КС00091313)",null,null,null,null,null,null,null,null,null,null,null,null,null,null,null,null,null,null,null,null,null,null,{"$f":"'вахтовая надбавка'!F43/1000","v":{"$error":"#DIV/0!"}}]
[null,null,null,null,null,null,null,null,"Итого Выплаты, связанные с вахтовым методом выполнения работ",null,null,null,null,null,null,null,null,null,null,null,null,null,null,null,null,null,null,null,null,null,null,{"$f":"AF137+AF138","v":{"$error":"#DIV/0!"}}]
[]
["БлокГлава9Т",null,null,null,null,null,null,null,"Затраты по перевозке автомобильным транспортом работников строительно-монтажных организаций"]
["БлокГлава9ТОбъект","5D57A968-2E2D-47A8-B7F4-6C635AF194C3",null,null,null,null,1,"ТЗ, ПОС","ВЛ 6 кВ на куст 3129.1 (габ.110 кВ) Приразломное м/р. Правдинский (КС00091309)",null,null,null,null,null,null,null,null,null,null,null,null,null,null,null,null,null,null,null,null,null,null,{"$f":"'Ежеднев. возка и перевозка вахт'!$N$38/1000","v":0}]
["БлокГлава9ТОбъект","AEEAB128-A9D6-4DE1-ACE9-6CD791FCF82A",null,null,null,null,2,"ТЗ, ПОС","ВЛ 6 кВ на куст 3129.2 (габ. 6 кВ) Приразломное м/р. Правдинский (КС00091313)",null,null,null,null,null,null,null,null,null,null,null,null,null,null,null,null,null,null,null,null,null,null,{"$f":"'Ежеднев. возка и перевозка вахт'!$N$43/1000","v":0}]
["БлокГлава9ТИтог",null,null,null,null,null,null,null,"Итого Затраты по перевозке автомобильным транспортом работников строительно-монтажных организаций",null,null,null,null,null,null,null,null,null,null,null,null,null,null,null,null,null,null,null,null,null,null,{"$f":"SUM(AF142:AF143)","v":0}]
[]
[null,null,null,null,null,null,null,null,"ИТОГО ПРОЧИЕ ЗАТРАТЫ",null,null,null,null,null,null,null,null,null,null,null,null,null,null,null,null,null,null,null,null,null,null,{"$f":"AF129+AF134+AF144+AF139","v":{"$error":"#DIV/0!"}}]
[]
[null,null,null,null,null,null,null,null,"ИТОГО С ПРОЧИМИ ЗАТРАТАМИ",null,null,{"$f":"L146+L124","v":8845.5184451840014},76.903999999999996,7170.1319999999996,199.84500000000003,961.01544518399987,63.132000000000005,280.89899999999989,156.72299999999998,0,0,0,0,0,0,14639.524400000002,0,0,1761.7003,0,0,{"$error":"#DIV/0!"}]
[]
["БлокМатериалыПП",null,"БлокМатериалыОПП",null,null,null,null,null,"Материалы и оборудование в текущем уровне цен согласно разделительной ведомости "]
["БлокМатериалыППОбъект","5D57A968-2E2D-47A8-B7F4-6C635AF194C3",null,null,null,null,1,null,"ВЛ 6 кВ на куст 3129.1 (габ.110 кВ) Приразломное м/р. Правдинский (КС00091309)",null,null,null,null,null,null,null,null,null,null,{"$f":"U151+V151+W151+X151","v":23513.197629999995},{"$f":"'РВ по лоту'!K396/1000","v":132.76544000000001},{"$f":"'РВ по лоту'!K395/1000","v":23380.432189999996},{"$f":"'РВ по лоту'!M396/1000","v":0},{"$f":"'РВ по лоту'!M395/1000","v":0},null,null,null,null,null,null,null,{"$f":"W151+X151","v":0},{"$f":"T151","v":23513.197629999995}]
["БлокМатериалыППОбъект","AEEAB128-A9D6-4DE1-ACE9-6CD791FCF82A",null,null,null,null,2,null,"ВЛ 6 кВ на куст 3129.2 (габ. 6 кВ) Приразломное м/р. Правдинский (КС00091313)",null,null,null,null,null,null,null,null,null,null,{"$f":"U152+V152+W152+X152","v":3383.1247900000008},{"$f":"'РВ по лоту'!K399/1000","v":125.98142},{"$f":"'РВ по лоту'!K398/1000","v":3257.1433700000007},{"$f":"'РВ по лоту'!M399/1000","v":0},{"$f":"'РВ по лоту'!M398/1000","v":0},null,null,null,null,null,null,null,{"$f":"W152+X152","v":0},{"$f":"T152","v":3383.1247900000008}]
["БлокМатериалыППИтог",null,null,null,null,null,null,null,"Итого Материалы и оборудование в текущем уровне цен согласно разделительной ведомости ",null,null,null,null,null,null,null,null,null,null,{"$f":"SUM(T151:T152)","v":26896.322419999997},{"$f":"SUM(U151:U152)","v":258.74686000000003},{"$f":"SUM(V151:V152)","v":26637.575559999997},{"$f":"SUM(W151:W152)","v":0},{"$f":"SUM(X151:X152)","v":0},null,null,null,null,null,null,null,{"$f":"SUM(AF151:AF152)","v":0},{"$f":"SUM(AG151:AG152)","v":26896.322419999997}]
[]
["БлокМатериалыЗПог",null,null,null,null,null,null,null,"Дополнительные затраты на траспортировку и погрузку щебня поставки Заказчика"]
["БлокМатериалыЗПогОбъект","5D57A968-2E2D-47A8-B7F4-6C635AF194C3",null,null,null,null,1,null,"ВЛ 6 кВ на куст 3129.1 (габ.110 кВ) Приразломное м/р. Правдинский (КС00091309)"]
["БлокМатериалыЗПогОбъект",null,null,null,null,null,null,null,"Стоимость дополнительных затрат на погрузку материалов Заказчика (щебень)","т",null,null,null,null,null,null,null,null,null,null,null,null,null,{"$f":"(N157+P157)*$K$229","v":0},null,null,null,null,null,null,null,{"$f":"X157","v":0},{"$f":"AF157","v":0}]
["БлокМатериалыЗПогОбъект","AEEAB128-A9D6-4DE1-ACE9-6CD791FCF82A",null,null,null,null,2,null,"ВЛ 6 кВ на куст 3129.2 (габ. 6 кВ) Приразломное м/р. Правдинский (КС00091313)"]
["БлокМатериалыЗПогОбъект",null,null,null,null,null,null,null,"Стоимость дополнительных затрат на погрузку материалов Заказчика (щебень)","т",null,null,null,null,null,null,null,null,null,null,null,null,null,{"$f":"(N159+P159)*$K$229","v":0},null,null,null,null,null,null,null,{"$f":"X159","v":0},{"$f":"AF159","v":0}]
["БлокМатериалыЗПогИтог",null,null,null,null,null,null,null,"Итого Дополнительные затраты на траспортировку и погрузку щебня поставки Заказчика",null,null,null,null,null,null,null,null,null,null,null,null,null,null,{"$f":"SUM(X156:X159)","v":0},null,null,null,null,null,null,null,{"$f":"SUM(AF156:AF159)","v":0},{"$f":"SUM(AG156:AG159)","v":0}]
[]
["БлокНЗОбъект",null,null,null,null,null,null,"МДС 81-35.2004","Непредвиденные затраты",null,{"$f":"$K$225","v":0},null,null,null,null,null,null,null,null,null,null,null,null,null,null,null,null,null,null,null,null,{"$f":"(AF148+AF160)*K162+M148*K162*$K$228+N148*K162*$K$213","v":{"$error":"#DIV/0!"}},{"$f":"(AF148+AF160)*K162+M148*K162*$K$228+N148*K162*$K$213+(AF148+AF160)*1.5%+M148*1.5%*$K$228+N148*1.5%*$K$213","v":{"$error":"#DIV/0!"}}]
[]
[null,null,null,null,null,null,null,null,"ИТОГО с учетом всех затрат",null,null,null,null,null,null,null,null,null,null,null,null,null,null,null,null,null,null,null,null,null,null,{"$f":"AF160+AF153+AF162+AF148","v":{"$error":"#DIV/0!"}},{"$f":"AG160+AG153+AG162+AF148","v":{"$error":"#DIV/0!"}}]
[null,null,null,null,null,null,null,null,"   - НДС",null,{"$f":"K220","v":0},null,null,null,null,null,null,null,null,null,null,null,null,null,null,null,null,null,null,null,null,{"$f":"AF164*K165","v":{"$error":"#DIV/0!"}},{"$f":"AG164*K165","v":{"$error":"#DIV/0!"}}]
[null,null,null,null,null,null,null,null,"ИТОГО с учетом НДС",null,null,null,null,null,null,null,null,null,null,null,null,null,null,null,null,null,null,null,null,null,null,{"$f":"AF164+AF165","v":{"$error":"#DIV/0!"}},{"$f":"AG164+AG165","v":{"$error":"#DIV/0!"}}]
[null,null,null,null,null,null,null,null,"Затраты на СМР без учета ТМЦ, ПНР,  врезки",null,null,null,null,null,null,null,null,null,null,null,null,null,null,null,null,null,null,null,null,null,null,{"$f":"AF166-AF168-AF169-AF170","v":{"$error":"#DIV/0!"}},{"$f":"AG166-AG168-AG169-AG170-AG171","v":{"$error":"#DIV/0!"}}]
[null,null,null,null,null,null,null,null,"Затраты на ТМЦ поставки подрядчика",null,null,null,null,null,null,null,null,null,null,null,null,null,null,null,null,null,null,null,null,null,null,{"$f":"AF153*(1+nds)","v":0},{"$f":"AF168","v":0}]
[null,null,null,null,null,null,null,null,"Затраты на ПНР с учетом непредвиденных расходов",null,null,null,null,null,null,null,null,null,null,null,null,null,null,null,null,null,null,null,null,null,null,{"$f":"AF122*(1+nds)+AF122*(1+nds)*1.5%","v":0},{"$f":"AF169","v":0}]
[null,null,null,null,null,null,null,null,"Затраты на врезку",null,null,null,null,null,null,null,null,null,null,null,null,null,null,null,null,null,null,null,null,null,null,0,{"$f":"AF170","v":0}]
[null,null,null,null,null,null,null,null,"Справочно:МТР поставки Заказчика",null,null,null,null,null,null,null,null,null,null,null,null,null,null,null,null,null,null,null,null,null,null,null,{"$f":"#REF!*1.2/1000","v":{"$error":"#REF!"}}]
[]
[null,null,null,null,null,null,null,"Распределение суммы договора по объектам лота"]
[]
[null,null,null,null,null,null,null,"№ п/п","Наименование объекта","Базовая стоимость МТР ",null,null,null,null,"Материалы, текущий у/ц согласно РВ",null,null,null,"Текущий уровень цен"]
[null,null,null,null,null,null,null,null,null,null,null,null,null,null,null,null,null,null,"ИТОГО СМР по гл.1-7, \nтыс. руб.","Глава 8",null,"ИТОГО СМР \nпо гл.1-8, \nтыс. руб. без НДС","Глава 9. Прочие работы и затраты",null,null,null,null,null,null,null,"ИТОГО УСЛУГИ  \nпо гл.1-9, \nтыс. руб. без НДС","Затраты на \nиспытание свай, \nтыс. руб. без НДС","Врезка","Разница в стоимости электроэнергии","Затраты на траспортировку и \nпогрузку щебня поставки Заказчика, \nтыс. руб. без НДС","Непредвиденные работы и затраты, \nтыс. руб. без НДС","Стоимость ВСЕГО без учета материалов и оборудования поставки Заказчика, \nтыс. руб.  с НДС","Стоимость ВСЕГО с учетом материалов и оборудования поставки Заказчика с учетом прочих затрат и НДС"]
[null,null,null,null,null,null,null,null,null,"ИТОГО \nглавы 1-7, \nтыс. руб.","ИТОГО \nглава 8, \nтыс. руб. ","ИТОГО \nпо гл.1-8, \nтыс. руб.","ИТОГО \nстоимость оборудования, \nтыс. руб.","ИТОГО \nстоимость материалов, \nтыс. руб.","Поставка Заказчика",null,"Поставка Подрядчика",null,null,"Лимит затрат на ВЗиС, учтенный нормативом, \nтыс. руб.","ВЗиС (ЛС) сверх лимита, учтенного нормативом, \nтыс. руб.",null,"Зимнее удорожание, \nтыс. руб. без НДС","Снегоборьба, \nтыс. руб. без НДС","Борьба \nс гнусом, \nтыс. руб. без НДС","Первон.очистка от снега, \nтыс. руб. без НДС","ПНР, \nтыс. руб. без НДС","Мобилизация, \nтыс. руб. без НДС","Вахтовая перевозка, \nтыс. руб. без НДС","Ежедневная \nвозка, \nтыс. руб. без НДС"]
[null,null,null,null,null,null,null,null,null,null,null,null,null,null,"Стоимость оборудования, тыс. руб.","Стоимость материалов, тыс. руб.","Стоимость оборудования, тыс. руб.","Стоимость материалов, тыс. руб."]
[null,null,null,null,null,null,null,1,2,3,4,5,5,5,6,7,8,9,10,11,12,13,14,15,16,17,18,19,20,21,22,23,24,25,26,27,28,29]
[null,null,null,null,null,null,null,"C11","C12","C13","C14","C15","C42","C43","C16","C17","C18","C19","C22","C23","C24","C25","C26","C27","C28","C29","C30","C31","C32","C33","C34","C36","C40","C41","C37","C35","C38","C39"]
[null,"5D57A968-2E2D-47A8-B7F4-6C635AF194C3",null,null,null,null,null,{"$f":"'Исходные данные'!$B$25","v":1},{"$f":"'Исходные данные'!$D$25 & \" \" & 'Исходные данные'!$E$25 & \" (\" & 'Исходные данные'!$F$25 & \")\"","v":"ВЛ 6 кВ на куст 3129.1 (габ.110 кВ) Приразломное м/р. Правдинский (КС00091309)"},{"$f":"SUM(N18:N28)","v":3968.8669999999997},{"$f":"SUM(N48:N78)","v":2080.2729999999997},{"$f":"J181+K181","v":6049.1399999999994},{"$f":"SUM(M18:M28)+SUM(M48:M78)+SUM(M108:M111)+SUM(M118:M119)","v":42.002000000000002},{"$f":"SUM(N18:N28)+SUM(N48:N78)+SUM(N108:N111)+SUM(N118:N119)","v":6049.1399999999994},{"$f":"'РВ по лоту'!K396/1000","v":132.76544000000001},{"$f":"'РВ по лоту'!K395/1000","v":23380.432189999996},{"$f":"'РВ по лоту'!M396/1000","v":0},{"$f":"'РВ по лоту'!M395/1000","v":0},{"$f":"SUM(AF18:AF28)","v":0},{"$f":"(S181+(J181)*$K$213)*$K$45","v":0},{"$f":"SUM(AF48:AF78)","v":0},{"$f":"S181+T181+U181","v":0},{"$f":"(V181+(L181)*$K$213)*$K$101","v":0},{"$f":"(V181+(L181)*$K$213)*$K$103","v":0},{"$f":"(V181+(L181)*$K$213)*$K$104","v":0},{"$f":"SUM(AF108:AF111)","v":0},{"$f":"SUM(AF118:AF119)","v":0},{"$f":"Перебазировка!$R$38/1000","v":0},{"$f":"'Ежеднев. возка и перевозка вахт'!$N$40/1000+'вахтовая надбавка'!E43/1000","v":{"$error":"#DIV/0!"}},{"$f":"'Ежеднев. возка и перевозка вахт'!$N$38/1000","v":0},{"$f":"SUM(V181:AD181)","v":{"$error":"#DIV/0!"}},null,null,null,{"$f":"SUM(AF157:AF157)","v":0},{"$f":"(AE181+AF181+AG181+AH181+AI181)*$K$162+M181*$K$228*$K$162+N181*$K$213*$K$162","v":{"$error":"#DIV/0!"}},{"$f":"(SUM(Q181:R181)+SUM(AE181:AJ181))*(1+$K$165)","v":{"$error":"#DIV/0!"}},{"$f":"(SUM(O181:R181)+SUM(AE181:AI181)+(AE181+AF181+AG181+AH181+AI181)*$K$162+M181*$K$228*$K$162+N181*$K$213*$K$162+(AE181+AF181+AG181+AH181+AI181)*1.5%+M181*$K$228*1.5%+N181*$K$213*1.5%)*(1+$K$165)","v":{"$error":"#DIV/0!"}}]
[null,"AEEAB128-A9D6-4DE1-ACE9-6CD791FCF82A",null,null,null,null,null,{"$f":"'Исходные данные'!$B$26","v":2},{"$f":"'Исходные данные'!$D$26 & \" \" & 'Исходные данные'!$E$26 & \" (\" & 'Исходные данные'!$F$26 & \")\"","v":"ВЛ 6 кВ на куст 3129.2 (габ. 6 кВ) Приразломное м/р. Правдинский (КС00091313)"},{"$f":"SUM(N30:N37)","v":602.56799999999998},{"$f":"SUM(N80:N91)","v":518.42399999999998},{"$f":"J182+K182","v":1120.992},{"$f":"SUM(M30:M37)+SUM(M80:M91)+SUM(M121:M121)","v":34.902000000000001},{"$f":"SUM(N30:N37)+SUM(N80:N91)+SUM(N121:N121)","v":1120.992},{"$f":"'РВ по лоту'!K399/1000","v":125.98142},{"$f":"'РВ по лоту'!K398/1000","v":3257.1433700000007},{"$f":"'РВ по лоту'!M399/1000","v":0},{"$f":"'РВ по лоту'!M398/1000","v":0},{"$f":"SUM(AF30:AF37)","v":0},{"$f":"(S182+(J182)*$K$213)*$K$46","v":0},{"$f":"SUM(AF80:AF91)","v":0},{"$f":"S182+T182+U182","v":0},{"$f":"(V182+(L182)*$K$213)*$K$102","v":0},{"$f":"(V182+(L182)*$K$213)*$K$103","v":0},{"$f":"(V182+(L182)*$K$213)*$K$104","v":0},null,{"$f":"SUM(AF121:AF121)","v":0},{"$f":"Перебазировка!$R$63/1000","v":0},{"$f":"'Ежеднев. возка и перевозка вахт'!$N$45/1000+'вахтовая надбавка'!F43/1000","v":{"$error":"#DIV/0!"}},{"$f":"'Ежеднев. возка и перевозка вахт'!$N$43/1000","v":0},{"$f":"SUM(V182:AD182)","v":{"$error":"#DIV/0!"}},null,null,null,{"$f":"SUM(AF159:AF159)","v":0},{"$f":"(AE182+AF182+AG182+AH182+AI182)*$K$162+M182*$K$228*$K$162+N182*$K$213*$K$162","v":{"$error":"#DIV/0!"}},{"$f":"(SUM(Q182:R182)+SUM(AE182:AJ182))*(1+$K$165)","v":{"$error":"#DIV/0!"}},{"$f":"(SUM(O182:R182)+SUM(AE182:AI182)+AJ182*2)*(1+$K$165)","v":{"$error":"#DIV/0!"}}]
[null,null,null,null,null,null,null,null,"ВСЕГО",{"$f":"SUM(J181:J182)","v":4571.4349999999995},2598.6969999999997,7170.1319999999996,76.903999999999996,7170.1319999999996,258.74686000000003,26637.575559999997,0,0,0,0,0,0,0,0,0,0,0,0,{"$error":"#DIV/0!"},0,{"$f":"SUM(AE181:AE182)","v":{"$error":"#DIV/0!"}},0,0,0,0,{"$error":"#DIV/0!"},{"$error":"#DIV/0!"},{"$error":"#DIV/0!"}]
[null,null,null,null,null,null,null,null,null,{"$f":"J183-N38","v":0},{"$f":"K183-N92","v":0},{"$f":"L183-N94","v":0},null,null,{"$f":"O183-U153","v":0},{"$f":"P183-V153","v":0},{"$f":"Q183-W153","v":0},{"$f":"R183-X153","v":0},{"$f":"S183-AF38","v":0},{"$f":"T183-(AF45+AF46)","v":0},{"$f":"U183-(AF92-(AF45+AF46))","v":0},{"$f":"V183-AF94","v":0},{"$f":"W183-(AF101+AF102)","v":0},{"$f":"X183-(AF103)","v":0},{"$f":"Y183-(AF104)","v":0},{"$f":"Z183-AF112","v":0},{"$f":"AA183-AF122","v":0},{"$f":"AB183-AF129","v":0},{"$f":"AC183-AF134-AF139","v":{"$error":"#DIV/0!"}},{"$f":"AD183-AF144","v":0},{"$f":"AE183-(AF124+AF146)","v":{"$error":"#DIV/0!"}},null,null,null,{"$f":"AI183-AF160","v":0},{"$f":"AJ183-(AF162)","v":{"$error":"#DIV/0!"}},{"$f":"AK183-AF166","v":{"$error":"#DIV/0!"}},{"$f":"AL183-AG166","v":{"$error":"#DIV/0!"}}]
["lastRow"]
[null,null,null,null,null,null,null,"Стоимость строительства объекта в прогнозном уровне цен"]
[]
[null,null,null,null,null,null,null,"№ п/п","Наименование показателя",null,{"$f":"'Исходные данные'!V21","v":2021},null,null,null,{"$f":"K188+1","v":2022},null,null,null,{"$f":"O188+1","v":2023},null,null,null,{"$f":"S188+1","v":2024},null,null,null,"Итоговый показатель"]
[null,null,null,null,null,null,null,null,null,null,"I квартал","II квартал","III квартал","IV квартал","I квартал","II квартал","III квартал","IV квартал","I квартал","II квартал","III квартал","IV квартал","I квартал","II квартал","III квартал","IV квартал"]
["БлокПрогнозОбщий",null,null,null,null,null,null,1,"Прогнозное распределение СМР без учета ТМЦ и ПНР","%",0,0,0,0.6,0.4,0,0,0,0,0,0,0,0,0,0,0,{"$f":"IF((K190+L190+M190+N190+O190+P190+Q190+R190+S190+T190+U190+V190+W190+X190+Y190+Z190)<>100%,\"ОШИБКА\",1)","v":1}]
[null,null,null,null,null,null,null,2,"Прогнозное распределение ТМЦ поставки Подрядчика","%",{"$f":"K190","v":0},{"$f":"L190","v":0},0,0.6,0.4,0,0,0,0,0,0,0,0,0,0,0,{"$f":"IF((K191+L191+M191+N191+O191+P191+Q191+R191+S191+T191+U191+V191+W191+X191+Y191+Z191)<>100%,\"ОШИБКА\",1)","v":1}]
[null,null,null,null,null,null,null,3,"Прогнозное распределение ПНР","%",{"$f":"K190","v":0},{"$f":"L190","v":0},0,0.6,0.4,0,0,0,0,0,0,0,0,0,0,0,{"$f":"IF((K192+L192+M192+N192+O192+P192+Q192+R192+S192+T192+U192+V192+W192+X192+Y192+Z192)<>100%,\"ОШИБКА\",1)","v":1}]
[null,null,null,null,null,null,null,4,"Прогнозное распределение врезки","%",{"$f":"K190","v":0},{"$f":"L190","v":0},0,0.6,0.4,0,0,0,0,0,0,0,0,0,0,0,{"$f":"IF((K193+L193+M193+N193+O193+P193+Q193+R193+S193+T193+U193+V193+W193+X193+Y193+Z193)<>100%,\"ОШИБКА\",1)","v":1}]
[null,null,null,null,null,null,null,5,"Стоимость СМР без учета ТМЦ и ПНР в прогнозном распределении","тыс. руб.",{"$f":"K190*AF167","v":{"$error":"#DIV/0!"}},{"$f":"L190*AF167","v":{"$error":"#DIV/0!"}},{"$f":"M190*AF167","v":{"$error":"#DIV/0!"}},{"$f":"N190*AF167","v":{"$error":"#DIV/0!"}},{"$f":"O190*AF167","v":{"$error":"#DIV/0!"}},{"$f":"P190*AF167","v":{"$error":"#DIV/0!"}},{"$f":"Q190*AF167","v":{"$error":"#DIV/0!"}},{"$f":"R190*AF167","v":{"$error":"#DIV/0!"}},{"$f":"S190*AF167","v":{"$error":"#DIV/0!"}},{"$f":"T190*AF167","v":{"$error":"#DIV/0!"}},{"$f":"U190*AF167","v":{"$error":"#DIV/0!"}},{"$f":"V190*AF167","v":{"$error":"#DIV/0!"}},{"$f":"W190*AF167","v":{"$error":"#DIV/0!"}},{"$f":"X190*AF167","v":{"$error":"#DIV/0!"}},{"$f":"Y190*AF167","v":{"$error":"#DIV/0!"}},{"$f":"Z190*AF167","v":{"$error":"#DIV/0!"}},{"$f":"SUM(K194:Z194)","v":{"$error":"#DIV/0!"}}]
[null,null,null,null,null,null,null,6,"Стоимость ТМЦ поставки Подрядчика в прогнозном распределении","тыс. руб.",{"$f":"K191*AF168","v":0},{"$f":"L191*AF168","v":0},{"$f":"M191*AF168","v":0},{"$f":"N191*AF168","v":0},{"$f":"O191*AF168","v":0},{"$f":"P191*AF168","v":0},{"$f":"Q191*AF168","v":0},{"$f":"R191*AF168","v":0},{"$f":"S191*AF168","v":0},{"$f":"T191*AF168","v":0},{"$f":"U191*AF168","v":0},{"$f":"V191*AF168","v":0},{"$f":"W191*AF168","v":0},{"$f":"X191*AF168","v":0},{"$f":"Y191*AF168","v":0},{"$f":"Z191*AF168","v":0},{"$f":"SUM(K195:Z195)","v":0}]
[null,null,null,null,null,null,null,7,"Стоимость ПНР в прогнозном распределении","тыс. руб.",{"$f":"K192*AF169","v":0},{"$f":"L192*AF169","v":0},{"$f":"M192*AF169","v":0},{"$f":"N192*AF169","v":0},{"$f":"O192*AF169","v":0},{"$f":"P192*AF169","v":0},{"$f":"Q192*AF169","v":0},{"$f":"R192*AF169","v":0},{"$f":"S192*AF169","v":0},{"$f":"T192*AF169","v":0},{"$f":"U192*AF169","v":0},{"$f":"V192*AF169","v":0},{"$f":"W192*AF169","v":0},{"$f":"X192*AF169","v":0},{"$f":"Y192*AF169","v":0},{"$f":"Z192*AF169","v":0},{"$f":"SUM(K196:Z196)","v":0}]
[null,null,null,null,null,null,null,8,"Стоимость врезки в прогнозном распределении","тыс. руб.",{"$f":"K193*AF170","v":0},{"$f":"L193*AF170","v":0},{"$f":"M193*AF170","v":0},{"$f":"N193*AF170","v":0},{"$f":"O193*AF170","v":0},{"$f":"P193*AF170","v":0},{"$f":"Q193*AF170","v":0},{"$f":"R193*AF170","v":0},{"$f":"S193*AF170","v":0},{"$f":"T193*AF170","v":0},{"$f":"U193*AF170","v":0},{"$f":"V193*AF170","v":0},{"$f":"W193*AF170","v":0},{"$f":"X193*AF170","v":0},{"$f":"Y193*AF170","v":0},{"$f":"Z193*AF170","v":0},{"$f":"SUM(K197:Z197)","v":0}]
[null,null,null,null,null,null,null,9,"Всего стоимость СМР в прогнозном уровне цен","тыс. руб.",{"$f":"K195+K194+K196+K197","v":{"$error":"#DIV/0!"}},{"$f":"L195+L194+L196+L197","v":{"$error":"#DIV/0!"}},{"$f":"M195+M194+M196+M197","v":{"$error":"#DIV/0!"}},{"$error":"#DIV/0!"},{"$error":"#DIV/0!"},{"$error":"#DIV/0!"},{"$error":"#DIV/0!"},{"$error":"#DIV/0!"},{"$error":"#DIV/0!"},{"$error":"#DIV/0!"},{"$error":"#DIV/0!"},{"$error":"#DIV/0!"},{"$error":"#DIV/0!"},{"$error":"#DIV/0!"},{"$error":"#DIV/0!"},{"$error":"#DIV/0!"},{"$f":"SUM(K198:Z198)","v":{"$error":"#DIV/0!"}}]
[null,null,null,null,null,null,null,null,"*     Доля освоения в соответствующем квартале рассчитывается как выраженное в процентах отношение объема работ в стоимостном выражении, планируемого к выполнению в соответствующем квартале, к общему объему работ в стоимостном выражении"]
[]
[null,null,null,null,null,null,null,"Примечание : расчет должен быть выполнен на основании утвержденной ПСД и технического задания с включением в него всех работ и затрат, указанных в техническом задании и проектной документации"]
[]
[null,null,null,null,null,null,null,"Ценовые нормативы, применяемые при расчете Договорной цены"]
[]
[null,null,null,null,null,null,null,"№ п/п","Наименование","Единица измерения","Ценовые нормативы \nТСНБ"]
[null,null,null,null,null,null,null,1,2,3,4]
[null,null,null,null,null,null,null,"C10","C11","C14","C12"]
[null,null,null,null,null,null,null,1,"Часовая тарифная ставка  рабочего 4 разряда в  уровне цен 2001г.","руб./час",30.23]
[null,null,null,null,null,null,null,{"$f":"H208+1","v":2},"Часовая тарифная ставка  рабочего 4 разряда в текущем уровне цен","руб./час"]
[null,null,null,null,null,null,"Price1",{"$f":"H209+1","v":3},"Индекс оплаты труда основных рабочих и механизаторов СМР",null,{"$f":"ROUND(K209/K208,2)","v":0}]
[null,null,null,null,null,null,"Price2",4,"Индекс эксплуатации машин и механизмов СМР"]
[null,null,null,null,null,null,"Price3",5,"Индекс на перевозку грузов"]
[null,null,null,null,null,null,"Price4",6,"Индекс МТР (для расчета лимитированных затрат) СМР"]
[null,null,null,null,null,null,"Price5",7,"Индекс к оплате труда пусконаладочного персонала"]
[null,null,null,null,null,null,"Price8",8,"Коэффициент к накладным расходам для СМР ",null,1]
[null,null,null,null,null,null,"Price9",9,"Коэффициент к сметной прибыли для СМР",null,1]
[null,null,null,null,null,null,"Price10",10,"Коэффициент к накладным расходам для СМР (для работ по строительству мостов)",null,1]
[null,null,null,null,null,null,"Price11",11,"Коэффициент к сметной прибыли для СМР (для работ по строительству мостов)",null,1]
[null,null,null,null,null,null,"Price14",12,"Средневзвешенный курс евро 2013г.","руб."]
[null,null,null,null,null,null,"Price15",10,"НДС","%"]
[null,null,null,null,null,null,"Price19",11,"Норма затрат на временные здания и сооружения","%"]
[null,null,null,null,null,null,"Price20",12,"Норма затрат на удорожание работ в зимний период","%"]
[null,null,null,null,null,null,"Price21",13,"Норма затрат на снегоборьбу","%"]
[null,null,null,null,null,null,"Price22",14,"Норма затрат на борьбу с гнусом","%"]
[null,null,null,null,null,null,"Price23",15,"Норматив непредвиденных расходов","%"]
[null,null,null,null,null,null,"Price25",16,"Индекс на динамическое испытание свай"]
[null,null,null,null,null,null,"Price24",16,"Индекс МТР для определения текущей стоимости вспомогательных материалов поставки Подрядчика"]
[null,null,null,null,null,null,"Price26",17,"Индекс МТР для определения текущей стоимости оборудования поставки Подрядчика"]
["lastRow2",null,null,null,null,null,"Price27",18,"Индекс на погрузочно-разгрузочные работы"]
[null,null,null,null,null,null,null,19,"Устройство лежневого настила","руб/м2"]
[null,null,null,null,null,null,null,20,"Демонтаж лежневого настила","руб/м2"]
[null,null,null,null,null,null,null,21,"Норма затрат на временные здания и сооружения (ВЛ 6 кВ на куст 3129.1 в габ.110кВ)","%"]
[null,null,null,null,null,null,null,22,"Норма затрат на удорожание работ в зимний период (ВЛ 6 кВ на куст 3129.1 в габ.110кВ)","%"]
[null,null,null,null,null,null,null,23,"Индекс на прочие затраты"]

{"sheet":"priceTemplate","index":11,"n_rows":132,"n_cols":34,"rows_kept":132,"cut":false,"hidden":true,"merged":[[127,13,127,14],[111,25,112,25],[111,9,111,12],[111,13,111,16],[111,17,111,20],[111,21,111,24],[127,11,127,12],[122,7,122,25],[10,6,13,6],[10,7,13,7],[10,8,13,8],[11,18,13,18],[11,32,13,32],[11,25,13,25],[11,26,13,26],[11,27,13,27],[11,24,13,24],[11,31,13,31],[12,15,13,15],[11,10,13,10],[11,19,11,22],[120,5,120,6],[118,5,118,6],[119,5,119,6],[117,5,117,6],[109,7,109,25],[111,5,112,6],[111,7,112,7],[111,8,112,8],[115,5,115,6],[3,6,3,10],[6,6,6,10],[11,29,13,29],[11,23,13,23],[12,11,13,11],[12,12,13,12],[12,13,13,13],[12,19,12,20],[12,21,12,22],[12,16,13,16],[12,17,13,17],[12,14,13,14],[10,18,10,33],[11,28,13,28],[11,33,13,33],[11,30,13,30],[4,6,4,10],[131,13,131,14],[131,11,131,12],[130,13,130,14],[130,11,130,12],[128,13,128,14],[128,11,128,12],[10,9,13,9],[113,5,113,6],[114,5,114,6],[116,5,116,6],[121,5,121,6],[10,5,13,5],[8,6,8,10],[10,10,10,17],[11,11,11,17]]}
[]
[]
[]
[null,null,null,null,null,null,"Расчет стоимости стоительства объекта"]
[null,null,null,null,null,null,{"$f":"'Исходные данные'!D19","v":"Строительство объектов энергетики Правдинского региона"}]
["95B8996E-A92E-40F2-8A9B-251AB1F004D4",null,null,null,null,null,null,null,null,null,null,null,"Шифр проекта",{"$f":"'Исходные данные'!projectcode","v":"1980615/0880Д"},null,null,null,null,"5.50"]
[null,null,null,null,null,null,null,null,null,null,null,null,"Разработчик проекта",{"$f":"'Исходные данные'!projectdeveloper","v":"ООО «РН-УфаНИПИнефть»"}]
[null,null,null,null,null,null,null,null,null,null,null,null,"Заказчик","ООО \"РН-Юганскнефтегаз\""]
[null,null,null,null,null,null,null,null,null,null,null,null,null,{"$f":"'Исходные данные'!lotNumber","v":"2000350438 (680-20-КС(ТЗ))"}]
[]
[null,null,null,null,null,"№","Обоснование (№ЛС)","Наименование работ и затрат","Единица измерения мощности (км, м3, шт и т.д.)","Количество","Базисный уровень цен 2001г.",null,null,null,null,null,null,null,"Текущий уровень цен"]
[null,null,null,null,null,null,null,null,null,null,"Стоимость объекта всего, тыс. руб.","в том числе:",null,null,null,null,null,null,"Стоимость МТР всего, тыс. руб.","в том числе:",null,null,null,"Оплата труда  основных рабочих, тыс.руб.","Трудозатраты основных рабочих, чел-час","Затраты на эксплуатацию машин и механизмов,  тыс. руб.","Оплата труда механизаторов, тыс.руб.","Трудозатраты рабочих-механизаторов, чел-час","Накладные расходы, тыс. руб.","Сметная прибыль, тыс. руб.","Стоимость строительства объекта без учета затрат Заказчика, тыс. руб.","Общая стоимость строительства объекта (с учетом затрат Заказчика), тыс. руб.","Полная стоимость с учетом материалов и оборудования поставки Заказчика"," Полная стоимость с учетом материалов и оборудования поставки Заказчика с учетом прочих затрат и НДС"]
[null,null,null,null,null,null,null,null,null,null,null,"Стоимость оборудования всего, тыс. руб.","Стоимость материалов всего, тыс. руб.","Оплата труда основных рабочих, тыс. руб.","Стоимость ЭММ, тыс. руб.","в том числе оплата труда механизаторов, тыс. руб.","Накладные расходы, тыс. руб.","Сметная прибыль, тыс. руб.",null,"Поставка Заказчика",null,"Поставка Подрядчика"]
[null,null,null,null,null,null,null,null,null,null,null,null,null,null,null,null,null,null,null,"Стоимость оборудования, тыс. руб.","Стоимость материалов, тыс. руб.","Стоимость оборудования, тыс. руб.","Стоимость материалов, тыс. руб."]
[null,null,null,null,null,1,2,3,4,5,6,7,8,9,10,11,12,13,14,15,16,17,18,19,20,21,22,23,24,25,26,27,28,29]
[null,"outlay_code","exception_code","exception_type","exception_mark","C10","C11","C12","C13","C14","C15","C16","C17","C18","C19","C20","C21","C22","C23","C24","C25","C26","C27","C28","C29","C30","C31","C32","C33","C34","C35","C36","C37","C38"]
["Глава 1 Лес",null,null,null,null,null,null,"ГЛАВА 1. Подготовка территории строительства"]
["Глава 1 ЛесШаблон",null,null,null,null,null,null,null,null,null,{"$f":"L18+M18+N18+O18+Q18+R18","v":0},null,null,null,null,null,null,null,null,null,null,null,null,{"$f":"N18*'Ценовые нормативы'!$E$17","v":0},null,{"$f":"O18*'Ценовые нормативы'!$E$18","v":0},{"$f":"P18*'Ценовые нормативы'!$E$17","v":0},null,{"$f":"Q18*'Ценовые нормативы'!$E$17*'Ценовые нормативы'!$E$24","v":0},{"$f":"R18*'Ценовые нормативы'!$E$17*'Ценовые нормативы'!$E$25","v":0},{"$f":"X18+Z18+AC18+AD18","v":0}]
["Глава 1 ЛесИтог",null,null,null,null,null,null,"Итог 1 Лес",null,null,{"$f":"SUM(K18)","v":0},0,0,0,0,0,0,0,null,null,null,null,null,{"$f":"SUM(X18)","v":0},0,0,0,0,0,0,0]
["Глава 1 Прочие"]
["Глава 1 ПрочиеШаблон",null,null,null,null,null,null,null,null,null,{"$f":"L21+M21+N21+O21+Q21+R21","v":0},null,null,null,null,null,null,null,null,null,null,null,null,{"$f":"N21*'Ценовые нормативы'!$E$17","v":0},null,{"$f":"O21*'Ценовые нормативы'!$E$18","v":0},{"$f":"P21*'Ценовые нормативы'!$E$17","v":0},null,{"$f":"Q21*'Ценовые нормативы'!$E$17*'Ценовые нормативы'!$E$24","v":0},{"$f":"R21*'Ценовые нормативы'!$E$17*'Ценовые нормативы'!$E$25","v":0},{"$f":"X21+Z21+AC21+AD21","v":0}]
["Глава 1 ПрочиеИтог",null,null,null,null,null,null,null,null,null,{"$f":"SUM(K21)","v":0},0,0,0,0,0,0,0,null,null,null,null,null,{"$f":"SUM(X21)","v":0},0,0,0,0,0,0,0]
["Глава 1Итог",null,null,null,null,null,null,"ИТОГО ГЛАВА 1. Подготовка территории строительства",null,null,{"$f":"K22+K19","v":0},0,0,0,0,0,0,0,null,null,null,null,null,{"$f":"X22+X19","v":0},0,0,0,0,0,0,0]
[]
["Глава 2-7",null,null,null,null,null,null,"ГЛАВЫ 2-7. Основные объекты строительства"]
["Глава 2-7Шаблон",null,null,null,null,null,null,null,null,null,{"$f":"L26+M26+N26+O26+Q26+R26","v":0},null,null,null,null,null,null,null,null,null,null,null,null,{"$f":"N26*'Ценовые нормативы'!$E$17","v":0},null,{"$f":"O26*'Ценовые нормативы'!$E$18","v":0},{"$f":"P26*'Ценовые нормативы'!$E$17","v":0},null,{"$f":"Q26*'Ценовые нормативы'!$E$17*'Ценовые нормативы'!$E$24","v":0},{"$f":"R26*'Ценовые нормативы'!$E$17*'Ценовые нормативы'!$E$25","v":0},{"$f":"X26+Z26+AC26+AD26","v":0}]
["Глава 2-7Итог",null,null,null,null,null,null,"ИТОГО ГЛАВЫ 2-7. Основные объекты строительства",null,null,{"$f":"SUM(K26)","v":0},0,0,0,0,0,0,0,null,null,null,null,null,{"$f":"SUM(X26)","v":0},0,0,0,0,0,0,0]
[]
[null,null,null,null,null,null,null,"ИТОГО ГЛАВЫ 1-7",null,null,{"$f":"K27+K23","v":0},0,0,0,0,0,0,0,null,null,null,null,null,{"$f":"X27+X23","v":0},0,0,0,0,0,0,0]
[]
[null,null,null,null,null,null,null,"Лимит базы 2001г  МТР для начисления лимитированных",null,null,{"$f":"L29+M31+N29+O29+Q29+R29","v":0},null,{"$f":"M29","v":0}]
[]
[null,null,null,null,null,null,null,"ГЛАВА 8. Временные здания и сооружения"]
["Глава 8 ВЗиС",null,null,null,null,null,"ГСН 81-05-01-2001","Временные здания и сооружения",null,{"$f":"'Ценовые нормативы'!$E$35","v":2.5000000000000001E-2},{"$f":"(K31-L29)*J34","v":0},null,null,null,null,null,null,null,null,null,null,null,null,null,null,null,null,null,null,null,{"$f":"(AE29*J34) + (M31*J34*'Ценовые нормативы'!$E$20)","v":0}]
["Глава 8 ВЗиСШаблон",null,null,null,null,null,null,null,null,null,{"$f":"L35+M35+N35+O35+Q35+R35","v":0},null,null,null,null,null,null,null,null,null,null,null,null,{"$f":"N35*'Ценовые нормативы'!$E$17","v":0},null,{"$f":"O35*'Ценовые нормативы'!$E$18","v":0},{"$f":"P35*'Ценовые нормативы'!$E$17","v":0},null,{"$f":"Q35*'Ценовые нормативы'!$E$17*'Ценовые нормативы'!$E$24","v":0},{"$f":"R35*'Ценовые нормативы'!$E$17*'Ценовые нормативы'!$E$25","v":0},{"$f":"X35+Z35+AC35+AD35","v":0}]
["Глава 8 ВЗиСИтог",null,null,null,null,null,null,null,null,null,{"$f":"SUM(K35)","v":0},0,0,0,0,0,0,0,null,null,null,null,null,{"$f":"SUM(X35)","v":0},0,0,0,0,0,0,0]
["Глава 8 Зимник"]
["Глава 8 ЗимникШаблон",null,null,null,null,null,null,null,null,null,{"$f":"L38+M38+N38+O38+Q38+R38","v":0},null,null,null,null,null,null,null,null,null,null,null,null,{"$f":"N38*'Ценовые нормативы'!$E$17","v":0},null,{"$f":"O38*'Ценовые нормативы'!$E$18","v":0},{"$f":"P38*'Ценовые нормативы'!$E$17","v":0},null,{"$f":"Q38*'Ценовые нормативы'!$E$17*'Ценовые нормативы'!$E$24","v":0},{"$f":"R38*'Ценовые нормативы'!$E$17*'Ценовые нормативы'!$E$25","v":0},{"$f":"X38+Z38+AC38+AD38","v":0}]
["Глава 8 ЗимникИтог",null,null,null,null,null,null,null,null,null,{"$f":"SUM(K38)","v":0},0,0,0,0,0,0,0,null,null,null,null,null,{"$f":"SUM(X38)","v":0},0,0,0,0,0,0,0]
["Глава 8Итог",null,null,null,null,null,null,"ИТОГО ГЛАВА 8. Временные здания и сооружения",null,null,{"$f":"K34+K36+K39","v":0},0,0,0,0,0,0,0,null,null,null,null,null,{"$f":"X34+X36+X39","v":0},0,0,0,0,0,0,0]
[]
[null,null,null,null,null,null,null,"ИТОГО ГЛАВЫ 1-8",null,null,{"$f":"K29+K40","v":0},0,0,0,0,0,0,0,null,null,null,null,null,{"$f":"X29+X40","v":0},0,0,0,0,0,0,0]
[]
[null,null,null,null,null,null,null,"Лимит базы 2001г  МТР для начисления лимитированных",null,null,{"$f":"L42+M44+N42+O42+Q42+R42","v":0},null,{"$f":"M42","v":0}]
[]
[null,null,null,null,null,null,null,"ГЛАВА 9. Прочие работы и затраты"]
[null,null,null,null,null,null,null," Прочие затраты"]
[null,null,null,null,null,null,"ГСН 81-05-02-2007","Зимнее удорожание",null,{"$f":"'Ценовые нормативы'!$E$36","v":3.6999999999999998E-2},{"$f":"(K44-L42)*J48","v":0},null,null,null,null,null,null,null,null,null,null,null,null,null,null,null,null,null,null,null,{"$f":"(AE42*J48)+(M44*J48*'Ценовые нормативы'!$E$20)","v":0}]
[null,null,null,null,null,1,"ГСН 81-05-02-2007","Снегоборьба",null,{"$f":"'Ценовые нормативы'!$E$37","v":4.0000000000000001E-3},{"$f":"(K44-L42)*J49","v":0},null,null,null,null,null,null,null,null,null,null,null,null,null,null,null,null,null,null,null,{"$f":"(AE42*J49)+(M44*J49*'Ценовые нормативы'!$E$20)","v":0}]
[null,null,null,null,null,{"$f":"F49+1","v":2},"МДС 81-35.2004","Борьба с гнусом",null,{"$f":"'Ценовые нормативы'!$E$38","v":1E-3},{"$f":"(K44-L42)*J50","v":0},null,null,null,null,null,null,null,null,null,null,null,null,null,null,null,null,null,null,null,{"$f":"(AE42*J50)+(M44*J50*'Ценовые нормативы'!$E$20)","v":0}]
[null,null,null,null,null,null,null,"Итого прочие затраты",null,null,{"$f":"SUM(K48:K50)","v":0},0,0,0,0,0,0,0,null,null,null,null,null,{"$f":"SUM(X48:X50)","v":0},0,0,0,0,0,0,0]
[]
["Глава 9",null,null,null,null,null,null,"Прочие работы"]
["Глава 9Шаблон",null,null,null,null,null,null,null,null,null,{"$f":"L54+M54+N54+O54+Q54+R54","v":0},null,null,null,null,null,null,null,null,null,null,null,null,{"$f":"N54*'Ценовые нормативы'!$E$17","v":0},null,{"$f":"O54*'Ценовые нормативы'!$E$18","v":0},{"$f":"P54*'Ценовые нормативы'!$E$17","v":0},null,{"$f":"Q54*'Ценовые нормативы'!$E$17*'Ценовые нормативы'!$E$24","v":0},{"$f":"R54*'Ценовые нормативы'!$E$17*'Ценовые нормативы'!$E$25","v":0},{"$f":"X54+Z54+AC54+AD54","v":0}]
["Глава 9Итог",null,null,null,null,null,null,"Итого Прочие",null,null,{"$f":"SUM(K54)","v":0},0,0,0,0,0,0,0,null,null,null,null,null,{"$f":"SUM(X54)","v":0},0,0,0,0,0,0,0]
[]
["ПНР",null,null,null,null,null,null,"ПНР"]
["ПНРШаблон",null,null,null,null,null,null,null,null,null,{"$f":"L58+M58+N58+O58+Q58+R58","v":0},null,null,null,null,null,null,null,null,null,null,null,null,{"$f":"N58*'Ценовые нормативы'!$E$21","v":0},null,{"$f":"O58*'Ценовые нормативы'!$E$18","v":0},{"$f":"P58*'Ценовые нормативы'!$E$21","v":0},null,{"$f":"Q58*'Ценовые нормативы'!$E$21","v":0},{"$f":"R58*'Ценовые нормативы'!$E$21","v":0},{"$f":"X58+Z58+AC58+AD58","v":0}]
["ПНРИтог",null,null,null,null,null,null,"Итого ПНР",null,null,{"$f":"SUM(K58)","v":0},0,0,0,0,0,0,0,null,null,null,null,null,{"$f":"SUM(X58)","v":0},0,0,0,0,0,0,0]
[]
["Врезка",null,null,null,null,null,null,"Врезка"]
["ВрезкаШаблон",null,null,null,null,null,null,null,null,null,null,null,null,null,null,null,null,null,null,null,null,null,null,null,null,null,null,null,null,null,{"$f":"J62*K62*'Ценовые нормативы'!$E$30","v":0}]
["ВрезкаИтог",null,null,null,null,null,null,"Итого Врезка",null,null,{"$f":"SUM(K62)","v":0},0,0,0,0,0,0,0,null,null,null,null,null,{"$f":"SUM(X62)","v":0},0,0,0,0,0,0,0]
[]
["Разница в стоимости электроэнергии",null,null,null,null,null,null,"Разница в стоимости электроэнергии"]
["Разница в стоимости электроэнергииШаблон"]
["Разница в стоимости электроэнергииИтог",null,null,null,null,null,null,"Итого Разница в стоимости электроэнергии",null,null,{"$f":"SUM(K66)","v":0},0,0,0,0,0,0,0,null,null,null,null,null,{"$f":"SUM(X66)","v":0},0,0,0,0,0,0,0]
[]
[null,null,null,null,null,null,null,"Перебазировка техники сверх нормативной величины (учтенной в расценках на ЭММ)"]
[null,null,null,null,null,null,null,"Затраты, связанные с осуществлением работ вахтовым методом"]
[null,null,null,null,null,null,null,"Затраты по перевозке автомобильным транспортом работников строительно-монтажных организаций"]
[]
[null,null,null,null,null,null,null,"ИТОГО ГЛАВА 9. Прочие работы и затраты",null,null,{"$f":"K51+K55+K59+K63+K67+K69+K70+K71","v":0},0,0,0,0,0,0,0,null,null,null,null,null,{"$f":"X51+X55+X59+X63+X67+X69+X70+X71","v":0},0,0,0,0,0,0,0]
[]
[null,null,null,null,null,null,null,"ИТОГО ГЛАВЫ 1-9",null,null,{"$f":"K42+K73","v":0},0,0,0,0,0,0,0,null,null,null,null,null,{"$f":"X42+X73","v":0},0,0,0,0,0,0,0]
[]
[null,null,null,null,null,null,null,"ГЛАВА 12. Проектные и изыскательские работы"]
["Испытание свай",null,null,null,null,null,null,"Испытание свай"]
["Испытание свайШаблон",null,null,null,null,null,null,null,null,null,null,null,null,null,null,null,null,null,null,null,null,null,null,null,null,null,null,null,null,null,{"$f":"K79*'Ценовые нормативы'!$E$40","v":0}]
["Испытание свайИтог",null,null,null,null,null,null,"Итого Испытание свай",null,null,{"$f":"SUM(K79)","v":0},0,0,0,0,0,0,0,null,null,null,null,null,{"$f":"SUM(X79)","v":0},0,0,0,0,0,0,0]
[null,null,null,null,null,null,null,"ИТОГО ГЛАВА 12. Проектные и изыскательские работы",null,null,{"$f":"K80","v":0},0,0,0,0,0,0,0,null,null,null,null,null,{"$f":"X80","v":0},0,0,0,0,0,0,0]
[]
[null,null,null,null,null,null,null,"ИТОГО ГЛАВЫ 1-12",null,null,{"$f":"K75+K81","v":0},0,0,0,0,0,0,0,null,null,null,null,null,{"$f":"X75+X81","v":0},0,0,0,0,0,0,0]
[]
[null,null,null,null,null,null,null,"МАТЕРИАЛЫ"]
[null,null,null,null,null,null,null,"Стоимость материалов поставки Подрядчика с учетом транспортировки до объекта",null,null,null,null,null,null,null,null,null,null,null,null,null,null,null,null,null,null,null,null,null,null,null,{"$f":"W86","v":0}]
[null,null,null,null,null,null,null,"Стоимость дополнительных затрат на погрузку материалов Заказчика (щебень)","т",null,null,null,null,null,null,null,null,null,null,null,null,null,{"$f":"(M87+O87)*'Ценовые нормативы'!E43","v":0},null,null,null,null,null,null,null,null,{"$f":"W87","v":0}]
["move_template",null,null,null,null,null,null,"Стоимость дополнительных затрат на перевозку материалов Заказчика (щебень)","т",null,null,null,null,null,null,null,null,null,null,null,null,null,{"$f":"(M88+O88)*'Ценовые нормативы'!transportationStandard","v":0},null,null,null,null,null,null,null,null,{"$f":"W88","v":0}]
[null,null,null,null,null,null,null,"Стоимость оборудования поставки Подрядчика с учетом транспортировки до объекта",null,null,null,null,null,null,null,null,null,null,null,null,null,null,null,null,null,null,null,null,null,null,null,{"$f":"V89","v":0}]
[null,null,null,null,null,null,null,"ИТОГО МАТЕРИАЛЫ",null,null,null,null,null,null,null,null,null,null,null,null,null,null,null,null,null,null,null,null,null,null,null,{"$f":"SUM(AF86:AF89)","v":0}]
[]
[null,null,null,null,null,null,"МДС 81-35.2004","Непредвиденные затраты",null,{"$f":"'Ценовые нормативы'!$E$39","v":1.4999999999999999E-2},{"$f":"K83*J92","v":0},null,null,null,null,null,null,null,null,null,null,null,null,null,null,null,null,null,null,null,{"$f":"(AE83+AF90-AF86-AF89)*J92+L83*J92*'Ценовые нормативы'!transitionIndex2+M83*J92*'Ценовые нормативы'!$E$20","v":0}]
[]
[null,null,null,null,null,null,null,"ИТОГО с учетом всех затрат",null,null,null,null,null,null,null,null,null,null,null,null,null,null,null,null,null,null,null,null,null,null,null,{"$f":"AE83+AF90+AE92","v":0}]
[null,null,null,null,null,null,null,"   - НДС",null,{"$f":"'Ценовые нормативы'!$E$31","v":0.2},null,null,null,null,null,null,null,null,null,null,null,null,null,null,null,null,null,null,null,null,null,{"$f":"AF94*J95","v":0}]
[]
[null,null,null,null,null,null,null,"ИТОГО с учетом НДС",null,null,null,null,null,null,null,null,null,null,null,null,null,null,null,null,null,null,null,null,null,null,null,{"$f":"AF94+AF95","v":0}]
[null,null,null,null,null,null,null,"Затраты на СМР без учета ТМЦ, ПНР, врезки",null,null,null,null,null,null,null,null,null,null,null,null,null,null,null,null,null,null,null,null,null,null,null,{"$f":"AF97-AF99-AF100-AF101","v":0}]
[null,null,null,null,null,null,null,"Затраты на ТМЦ поставки подрядчика без учета страхования",null,null,null,null,null,null,null,null,null,null,null,null,null,null,null,null,null,null,null,null,null,null,null,{"$f":"(AF86+AF89)+(AF86+AF89)*J95","v":0}]
[null,null,null,null,null,null,null,"Затраты на ПНР с учетом непредвиденных расходов",null,null,null,null,null,null,null,null,null,null,null,null,null,null,null,null,null,null,null,null,null,null,null,{"$f":"(AE59*J95+AE59)+(AE59*J95+AE59)*J92","v":0}]
[null,null,null,null,null,null,null,"Врезка",null,null,null,null,null,null,null,null,null,null,null,null,null,null,null,null,null,null,null,null,null,null,null,{"$f":"AE63+AE63*J95","v":0}]
[]
[null,null,null,null,null,null,null,"СПРАВОЧНО:"]
[null,null,null,null,null,null,null,"Затраты на Материалы поставки Заказчика без НДС"]
[null,null,null,null,null,null,null,"Затраты на Оборудование поставки Заказчика без НДС"]
[null,null,null,null,null,null,null,"Непредвиденные затраты Заказчика без НДС",null,null,null,null,null,null,null,null,null,null,null,null,null,null,null,null,null,null,null,null,null,null,null,{"$f":"AE92","v":0}]
[]
[null,null,null,null,null,null,null,"ВСЕГО с учетом всех затрат в прогнозном уровне цен с НДС",null,null,null,null,null,null,null,null,null,null,null,null,null,null,null,null,null,null,null,null,null,null,null,{"$f":"(AF103+custMaterialsTotal+custEquipmentTotal+AF106)*(1+J95)+Z122","v":0}]
[]
[null,null,null,null,null,null,null,"Стоимость строительства объекта в прогнозном уровне цен"]
[]
[null,null,null,null,null,"№ п/п",null,"Наименование показателя",null,{"$f":"'Исходные данные'!V21","v":2021},null,null,null,{"$f":"J112+1","v":2022},null,null,null,{"$f":"N112+1","v":2023},null,null,null,{"$f":"R112+1","v":2024},null,null,null,"Итоговый показатель"]
[null,null,null,null,null,null,null,null,null,"I квартал","II квартал","III квартал","IV квартал","I квартал","II квартал","III квартал","IV квартал","I квартал","II квартал","III квартал","IV квартал","I квартал","II квартал","III квартал","IV квартал"]
[null,null,null,null,null,1,null,"Прогнозное распределение СМР без учета ТМЦ и ПНР","%",null,null,null,null,null,null,null,null,null,null,null,null,null,null,null,null,{"$f":"IF((J114+K114+L114+M114+N114+O114+P114+Q114+R114+S114+T114+U114+V114+W114+X114+Y114)<>100%,\"ОШИБКА\",1)","v":"ОШИБКА"}]
[null,null,null,null,null,2,null,"Прогнозное распределение ТМЦ поставки Подрядчика","%",{"$f":"J114","v":0},{"$f":"K114","v":0},0,0,0,0,0,0,0,0,0,0,0,0,0,0,{"$f":"IF((J115+K115+L115+M115+N115+O115+P115+Q115+R115+S115+T115+U115+V115+W115+X115+Y115)<>100%,\"ОШИБКА\",1)","v":"ОШИБКА"}]
[null,null,null,null,null,3,null,"Прогнозное распределение ПНР","%",{"$f":"J114","v":0},{"$f":"K114","v":0},0,0,0,0,0,0,0,0,0,0,0,0,0,0,{"$f":"IF((J116+K116+L116+M116+N116+O116+P116+Q116+R116+S116+T116+U116+V116+W116+X116+Y116)<>100%,\"ОШИБКА\",1)","v":"ОШИБКА"}]
[null,null,null,null,null,4,null,"Прогнозное распределение врезки","%",{"$f":"J114","v":0},{"$f":"K114","v":0},0,0,0,0,0,0,0,0,0,0,0,0,0,0,{"$f":"IF((J117+K117+L117+M117+N117+O117+P117+Q117+R117+S117+T117+U117+V117+W117+X117+Y117)<>100%,\"ОШИБКА\",1)","v":"ОШИБКА"}]
[null,null,null,null,null,5,null,"Стоимость СМР без учета ТМЦ и ПНР в прогнозном распределении","тыс. руб.",{"$f":"J114*AF98","v":0},{"$f":"K114*AF98","v":0},{"$f":"L114*AF98","v":0},{"$f":"M114*AF98","v":0},{"$f":"N114*AF98","v":0},{"$f":"O114*AF98","v":0},{"$f":"P114*AF98","v":0},{"$f":"Q114*AF98","v":0},{"$f":"R114*AF98","v":0},{"$f":"S114*AF98","v":0},{"$f":"T114*AF98","v":0},{"$f":"U114*AF98","v":0},{"$f":"V114*AF98","v":0},{"$f":"W114*AF98","v":0},{"$f":"X114*AF98","v":0},{"$f":"Y114*AF98","v":0},{"$f":"SUM(J118:Y118)","v":0}]
[null,null,null,null,null,6,null,"Стоимость ТМЦ поставки Подрядчика в прогнозном распределении","тыс. руб.",{"$f":"J115*AF99","v":0},{"$f":"K115*AF99","v":0},{"$f":"L115*AF99","v":0},{"$f":"M115*AF99","v":0},{"$f":"N115*AF99","v":0},{"$f":"O115*AF99","v":0},{"$f":"P115*AF99","v":0},{"$f":"Q115*AF99","v":0},{"$f":"R115*AF99","v":0},{"$f":"S115*AF99","v":0},{"$f":"T115*AF99","v":0},{"$f":"U115*AF99","v":0},{"$f":"V115*AF99","v":0},{"$f":"W115*AF99","v":0},{"$f":"X115*AF99","v":0},{"$f":"Y115*AF99","v":0},{"$f":"SUM(J119:Y119)","v":0}]
[null,null,null,null,null,7,null,"Стоимость ПНР в прогнозном распределении","тыс. руб.",{"$f":"J116*AF100","v":0},{"$f":"K116*AF100","v":0},{"$f":"L116*AF100","v":0},{"$f":"M116*AF100","v":0},{"$f":"N116*AF100","v":0},{"$f":"O116*AF100","v":0},{"$f":"P116*AF100","v":0},{"$f":"Q116*AF100","v":0},{"$f":"R116*AF100","v":0},{"$f":"S116*AF100","v":0},{"$f":"T116*AF100","v":0},{"$f":"U116*AF100","v":0},{"$f":"V116*AF100","v":0},{"$f":"W116*AF100","v":0},{"$f":"X116*AF100","v":0},{"$f":"Y116*AF100","v":0},{"$f":"SUM(J120:Y120)","v":0}]
[null,null,null,null,null,8,null,"Стоимость врезки в прогнозном распределении","тыс. руб.",{"$f":"J117*AF101","v":0},{"$f":"K117*AF101","v":0},{"$f":"L117*AF101","v":0},{"$f":"M117*AF101","v":0},{"$f":"N117*AF101","v":0},{"$f":"O117*AF101","v":0},{"$f":"P117*AF101","v":0},{"$f":"Q117*AF101","v":0},{"$f":"R117*AF101","v":0},{"$f":"S117*AF101","v":0},{"$f":"T117*AF101","v":0},{"$f":"U117*AF101","v":0},{"$f":"V117*AF101","v":0},{"$f":"W117*AF101","v":0},{"$f":"X117*AF101","v":0},{"$f":"Y117*AF101","v":0},{"$f":"SUM(J121:Y121)","v":0}]
[null,null,null,null,null,9,null,"Всего стоимость СМР в прогнозном уровне цен","тыс. руб.",{"$f":"J119+J118+J120+J121","v":0},{"$f":"K119+K118+K120+K121","v":0},{"$f":"L119+L118+L120+L121","v":0},0,0,0,0,0,0,0,0,0,0,0,0,0,{"$f":"SUM(J122:Y122)","v":0}]
[null,null,null,null,null,null,null,"*     Доля освоения в соответствующем квартале рассчитывается как выраженное в процентах отношение объема работ в стоимостном выражении, планируемого к выполнению в соответствующем квартале, к общему объему работ в стоимостном выражении"]
[]
[null,null,null,null,null,null,"Примечание : расчет должен быть выполнен на основании утвержденной ПСД и технического задания с включением в него всех работ и затрат, указанных в техническом задании и проектной документации"]
[]
[]
[null,null,null,null,null,null,null,null,{"$f":"'Исходные данные'!executor2","v":"Ответственный исполнитель ОЦП по КВ"},null,null,{"$f":"'Исходные данные'!executor2Position","v":"Ведущий специалист"},null,{"$f":"'Исходные данные'!executor2Fio","v":"Берестова А.В."}]
[null,null,null,null,null,null,null,null,null,null,null,"должность",null,"Ф.И.О."]
[]
[null,null,null,null,null,null,null,null,{"$f":"'Сопроводительная записка'!executor6","v":"Начальник ОЦП по КВ "},null,null,null,null,{"$f":"'Сопроводительная записка'!executor6Fio","v":"И.А. Овсянникова"}]
[null,null,null,null,null,null,null,null,null,null,null,"должность",null,"Ф.И.О."]

{"sheet":"materialMetadata","index":12,"n_rows":27,"n_cols":18,"rows_kept":27,"cut":false,"hidden":true,"merged":[]}
["code","formula","contractor",null,"contractor","materialType",null,null,"contractor","editable_columns",null,null,"unit",null,null,"column_code","replace_value","original_value"]
["C17","ОКРУГЛ(C15R#*C16R#;2)",null,null,"Заказчик","Материалы",null,null,"Подрядчик","C21|C22|C25|C28|C31|C36|C39|C40|C42|C55|C65|C70",null,null,"кг",null,null,"C12","<=^","408-0015"]
["C32","ЕСЛИ(C30R#<>\"\";ЕСЛИ(C31R#<>\"\";\"Ошибка\";ОКРУГЛ(C16R#*C30R#;2));ОКРУГЛ(C31R#;2))","Подрядчик",null,"Заказчик (ДО)","Оборудование",null,null,"Подрядчик (от Заказчика)","C21|C22|C25|C28|C31|C36|C39|C40|C42|C55|C65|C70",null,null,"т"]
["C38","ЕСЛИ(И(C22R#=\"\";C25R#=\"\");ОКРУГЛ((C32R#+C54R#)*C39R#;2);ОКРУГЛ(C22R#*C25R#*'Ценовые нормативы'!transportationStandard;2))","Подрядчик",null,"Заказчик (РОС)","Металлоконструкции",null,null,"Заказчик",null,null,null,"км"]
["C54","ЕСЛИ(И(C22R#=\"\";C25R#=\"\");ОКРУГЛ(C32R#*C55R#;2);ОКРУГЛ((C32R#+C36R#+C38R#+C40R#+C42R#)*C55R#;2))","Подрядчик",null,"Заказчик (ЦАУК)",null,null,null,"Заказчик (ДО)",null,null,null,"м"]
["C56","ОКРУГЛ(C32R#+C36R#+C38R#+C40R#+C42R#+C54R#;2)","Подрядчик",null,"Заказчик (ОГ)",null,null,null,"Заказчик (РОС)",null,null,null,"10 м"]
["C57","ОКРУГЛ(C15R#*C56R#;2)","Подрядчик",null,"Заказчик (ЕОС ИТ)",null,null,null,"Заказчик (ЦАУК)",null,null,null,"100 м"]
["C63","ОКРУГЛ(C15R#*C62R#;2)","Заказчик",null,"Подрядчик",null,null,null,"Заказчик (ОГ)",null,null,null,"1000 м"]
["C30","'Ценовые нормативы'!transitionIndex","Подрядчик",null,"Подрядчик (от Заказчика)",null,null,null,"Заказчик (ЕОС ИТ)",null,null,null,"м2"]
[null,null,null,null,null,null,null,null,null,null,null,null,"10 м2"]
[null,null,null,null,null,null,null,null,null,null,null,null,"100 м2"]
[null,null,null,null,null,null,null,null,null,null,null,null,"1000 м2"]
[null,null,null,null,null,null,null,null,null,null,null,null,"шт."]
[null,null,null,null,null,null,null,null,null,null,null,null,"10 шт."]
[null,null,null,null,null,null,null,null,null,null,null,null,"100 шт."]
[null,null,null,null,null,null,null,null,null,null,null,null,"1000 шт."]
[null,null,null,null,null,null,null,null,null,null,null,null,"кВт-ч"]
[null,null,null,null,null,null,null,null,null,null,null,null,"л"]
[null,null,null,null,null,null,null,null,null,null,null,null,"м3"]
[null,null,null,null,null,null,null,null,null,null,null,null,"10 м3"]
[null,null,null,null,null,null,null,null,null,null,null,null,"100 м3"]
[null,null,null,null,null,null,null,null,null,null,null,null,"1000 м3"]
[null,null,null,null,null,null,null,null,null,null,null,null,"комплект"]
[null,null,null,null,null,null,null,null,null,null,null,null,"рулон"]
[null,null,null,null,null,null,null,null,null,null,null,null,"уп."]
[null,null,null,null,null,null,null,null,null,null,null,null,"дм2"]
[null,null,null,null,null,null,null,null,null,null,null,null,"пог. м"]

{"sheet":"priceTemplate_round","index":13,"n_rows":132,"n_cols":34,"rows_kept":132,"cut":false,"hidden":true,"merged":[[12,17,13,17],[12,16,13,16],[10,5,13,5],[10,6,13,6],[10,7,13,7],[10,8,13,8],[10,9,13,9],[3,6,3,10],[4,6,4,10],[6,6,6,10],[8,6,8,10],[10,10,10,17],[11,33,13,33],[10,18,10,33],[11,10,13,10],[11,11,11,17],[11,18,13,18],[11,19,11,22],[11,23,13,23],[11,24,13,24],[11,25,13,25],[11,26,13,26],[11,27,13,27],[11,28,13,28],[11,29,13,29],[11,30,13,30],[11,31,13,31],[11,32,13,32],[122,7,122,25],[116,5,116,6],[12,19,12,20],[12,21,12,22],[109,7,109,25],[111,5,112,6],[111,7,112,7],[111,8,112,8],[111,9,111,12],[111,13,111,16],[111,17,111,20],[12,11,13,11],[12,12,13,12],[12,13,13,13],[12,14,13,14],[12,15,13,15],[117,5,117,6],[118,5,118,6],[119,5,119,6],[120,5,120,6],[121,5,121,6],[111,21,111,24],[111,25,112,25],[113,5,113,6],[114,5,114,6],[115,5,115,6],[131,11,131,12],[131,13,131,14],[127,11,127,12],[127,13,127,14],[128,11,128,12],[128,13,128,14],[130,11,130,12],[130,13,130,14]]}
[]
[]
[]
[null,null,null,null,null,null,"Расчет стоимости стоительства объекта"]
[null,null,null,null,null,null,{"$f":"'Исходные данные'!D19","v":"Строительство объектов энергетики Правдинского региона"}]
["95B8996E-A92E-40F2-8A9B-251AB1F004D4",null,null,null,null,null,null,null,null,null,null,null,"Шифр проекта",{"$f":"'Исходные данные'!projectcode","v":"1980615/0880Д"},null,null,null,null,"5.50"]
[null,null,null,null,null,null,null,null,null,null,null,null,"Разработчик проекта",{"$f":"'Исходные данные'!projectdeveloper","v":"ООО «РН-УфаНИПИнефть»"}]
[null,null,null,null,null,null,null,null,null,null,null,null,"Заказчик","ООО \"РН-Юганскнефтегаз\""]
[null,null,null,null,null,null,null,null,null,null,null,null,null,{"$f":"'Исходные данные'!lotNumber","v":"2000350438 (680-20-КС(ТЗ))"}]
[]
[null,null,null,null,null,"№","Обоснование (№ЛС)","Наименование работ и затрат","Единица измерения мощности (км, м3, шт и т.д.)","Количество","Базисный уровень цен 2001г.",null,null,null,null,null,null,null,"Текущий уровень цен"]
[null,null,null,null,null,null,null,null,null,null,"Стоимость объекта всего, тыс. руб.","в том числе:",null,null,null,null,null,null,"Стоимость МТР всего, тыс. руб.","в том числе:",null,null,null,"Оплата труда  основных рабочих, тыс.руб.","Трудозатраты основных рабочих, чел-час","Затраты на эксплуатацию машин и механизмов,  тыс. руб.","Оплата труда механизаторов, тыс.руб.","Трудозатраты рабочих-механизаторов, чел-час","Накладные расходы, тыс. руб.","Сметная прибыль, тыс. руб.","Стоимость строительства объекта без учета затрат Заказчика, тыс. руб.","Общая стоимость строительства объекта (с учетом затрат Заказчика), тыс. руб.","Полная стоимость с учетом материалов и оборудования поставки Заказчика"," Полная стоимость с учетом материалов и оборудования поставки Заказчика с учетом прочих затрат и НДС"]
[null,null,null,null,null,null,null,null,null,null,null,"Стоимость оборудования всего, тыс. руб.","Стоимость материалов всего, тыс. руб.","Оплата труда основных рабочих, тыс. руб.","Стоимость ЭММ, тыс. руб.","в том числе оплата труда механизаторов, тыс. руб.","Накладные расходы, тыс. руб.","Сметная прибыль, тыс. руб.",null,"Поставка Заказчика",null,"Поставка Подрядчика"]
[null,null,null,null,null,null,null,null,null,null,null,null,null,null,null,null,null,null,null,"Стоимость оборудования, тыс. руб.","Стоимость материалов, тыс. руб.","Стоимость оборудования, тыс. руб.","Стоимость материалов, тыс. руб."]
[null,null,null,null,null,1,2,3,4,5,6,7,8,9,10,11,12,13,14,15,16,17,18,19,20,21,22,23,24,25,26,27,28,29]
[null,"outlay_code","exception_code","exception_type","exception_mark","C10","C11","C12","C13","C14","C15","C16","C17","C18","C19","C20","C21","C22","C23","C24","C25","C26","C27","C28","C29","C30","C31","C32","C33","C34","C35","C36","C37","C38"]
["Глава 1 Лес",null,null,null,null,null,null,"ГЛАВА 1. Подготовка территории строительства"]
["Глава 1 ЛесШаблон",null,null,null,null,null,null,null,null,null,{"$f":"L18+M18+N18+O18+Q18+R18","v":0},null,null,null,null,null,null,null,null,null,null,null,null,{"$f":"N18*'Ценовые нормативы'!$E$17","v":0},null,{"$f":"O18*'Ценовые нормативы'!$E$18","v":0},{"$f":"P18*'Ценовые нормативы'!$E$17","v":0},null,{"$f":"Q18*'Ценовые нормативы'!$E$17*'Ценовые нормативы'!$E$24","v":0},{"$f":"R18*'Ценовые нормативы'!$E$17*'Ценовые нормативы'!$E$25","v":0},{"$f":"X18+Z18+AC18+AD18","v":0}]
["Глава 1 ЛесИтог",null,null,null,null,null,null,"Итог 1 Лес",null,null,{"$f":"ROUND(SUM(K18),5)","v":0},{"$f":"ROUND(SUM(L18),5)","v":0},0,0,0,0,0,0,null,null,null,null,null,{"$f":"ROUND(SUM(X18),5)","v":0},{"$f":"ROUND(SUM(Y18),5)","v":0},0,0,0,0,0,0]
["Глава 1 Прочие"]
["Глава 1 ПрочиеШаблон",null,null,null,null,null,null,null,null,null,{"$f":"L21+M21+N21+O21+Q21+R21","v":0},null,null,null,null,null,null,null,null,null,null,null,null,{"$f":"N21*'Ценовые нормативы'!$E$17","v":0},null,{"$f":"O21*'Ценовые нормативы'!$E$18","v":0},{"$f":"P21*'Ценовые нормативы'!$E$17","v":0},null,{"$f":"Q21*'Ценовые нормативы'!$E$17*'Ценовые нормативы'!$E$24","v":0},{"$f":"R21*'Ценовые нормативы'!$E$17*'Ценовые нормативы'!$E$25","v":0},{"$f":"X21+Z21+AC21+AD21","v":0}]
["Глава 1 ПрочиеИтог",null,null,null,null,null,null,null,null,null,{"$f":"ROUND(SUM(K21),5)","v":0},{"$f":"ROUND(SUM(L21),5)","v":0},0,0,0,0,0,0,null,null,null,null,null,{"$f":"ROUND(SUM(X21),5)","v":0},{"$f":"ROUND(SUM(Y21),5)","v":0},0,0,0,0,0,0]
["Глава 1Итог",null,null,null,null,null,null,"ИТОГО ГЛАВА 1. Подготовка территории строительства",null,null,{"$f":"ROUND(K22+K19,5)","v":0},0,0,0,0,0,0,0,null,null,null,null,null,{"$f":"ROUND(X22+X19,5)","v":0},0,0,0,0,0,0,0]
[]
["Глава 2-7",null,null,null,null,null,null,"ГЛАВЫ 2-7. Основные объекты строительства"]
["Глава 2-7Шаблон",null,null,null,null,null,null,null,null,null,{"$f":"L26+M26+N26+O26+Q26+R26","v":0},null,null,null,null,null,null,null,null,null,null,null,null,{"$f":"N26*'Ценовые нормативы'!$E$17","v":0},null,{"$f":"O26*'Ценовые нормативы'!$E$18","v":0},{"$f":"P26*'Ценовые нормативы'!$E$17","v":0},null,{"$f":"Q26*'Ценовые нормативы'!$E$17*'Ценовые нормативы'!$E$24","v":0},{"$f":"R26*'Ценовые нормативы'!$E$17*'Ценовые нормативы'!$E$25","v":0},{"$f":"X26+Z26+AC26+AD26","v":0}]
["Глава 2-7Итог",null,null,null,null,null,null,"ИТОГО ГЛАВЫ 2-7. Основные объекты строительства",null,null,{"$f":"ROUND(SUM(K26),5)","v":0},{"$f":"ROUND(SUM(L26),5)","v":0},0,0,0,0,0,0,null,null,null,null,null,{"$f":"ROUND(SUM(X26),5)","v":0},{"$f":"ROUND(SUM(Y26),5)","v":0},0,0,0,0,0,0]
[]
[null,null,null,null,null,null,null,"ИТОГО ГЛАВЫ 1-7",null,null,{"$f":"ROUND(K27+K23,5)","v":0},0,0,0,0,0,0,0,null,null,null,null,null,{"$f":"ROUND(X27+X23,5)","v":0},0,0,0,0,0,0,0]
[]
[null,null,null,null,null,null,null,"Лимит базы 2001г  МТР для начисления лимитированных",null,null,{"$f":"ROUND(L29+M31+N29+O29+Q29+R29,5)","v":0},null,{"$f":"M29","v":0}]
[]
[null,null,null,null,null,null,null,"ГЛАВА 8. Временные здания и сооружения"]
["Глава 8 ВЗиС",null,null,null,null,null,"ГСН 81-05-01-2001","Временные здания и сооружения",null,{"$f":"'Ценовые нормативы'!$E$35","v":2.5000000000000001E-2},{"$f":"ROUND((K31-L29)*J34,5)","v":0},null,null,null,null,null,null,null,null,null,null,null,null,null,null,null,null,null,null,null,{"$f":"ROUND((AE29*J34) + (M31*J34*'Ценовые нормативы'!$E$20),5)","v":0}]
["Глава 8 ВЗиСШаблон",null,null,null,null,null,null,null,null,null,{"$f":"L35+M35+N35+O35+Q35+R35","v":0},null,null,null,null,null,null,null,null,null,null,null,null,{"$f":"N35*'Ценовые нормативы'!$E$17","v":0},null,{"$f":"O35*'Ценовые нормативы'!$E$18","v":0},{"$f":"P35*'Ценовые нормативы'!$E$17","v":0},null,{"$f":"Q35*'Ценовые нормативы'!$E$17*'Ценовые нормативы'!$E$24","v":0},{"$f":"R35*'Ценовые нормативы'!$E$17*'Ценовые нормативы'!$E$25","v":0},{"$f":"X35+Z35+AC35+AD35","v":0}]
["Глава 8 ВЗиСИтог",null,null,null,null,null,null,null,null,null,{"$f":"ROUND(SUM(K35),5)","v":0},{"$f":"ROUND(SUM(L35),5)","v":0},0,0,0,0,0,0,null,null,null,null,null,{"$f":"ROUND(SUM(X35),5)","v":0},{"$f":"ROUND(SUM(Y35),5)","v":0},0,0,0,0,0,0]
["Глава 8 Зимник"]
["Глава 8 ЗимникШаблон",null,null,null,null,null,null,null,null,null,{"$f":"L38+M38+N38+O38+Q38+R38","v":0},null,null,null,null,null,null,null,null,null,null,null,null,{"$f":"N38*'Ценовые нормативы'!$E$17","v":0},null,{"$f":"O38*'Ценовые нормативы'!$E$18","v":0},{"$f":"P38*'Ценовые нормативы'!$E$17","v":0},null,{"$f":"Q38*'Ценовые нормативы'!$E$17*'Ценовые нормативы'!$E$24","v":0},{"$f":"R38*'Ценовые нормативы'!$E$17*'Ценовые нормативы'!$E$25","v":0},{"$f":"X38+Z38+AC38+AD38","v":0}]
["Глава 8 ЗимникИтог",null,null,null,null,null,null,null,null,null,{"$f":"ROUND(SUM(K38),5)","v":0},{"$f":"ROUND(SUM(L38),5)","v":0},0,0,0,0,0,0,null,null,null,null,null,{"$f":"ROUND(SUM(X38),5)","v":0},{"$f":"ROUND(SUM(Y38),5)","v":0},0,0,0,0,0,0]
["Глава 8Итог",null,null,null,null,null,null,"ИТОГО ГЛАВА 8. Временные здания и сооружения",null,null,{"$f":"ROUND(K34+K36+K39,5)","v":0},{"$f":"ROUND(L34+L36+L39,5)","v":0},0,0,0,0,0,0,null,null,null,null,null,{"$f":"ROUND(X34+X36+X39,5)","v":0},0,0,0,0,0,0,0]
[]
[null,null,null,null,null,null,null,"ИТОГО ГЛАВЫ 1-8",null,null,{"$f":"ROUND(K29+K40,5)","v":0},0,0,0,0,0,0,0,null,null,null,null,null,{"$f":"ROUND(X29+X40,5)","v":0},0,0,0,0,0,0,0]
[]
[null,null,null,null,null,null,null,"Лимит базы 2001г  МТР для начисления лимитированных",null,null,{"$f":"ROUND(L42+M44+N42+O42+Q42+R42,5)","v":0},null,{"$f":"M42","v":0}]
[]
[null,null,null,null,null,null,null,"ГЛАВА 9. Прочие работы и затраты"]
[null,null,null,null,null,null,null," Прочие затраты"]
[null,null,null,null,null,null,"ГСН 81-05-02-2007","Зимнее удорожание",null,{"$f":"'Ценовые нормативы'!$E$36","v":3.6999999999999998E-2},{"$f":"ROUND((K44-L42)*J48,5)","v":0},null,null,null,null,null,null,null,null,null,null,null,null,null,null,null,null,null,null,null,{"$f":"ROUND((AE42*J48)+(M44*J48*'Ценовые нормативы'!$E$20),5)","v":0}]
[null,null,null,null,null,1,"ГСН 81-05-02-2007","Снегоборьба",null,{"$f":"'Ценовые нормативы'!$E$37","v":4.0000000000000001E-3},{"$f":"ROUND((K44-L42)*J49,5)","v":0},null,null,null,null,null,null,null,null,null,null,null,null,null,null,null,null,null,null,null,{"$f":"ROUND((AE42*J49)+(M44*J49*'Ценовые нормативы'!$E$20),5)","v":0}]
[null,null,null,null,null,{"$f":"F49+1","v":2},"МДС 81-35.2004","Борьба с гнусом",null,{"$f":"'Ценовые нормативы'!$E$38","v":1E-3},{"$f":"ROUND((K44-L42)*J50,5)","v":0},null,null,null,null,null,null,null,null,null,null,null,null,null,null,null,null,null,null,null,{"$f":"ROUND((AE42*J50)+(M44*J50*'Ценовые нормативы'!$E$20),5)","v":0}]
[null,null,null,null,null,null,null,"Итого прочие затраты",null,null,{"$f":"ROUND(SUM(K48:K50),5)","v":0},{"$f":"ROUND(SUM(L48:L50),5)","v":0},0,0,0,0,0,0,null,null,null,null,null,{"$f":"ROUND(SUM(X48:X50),5)","v":0},0,0,0,0,0,0,0]
[]
["Глава 9",null,null,null,null,null,null,"Прочие работы"]
["Глава 9Шаблон",null,null,null,null,null,null,null,null,null,{"$f":"L54+M54+N54+O54+Q54+R54","v":0},null,null,null,null,null,null,null,null,null,null,null,null,{"$f":"N54*'Ценовые нормативы'!$E$17","v":0},null,{"$f":"O54*'Ценовые нормативы'!$E$18","v":0},{"$f":"P54*'Ценовые нормативы'!$E$17","v":0},null,{"$f":"Q54*'Ценовые нормативы'!$E$17*'Ценовые нормативы'!$E$24","v":0},{"$f":"R54*'Ценовые нормативы'!$E$17*'Ценовые нормативы'!$E$25","v":0},{"$f":"X54+Z54+AC54+AD54","v":0}]
["Глава 9Итог",null,null,null,null,null,null,"Итого Прочие",null,null,{"$f":"ROUND(SUM(K54),5)","v":0},{"$f":"ROUND(SUM(L54),5)","v":0},0,0,0,0,0,0,null,null,null,null,null,{"$f":"ROUND(SUM(X54),5)","v":0},0,0,0,0,0,0,0]
[]
["ПНР",null,null,null,null,null,null,"ПНР"]
["ПНРШаблон",null,null,null,null,null,null,null,null,null,{"$f":"L58+M58+N58+O58+Q58+R58","v":0},null,null,null,null,null,null,null,null,null,null,null,null,{"$f":"N58*'Ценовые нормативы'!$E$21","v":0},null,{"$f":"O58*'Ценовые нормативы'!$E$18","v":0},{"$f":"P58*'Ценовые нормативы'!$E$21","v":0},null,{"$f":"Q58*'Ценовые нормативы'!$E$21","v":0},{"$f":"R58*'Ценовые нормативы'!$E$21","v":0},{"$f":"X58+Z58+AC58+AD58","v":0}]
["ПНРИтог",null,null,null,null,null,null,"Итого ПНР",null,null,{"$f":"ROUND(SUM(K58),5)","v":0},{"$f":"ROUND(SUM(L58),5)","v":0},0,0,0,0,0,0,null,null,null,null,null,{"$f":"ROUND(SUM(X58),5)","v":0},{"$f":"ROUND(SUM(Y58),5)","v":0},0,0,0,0,0,0]
[]
["Врезка",null,null,null,null,null,null,"Врезка"]
["ВрезкаШаблон",null,null,null,null,null,null,null,null,null,null,null,null,null,null,null,null,null,null,null,null,null,null,null,null,null,null,null,null,null,{"$f":"J62*K62*'Ценовые нормативы'!$E$30","v":0}]
["ВрезкаИтог",null,null,null,null,null,null,"Итого Врезка",null,null,{"$f":"ROUND(SUM(K62),5)","v":0},{"$f":"ROUND(SUM(L62),5)","v":0},0,0,0,0,0,0,null,null,null,null,null,{"$f":"ROUND(SUM(X62),5)","v":0},{"$f":"ROUND(SUM(Y62),5)","v":0},0,0,0,0,0,0]
[]
["Разница в стоимости электроэнергии",null,null,null,null,null,null,"Разница в стоимости электроэнергии"]
["Разница в стоимости электроэнергииШаблон"]
["Разница в стоимости электроэнергииИтог",null,null,null,null,null,null,"Итого Разница в стоимости электроэнергии",null,null,{"$f":"ROUND(SUM(K66),5)","v":0},{"$f":"ROUND(SUM(L66),5)","v":0},0,0,0,0,0,0,null,null,null,null,null,{"$f":"ROUND(SUM(X66),5)","v":0},{"$f":"ROUND(SUM(Y66),5)","v":0},0,0,0,0,0,0]
[]
[null,null,null,null,null,null,null,"Перебазировка техники сверх нормативной величины (учтенной в расценках на ЭММ)"]
[null,null,null,null,null,null,null,"Затраты, связанные с осуществлением работ вахтовым методом"]
[null,null,null,null,null,null,null,"Затраты по перевозке автомобильным транспортом работников строительно-монтажных организаций"]
[]
[null,null,null,null,null,null,null,"ИТОГО ГЛАВА 9. Прочие работы и затраты",null,null,{"$f":"ROUND(K51+K55+K59+K63+K67+K69+K70+K71,5)","v":0},0,0,0,0,0,0,0,null,null,null,null,null,{"$f":"ROUND(X51+X55+X59+X63+X67+X69+X70+X71,5)","v":0},0,0,0,0,0,0,0]
[]
[null,null,null,null,null,null,null,"ИТОГО ГЛАВЫ 1-9",null,null,{"$f":"ROUND(K42+K73,5)","v":0},0,0,0,0,0,0,0,null,null,null,null,null,{"$f":"ROUND(X42+X73,5)","v":0},0,0,0,0,0,0,0]
[]
[null,null,null,null,null,null,null,"ГЛАВА 12. Проектные и изыскательские работы"]
["Испытание свай",null,null,null,null,null,null,"Испытание свай"]
["Испытание свайШаблон",null,null,null,null,null,null,null,null,null,null,null,null,null,null,null,null,null,null,null,null,null,null,null,null,null,null,null,null,null,{"$f":"K79*'Ценовые нормативы'!$E$40","v":0}]
["Испытание свайИтог",null,null,null,null,null,null,"Итого Испытание свай",null,null,{"$f":"ROUND(SUM(K79),5)","v":0},{"$f":"ROUND(SUM(L79),5)","v":0},0,0,0,0,0,0,null,null,null,null,null,{"$f":"ROUND(SUM(X79),5)","v":0},{"$f":"ROUND(SUM(Y79),5)","v":0},0,0,0,0,0,0]
[null,null,null,null,null,null,null,"ИТОГО ГЛАВА 12. Проектные и изыскательские работы",null,null,{"$f":"ROUND(K80,5)","v":0},{"$f":"ROUND(L80,5)","v":0},0,0,0,0,0,0,null,null,null,null,null,{"$f":"ROUND(X80,5)","v":0},{"$f":"ROUND(Y80,5)","v":0},0,0,0,0,0,0]
[]
[null,null,null,null,null,null,null,"ИТОГО ГЛАВЫ 1-12",null,null,{"$f":"ROUND(K75+K81,5)","v":0},{"$f":"ROUND(L75+L81,5)","v":0},0,0,0,0,0,0,null,null,null,null,null,{"$f":"ROUND(X75+X81,5)","v":0},{"$f":"ROUND(Y75+Y81,5)","v":0},0,0,0,0,0,0]
[]
[null,null,null,null,null,null,null,"МАТЕРИАЛЫ"]
[null,null,null,null,null,null,null,"Стоимость материалов поставки Подрядчика с учетом транспортировки до объекта",null,null,null,null,null,null,null,null,null,null,null,null,null,null,null,null,null,null,null,null,null,null,null,{"$f":"W86","v":0}]
[null,null,null,null,null,null,null,"Стоимость дополнительных затрат на погрузку материалов Заказчика (щебень)","т",null,null,null,null,null,null,null,null,null,null,null,null,null,{"$f":"ROUND((M87+O87)*'Ценовые нормативы'!E43,5)","v":0},null,null,null,null,null,null,null,null,{"$f":"W87","v":0}]
["move_template",null,null,null,null,null,null,"Стоимость дополнительных затрат на перевозку материалов Заказчика (щебень)","т",null,null,null,null,null,null,null,null,null,null,null,null,null,{"$f":"ROUND((M88+O88)*'Ценовые нормативы'!transportationStandard,5)","v":0},null,null,null,null,null,null,null,null,{"$f":"W88","v":0}]
[null,null,null,null,null,null,null,"Стоимость оборудования поставки Подрядчика с учетом транспортировки до объекта",null,null,null,null,null,null,null,null,null,null,null,null,null,null,null,null,null,null,null,null,null,null,null,{"$f":"V89","v":0}]
[null,null,null,null,null,null,null,"ИТОГО МАТЕРИАЛЫ",null,null,null,null,null,null,null,null,null,null,null,null,null,null,null,null,null,null,null,null,null,null,null,{"$f":"ROUND(SUM(AF86:AF89),5)","v":0}]
[]
[null,null,null,null,null,null,"МДС 81-35.2004","Непредвиденные затраты",null,{"$f":"'Ценовые нормативы'!$E$39","v":1.4999999999999999E-2},{"$f":"ROUND(K83*J92,5)","v":0},null,null,null,null,null,null,null,null,null,null,null,null,null,null,null,null,null,null,null,{"$f":"ROUND((AE83+AF90-AF86-AF89)*J92+L83*J92*'Ценовые нормативы'!transitionIndex2+M83*J92*'Ценовые нормативы'!$E$20,5)","v":0}]
[]
[null,null,null,null,null,null,null,"ИТОГО с учетом всех затрат",null,null,null,null,null,null,null,null,null,null,null,null,null,null,null,null,null,null,null,null,null,null,null,{"$f":"ROUND(AE83+AF90+AE92,5)","v":0}]
[null,null,null,null,null,null,null,"   - НДС",null,{"$f":"'Ценовые нормативы'!$E$31","v":0.2},null,null,null,null,null,null,null,null,null,null,null,null,null,null,null,null,null,null,null,null,null,{"$f":"ROUND(AF94*J95,5)","v":0}]
[]
[null,null,null,null,null,null,null,"ИТОГО с учетом НДС",null,null,null,null,null,null,null,null,null,null,null,null,null,null,null,null,null,null,null,null,null,null,null,{"$f":"ROUND(AF94+AF95,5)","v":0}]
[null,null,null,null,null,null,null,"Затраты на СМР без учета ТМЦ, ПНР, врезки",null,null,null,null,null,null,null,null,null,null,null,null,null,null,null,null,null,null,null,null,null,null,null,{"$f":"ROUND(AF97-AF99-AF100-AF101,5)","v":0}]
[null,null,null,null,null,null,null,"Затраты на ТМЦ поставки подрядчика без учета страхования",null,null,null,null,null,null,null,null,null,null,null,null,null,null,null,null,null,null,null,null,null,null,null,{"$f":"ROUND((AF86+AF89)+(AF86+AF89)*J95,5)","v":0}]
[null,null,null,null,null,null,null,"Затраты на ПНР с учетом непредвиденных расходов",null,null,null,null,null,null,null,null,null,null,null,null,null,null,null,null,null,null,null,null,null,null,null,{"$f":"ROUND((AE59*J95+AE59)+(AE59*J95+AE59)*J92,5)","v":0}]
[null,null,null,null,null,null,null,"Врезка",null,null,null,null,null,null,null,null,null,null,null,null,null,null,null,null,null,null,null,null,null,null,null,{"$f":"ROUND(AE63+AE63*J95,5)","v":0}]
[]
[null,null,null,null,null,null,null,"СПРАВОЧНО:"]
[null,null,null,null,null,null,null,"Затраты на Материалы поставки Заказчика без НДС"]
[null,null,null,null,null,null,null,"Затраты на Оборудование поставки Заказчика без НДС"]
[null,null,null,null,null,null,null,"Непредвиденные затраты Заказчика без НДС",null,null,null,null,null,null,null,null,null,null,null,null,null,null,null,null,null,null,null,null,null,null,null,{"$f":"ROUND(AE92,5)","v":0}]
[]
[null,null,null,null,null,null,null,"ВСЕГО с учетом всех затрат в прогнозном уровне цен с НДС",null,null,null,null,null,null,null,null,null,null,null,null,null,null,null,null,null,null,null,null,null,null,null,{"$f":"ROUND((AF103+custMaterialsTotal+custEquipmentTotal+AF106)*(1+J95)+Z122,5)","v":0}]
[]
[null,null,null,null,null,null,null,"Стоимость строительства объекта в прогнозном уровне цен"]
[]
[null,null,null,null,null,"№ п/п",null,"Наименование показателя",null,{"$f":"'Исходные данные'!V21","v":2021},null,null,null,{"$f":"J112+1","v":2022},null,null,null,{"$f":"N112+1","v":2023},null,null,null,{"$f":"R112+1","v":2024},null,null,null,"Итоговый показатель"]
[null,null,null,null,null,null,null,null,null,"I квартал","II квартал","III квартал","IV квартал","I квартал","II квартал","III квартал","IV квартал","I квартал","II квартал","III квартал","IV квартал","I квартал","II квартал","III квартал","IV квартал"]
[null,null,null,null,null,1,null,"Прогнозное распределение СМР без учета ТМЦ и ПНР","%",null,null,null,null,null,null,null,null,null,null,null,null,null,null,null,null,{"$f":"IF((J114+K114+L114+M114+N114+O114+P114+Q114+R114+S114+T114+U114+V114+W114+X114+Y114)<>100%,\"ОШИБКА\",1)","v":"ОШИБКА"}]
[null,null,null,null,null,2,null,"Прогнозное распределение ТМЦ поставки Подрядчика","%",{"$f":"J114","v":0},{"$f":"K114","v":0},0,0,0,0,0,0,0,0,0,0,0,0,0,0,{"$f":"IF((J115+K115+L115+M115+N115+O115+P115+Q115+R115+S115+T115+U115+V115+W115+X115+Y115)<>100%,\"ОШИБКА\",1)","v":"ОШИБКА"}]
[null,null,null,null,null,3,null,"Прогнозное распределение ПНР","%",{"$f":"J114","v":0},{"$f":"K114","v":0},0,0,0,0,0,0,0,0,0,0,0,0,0,0,{"$f":"IF((J116+K116+L116+M116+N116+O116+P116+Q116+R116+S116+T116+U116+V116+W116+X116+Y116)<>100%,\"ОШИБКА\",1)","v":"ОШИБКА"}]
[null,null,null,null,null,4,null,"Прогнозное распределение врезки","%",{"$f":"J114","v":0},{"$f":"K114","v":0},0,0,0,0,0,0,0,0,0,0,0,0,0,0,{"$f":"IF((J117+K117+L117+M117+N117+O117+P117+Q117+R117+S117+T117+U117+V117+W117+X117+Y117)<>100%,\"ОШИБКА\",1)","v":"ОШИБКА"}]
[null,null,null,null,null,5,null,"Стоимость СМР без учета ТМЦ и ПНР в прогнозном распределении","тыс. руб.",{"$f":"ROUND(J114*AF98,5)","v":0},{"$f":"ROUND(K114*AF98,5)","v":0},{"$f":"ROUND(L114*AF98,5)","v":0},{"$f":"ROUND(M114*AF98,5)","v":0},{"$f":"ROUND(N114*AF98,5)","v":0},{"$f":"ROUND(O114*AF98,5)","v":0},{"$f":"ROUND(P114*AF98,5)","v":0},{"$f":"ROUND(Q114*AF98,5)","v":0},{"$f":"ROUND(R114*AF98,5)","v":0},{"$f":"ROUND(S114*AF98,5)","v":0},{"$f":"ROUND(T114*AF98,5)","v":0},{"$f":"ROUND(U114*AF98,5)","v":0},{"$f":"ROUND(V114*AF98,5)","v":0},{"$f":"ROUND(W114*AF98,5)","v":0},{"$f":"ROUND(X114*AF98,5)","v":0},{"$f":"ROUND(Y114*AF98,5)","v":0},{"$f":"SUM(J118:Y118)","v":0}]
[null,null,null,null,null,6,null,"Стоимость ТМЦ поставки Подрядчика в прогнозном распределении","тыс. руб.",{"$f":"ROUND(J115*AF99,5)","v":0},{"$f":"ROUND(K115*AF99,5)","v":0},{"$f":"ROUND(L115*AF99,5)","v":0},{"$f":"ROUND(M115*AF99,5)","v":0},{"$f":"ROUND(N115*AF99,5)","v":0},{"$f":"ROUND(O115*AF99,5)","v":0},{"$f":"ROUND(P115*AF99,5)","v":0},{"$f":"ROUND(Q115*AF99,5)","v":0},{"$f":"ROUND(R115*AF99,5)","v":0},{"$f":"ROUND(S115*AF99,5)","v":0},{"$f":"ROUND(T115*AF99,5)","v":0},{"$f":"ROUND(U115*AF99,5)","v":0},{"$f":"ROUND(V115*AF99,5)","v":0},{"$f":"ROUND(W115*AF99,5)","v":0},{"$f":"ROUND(X115*AF99,5)","v":0},{"$f":"ROUND(Y115*AF99,5)","v":0},{"$f":"SUM(J119:Y119)","v":0}]
[null,null,null,null,null,7,null,"Стоимость ПНР в прогнозном распределении","тыс. руб.",{"$f":"ROUND(J116*AF100,5)","v":0},{"$f":"ROUND(K116*AF100,5)","v":0},{"$f":"ROUND(L116*AF100,5)","v":0},{"$f":"ROUND(M116*AF100,5)","v":0},{"$f":"ROUND(N116*AF100,5)","v":0},{"$f":"ROUND(O116*AF100,5)","v":0},{"$f":"ROUND(P116*AF100,5)","v":0},{"$f":"ROUND(Q116*AF100,5)","v":0},{"$f":"ROUND(R116*AF100,5)","v":0},{"$f":"ROUND(S116*AF100,5)","v":0},{"$f":"ROUND(T116*AF100,5)","v":0},{"$f":"ROUND(U116*AF100,5)","v":0},{"$f":"ROUND(V116*AF100,5)","v":0},{"$f":"ROUND(W116*AF100,5)","v":0},{"$f":"ROUND(X116*AF100,5)","v":0},{"$f":"ROUND(Y116*AF100,5)","v":0},{"$f":"SUM(J120:Y120)","v":0}]
[null,null,null,null,null,8,null,"Стоимость врезки в прогнозном распределении","тыс. руб.",{"$f":"ROUND(J117*AF101,5)","v":0},{"$f":"ROUND(K117*AF101,5)","v":0},{"$f":"ROUND(L117*AF101,5)","v":0},{"$f":"ROUND(M117*AF101,5)","v":0},{"$f":"ROUND(N117*AF101,5)","v":0},{"$f":"ROUND(O117*AF101,5)","v":0},{"$f":"ROUND(P117*AF101,5)","v":0},{"$f":"ROUND(Q117*AF101,5)","v":0},{"$f":"ROUND(R117*AF101,5)","v":0},{"$f":"ROUND(S117*AF101,5)","v":0},{"$f":"ROUND(T117*AF101,5)","v":0},{"$f":"ROUND(U117*AF101,5)","v":0},{"$f":"ROUND(V117*AF101,5)","v":0},{"$f":"ROUND(W117*AF101,5)","v":0},{"$f":"ROUND(X117*AF101,5)","v":0},{"$f":"ROUND(Y117*AF101,5)","v":0},{"$f":"SUM(J121:Y121)","v":0}]
[null,null,null,null,null,9,null,"Всего стоимость СМР в прогнозном уровне цен","тыс. руб.",{"$f":"J119+J118+J120+J121","v":0},{"$f":"K119+K118+K120+K121","v":0},{"$f":"L119+L118+L120+L121","v":0},0,0,0,0,0,0,0,0,0,0,0,0,0,{"$f":"SUM(J122:Y122)","v":0}]
[null,null,null,null,null,null,null,"*     Доля освоения в соответствующем квартале рассчитывается как выраженное в процентах отношение объема работ в стоимостном выражении, планируемого к выполнению в соответствующем квартале, к общему объему работ в стоимостном выражении"]
[]
[null,null,null,null,null,null,"Примечание : расчет должен быть выполнен на основании утвержденной ПСД и технического задания с включением в него всех работ и затрат, указанных в техническом задании и проектной документации"]
[]
[]
[null,null,null,null,null,null,null,null,{"$f":"'Исходные данные'!executor2","v":"Ответственный исполнитель ОЦП по КВ"},null,null,{"$f":"'Исходные данные'!executor2Position","v":"Ведущий специалист"},null,{"$f":"'Исходные данные'!executor2Fio","v":"Берестова А.В."}]
[null,null,null,null,null,null,null,null,null,null,null,"должность",null,"Ф.И.О."]
[]
[null,null,null,null,null,null,null,null,{"$f":"'Сопроводительная записка'!executor6","v":"Начальник ОЦП по КВ "},null,null,null,null,{"$f":"'Сопроводительная записка'!executor6Fio","v":"И.А. Овсянникова"}]
[null,null,null,null,null,null,null,null,null,null,null,"должность",null,"Ф.И.О."]

{"sheet":"smrTemplate_common","index":14,"n_rows":33,"n_cols":6,"rows_kept":33,"cut":false,"hidden":true,"merged":[[26,2,26,5],[27,2,27,5],[3,2,3,5],[22,2,22,5],[23,2,23,5],[24,2,24,5],[25,2,25,5],[4,2,4,5]]}
[]
[]
[]
[null,"95B8996E-A92E-40F2-8A9B-251AB1F004D4","Расчет стоимости СМР"]
[null,null,{"$f":"'Исходные данные'!D19","v":"Строительство объектов энергетики Правдинского региона"}]
[]
[null,null,null,"Шифр проекта",{"$f":"'Исходные данные'!projectcode","v":"1980615/0880Д"},{"$f":"'Исходные данные'!lotNumber","v":"2000350438 (680-20-КС(ТЗ))"}]
[null,null,null,"Разработчик проекта",{"$f":"'Исходные данные'!projectdeveloper","v":"ООО «РН-УфаНИПИнефть»"},"Срок строительства:"]
[null,null,null,"Заказчик","ООО \"РН-Юганскнефтегаз\"",{"$f":"'Исходные данные'!termconstruction","v":"10.03.2021 - 30.06.2021"}]
[]
[null,null,"№ п/п","Наименование работ и затрат","Ед.изм.","Стоимость в текущих ценах"]
[null,null,1,2,3,4]
[null,null,"C10","C11","C12","C14"]
["smr1",null,1,"Услуги подрядчика","руб."]
["smr2",null,2,"Стоимость ТМЦ поставки подрядчика, в.т.ч.","руб."]
["smr3",null,3,"Стоимость ТМЦ обеспечения Заказчика","руб."]
["smr4",null,4,"Прочие затраты Закзчика","руб."]
["smr5",null,5,"Итого затраты Подрядчика, с учетом НДС ","руб."]
["smr6",null,6,"Итого затраты Заказчика, с учетом НДС ","руб."]
["smr7",null,7,"ВСЕГО, с учетом НДС","руб."]
[]
[null,null,null,"Примечание:"]
[null,null,"1.Размер затрат на временные здания и сооружения следует определять расчетом с документальным подтверждением в пределах лимита, установленного договором строительного подряда."]
[null,null,"2. При расчетах за выполненные работы затраты, связанные с удорожанием работ в зимний период, следует принимать не более норматива, предусмотренного договором строительного подряда. При производстве работ только в летний период начисление норм дополнительных затрат на производство в зимнее время запрещается."]
[null,null,"3. Затраты, связанные с перевозкой рабочих автотранспортом, следует определять расчетом с документальным подтверждением в пределах лимита, установленного договором строительного подряда."]
[null,null,"4. Компенсацию непредвиденных расходов следует осуществлять в пределах лимита, установленного договором строительного подряда, на основании подтверждающих документов."]
[null,null,"5. Затраты по разделу \"Прочие работы и затраты\" подлежат возмещению по факту произведенных затрат, с обязательным предоставлением подтверждающих документов."]
[null,null,"6. При завершении работ по наладке в соответствии с проектной документацией и нормативами производится паспортизация оборудования, за которую отвечает организация, проводящая его пусконаладку."]
[]
[]
[]
[null,null,null,{"$f":"'Исходные данные'!executor2 &\" _____________________________ \"","v":"Ответственный исполнитель ОЦП по КВ _____________________________ "},{"$f":"'Исходные данные'!executor2Position","v":"Ведущий специалист"},{"$f":"'Исходные данные'!executor2Fio","v":"Берестова А.В."}]
[null,null,null,null,"должность","Ф.И.О."]

{"sheet":"priceTemplate_common","index":15,"n_rows":153,"n_cols":38,"rows_kept":153,"cut":false,"hidden":true,"merged":[[91,12,92,12],[91,13,92,13],[89,9,90,13],[105,7,106,7],[105,10,105,13],[105,14,105,17],[97,7,97,11],[10,34,12,34],[10,24,12,24],[10,25,12,25],[10,26,12,26],[10,27,12,27],[10,28,12,28],[10,29,12,29],[10,30,12,30],[10,31,12,31],[10,32,12,32],[10,33,12,33],[89,7,92,7],[89,8,92,8],[89,18,89,37],[9,6,12,6],[9,7,12,7],[9,8,12,8],[9,9,12,9],[9,10,12,10],[90,37,92,37],[91,22,92,22],[90,34,92,34],[90,36,92,36],[91,27,92,27],[91,28,92,28],[91,29,92,29],[90,22,90,29],[91,23,92,23],[91,24,92,24],[90,33,92,33],[90,35,92,35],[90,32,92,32],[11,20,11,21],[11,22,11,23],[11,15,12,15],[91,25,92,25],[91,26,92,26],[90,21,92,21],[90,18,92,18],[91,19,92,19],[91,20,92,20],[10,19,12,19],[10,20,10,23],[87,7,87,11],[5,7,5,11],[11,13,12,13],[11,14,12,14],[90,31,92,31],[91,14,91,15],[91,16,91,17],[89,14,90,17],[91,9,92,9],[91,10,92,10],[9,19,9,34],[10,11,12,11],[10,12,10,18],[90,19,90,20],[90,30,92,30],[91,11,92,11],[151,12,151,13],[152,12,152,13],[152,14,152,15],[151,14,151,15],[4,7,4,11],[9,11,9,18],[11,12,12,12],[99,8,100,8],[99,9,100,9],[99,10,99,13],[99,14,99,17],[99,18,99,21],[11,16,12,16],[11,17,12,17],[11,18,12,18],[99,7,100,7],[99,26,100,26],[102,8,102,26],[148,14,148,15],[149,14,149,15],[148,12,148,13],[117,7,117,11],[149,12,149,13],[103,7,103,11],[116,8,116,26],[105,9,106,9],[105,8,106,8],[105,22,105,25],[105,26,106,26],[99,22,99,25],[120,7,120,10],[105,18,105,21]]}
[]
[]
[]
[]
["95B8996E-A92E-40F2-8A9B-251AB1F004D4",null,null,null,null,null,null,"Расчет стоимости строительства по лоту",null,null,null,null,null,"Шифр проекта",{"$f":"'Исходные данные'!projectcode","v":"1980615/0880Д"},null,null,null,null,"5.50"]
[null,null,null,null,null,null,null,{"$f":"'Исходные данные'!D19","v":"Строительство объектов энергетики Правдинского региона"},null,null,null,null,null,"Разработчик проекта",{"$f":"'Исходные данные'!projectdeveloper","v":"ООО «РН-УфаНИПИнефть»"}]
[null,null,null,null,null,null,null,null,null,null,null,null,null,"Заказчик","ООО \"РН-Юганскнефтегаз\""]
[null,null,null,null,null,null,null,null,null,null,null,null,null,null,{"$f":"'Исходные данные'!lotNumber","v":"2000350438 (680-20-КС(ТЗ))"}]
[]
[null,null,null,null,null,null,"№","Обоснование (№ЛС)","Наименование работ и затрат","Единица измерения мощности (км, м3, шт и т.д.)","Количество","Базисный уровень цен 2001г.",null,null,null,null,null,null,null,"Текущий уровень цен"]
[null,null,null,null,null,null,null,null,null,null,null,"Стоимость объекта всего, тыс. руб.","в том числе:",null,null,null,null,null,null,"Стоимость МТР всего, тыс. руб.","в том числе:",null,null,null,"Оплата труда  основных рабочих, тыс.руб.","Трудозатраты основных рабочих, чел-час","Затраты на эксплуатацию машин и механизмов,  тыс. руб.","Оплата труда механизаторов, тыс.руб.","Трудозатраты рабочих-механизаторов, чел-час","Накладные расходы, тыс. руб.","Сметная прибыль, тыс. руб.","Стоимость строительства объекта без учета затрат Заказчика, тыс. руб.","Общая стоимость строительства объекта (с учетом затрат Заказчика), тыс. руб.","Полная стоимость с учетом материалов и оборудования поставки Заказчика"," Полная стоимость с учетом материалов и оборудования поставки Заказчика с учетом прочих затрат и НДС"]
[null,null,null,null,null,null,null,null,null,null,null,null,"Стоимость оборудования всего, тыс. руб.","Стоимость материалов всего, тыс. руб.","Оплата труда основных рабочих, тыс. руб.","Стоимость ЭММ, тыс. руб.","в том числе оплата труда механизаторов, тыс. руб.","Накладные расходы, тыс. руб.","Сметная прибыль, тыс. руб.",null,"Поставка Заказчика",null,"Поставка Подрядчика"]
[null,null,null,null,null,null,null,null,null,null,null,null,null,null,null,null,null,null,null,null,"Стоимость оборудования, тыс. руб.","Стоимость материалов, тыс. руб.","Стоимость оборудования, тыс. руб.","Стоимость материалов, тыс. руб."]
[null,null,null,null,null,null,1,2,3,4,5,6,7,8,9,10,11,12,13,14,15,16,17,18,19,20,21,22,23,24,25,26,27,28,29]
[null,"object_code","outlay_code","exception_code","exception_type","exception_mark","C10","C11","C12","C13","C14","C15","C16","C17","C18","C19","C20","C21","C22","C23","C24","C25","C26","C27","C28","C29","C30","C31","C32","C33","C34","C35","C36","C37","C38"]
["Глава 1-7",null,null,null,null,null,null,null,"ГЛАВА 1-7. Подготовка территории и основные объекты строительства"]
["Глава 1-7Итог",null,null,null,null,null,null,null,"ИТОГО ГЛАВЫ 1-7 Подготовка территории и основные объекты строительства"]
[]
["БлокЛимитбазы1",null,null,null,null,null,null,null,"Лимит базы 2001г  МТР для начисления лимитированных",null,null,{"$f":"M17+N19+O17+P17+R17+S17","v":0},null,{"$f":"N17","v":0}]
[]
["Глава 8",null,null,null,null,null,null,null,"ГЛАВА 8. Временные здания и сооружения"]
["Глава 8Итог",null,null,null,null,null,null,null,"ИТОГО ГЛАВА 8. Временные здания и сооружения"]
[]
["Глава 1-8",null,null,null,null,null,null,null,"ИТОГО ГЛАВЫ 1-8",null,null,{"$f":"L17+L22","v":0},0,0,0,0,0,0,0,null,null,null,null,null,{"$f":"Y17+Y22","v":0},0,0,0,0,0,0,0]
[]
["БлокЛимитбазы2",null,null,null,null,null,null,null,"Лимит базы 2001г  МТР для начисления лимитированных",null,null,{"$f":"M24+N26+O24+P24+R24+S24","v":0},null,{"$f":"N24","v":0}]
[]
["БлокГлава9",null,null,null,null,null,null,null,"ГЛАВА 9. Прочие работы и затраты"]
["БлокГлава9ПЗЗУ",null,null,null,null,null,null,null,"Зимнее удорожание"]
["БлокГлава9ПЗС",null,null,null,null,null,null,null,"Снегоборьба"]
["БлокГлава9ПЗБГ",null,null,null,null,null,null,null,"Борьба с гнусом"]
[]
["Глава 9",null,null,null,null,null,null,null,"ПРОЧИЕ РАБОТЫ"]
["Глава 9Итог",null,null,null,null,null,null,null,"ИТОГО ПРОЧИЕ РАБОТЫ"]
[]
[null,null,null,null,null,null,null,null,"ИТОГО С ПРОЧИМИ РАБОТАМИ",null,null,{"$f":"L24+L29+L30+L31+L34","v":0},0,0,0,0,0,0,0,null,null,null,null,null,{"$f":"Y24+Y29+Y30+Y31+Y34","v":0},0,0,0,0,0,0,0]
[]
["ПНР",null,null,null,null,null,null,null,"ПНР"]
["ПНРИтог",null,null,null,null,null,null,null,"ИТОГО ПНР"]
[]
[null,null,null,null,null,null,null,null,"ИТОГО С ПНР",null,null,{"$f":"L36+L39","v":0},0,0,0,0,0,0,0,null,null,null,null,null,{"$f":"Y36+Y39","v":0},0,0,0,0,0,0,0]
[]
["Врезка",null,null,null,null,null,null,null,"ВРЕЗКА"]
["ВрезкаИтог",null,null,null,null,null,null,null,"ИТОГО ВРЕЗКА"]
[]
[null,null,null,null,null,null,null,null,"ИТОГО С ВРЕЗКА",null,null,{"$f":"L41+L44","v":0},0,0,0,0,0,0,0,null,null,null,null,null,{"$f":"Y41+Y44","v":0},0,0,0,0,0,0,0]
[]
["Разница в стоимости электроэнергии",null,null,null,null,null,null,null,"Разница в стоимости электроэнергии"]
["Разница в стоимости электроэнергииИтог",null,null,null,null,null,null,null,"ИТОГО Разница в стоимости электроэнергии"]
[]
[null,null,null,null,null,null,null,null,"ИТОГО С Разницей в стоимости электроэнергии",null,null,{"$f":"L46+L49","v":0},0,0,0,0,0,0,0,null,null,null,null,null,{"$f":"Y46+Y49","v":0},0,0,0,0,0,0,0]
[]
["БлокГлава9ПТ",null,null,null,null,null,null,null,"Перебазировка техники сверх нормативной величины"]
["БлокГлава9ПТИтог",null,null,null,null,null,null,null,"Итого Перебазировка техники сверх нормативной величины"]
[]
["БлокГлава9ВМ",null,null,null,null,null,null,null,"Затраты, связанные с осуществлением работ вахтовым методом"]
["БлокГлава9ВМИтог",null,null,null,null,null,null,null,"Итого Затраты, связанные с осуществлением работ вахтовым методом"]
[]
["БлокГлава9Т",null,null,null,null,null,null,null,"Затраты по перевозке автомобильным транспортом работников строительно-монтажных организаций"]
["БлокГлава9ТИтог",null,null,null,null,null,null,null,"Итого Затраты по перевозке автомобильным транспортом работников строительно-монтажных организаций"]
[]
[null,null,null,null,null,null,null,null,"ИТОГО ПРОЧИЕ ЗАТРАТЫ",null,null,null,null,null,null,null,null,null,null,null,null,null,null,null,null,null,null,null,null,null,null,{"$f":"AF54+AF57+AF60","v":0}]
[]
[null,null,null,null,null,null,null,null,"ИТОГО С ПРОЧИМИ ЗАТРАТАМИ",null,null,null,null,null,null,null,null,null,null,null,null,null,null,null,null,null,null,null,null,null,null,{"$f":"AF51+AF62","v":0}]
[]
["Испытание свай",null,null,null,null,null,null,null,"ИСПЫТАНИЕ СВАЙ"]
["Испытание свайИтог",null,null,null,null,null,null,null,"ИТОГО ИСПЫТАНИЕ СВАЙ"]
[]
[null,null,null,null,null,null,null,null,"ИТОГО С ИСПЫТАНИЕМ СВАЙ",null,null,null,null,null,null,null,null,null,null,null,null,null,null,null,null,null,null,null,null,null,null,{"$f":"AF64+AF67","v":0}]
[]
["БлокМатериалыПП",null,"БлокМатериалыОПП",null,null,null,null,null,"Материалы и оборудование в текущем уровне цен согласно разделительной ведомости "]
["БлокМатериалыППИтог",null,null,null,null,null,null,null,"Итого Материалы и оборудование в текущем уровне цен согласно разделительной ведомости "]
[]
["БлокМатериалыЗПог",null,null,null,null,null,null,null,"Дополнительные затраты на траспортировку и погрузку щебня поставки Заказчика"]
["БлокМатериалыЗПогИтог",null,null,null,null,null,null,null,"Итого Дополнительные затраты на траспортировку и погрузку щебня поставки Заказчика"]
[]
["БлокНЗ",null,null,null,null,null,null,null,"Непредвиденные затраты"]
[]
[null,null,null,null,null,null,null,null,"ИТОГО с учетом всех затрат",null,null,null,null,null,null,null,null,null,null,null,null,null,null,null,null,null,null,null,null,null,null,{"$f":"AF69+AF72+AF75+AF77","v":0},{"$f":"AG69+AG77/2+AG72+AG75","v":0}]
[null,null,null,null,null,null,null,null,"   - НДС",null,{"$f":"K136","v":0.2},null,null,null,null,null,null,null,null,null,null,null,null,null,null,null,null,null,null,null,null,{"$f":"AF79*K80","v":0},{"$f":"AG79*K80","v":0}]
[null,null,null,null,null,null,null,null,"ИТОГО с учетом НДС",null,null,null,null,null,null,null,null,null,null,null,null,null,null,null,null,null,null,null,null,null,null,{"$f":"AF79+AF80","v":0},{"$f":"AG79+AG80","v":0}]
[null,null,null,null,null,null,null,null,"Затраты на СМР без учета ТМЦ, ПНР,  врезки",null,null,null,null,null,null,null,null,null,null,null,null,null,null,null,null,null,null,null,null,null,null,{"$f":"AF81-AF83-AF84-AF85","v":0},{"$f":"AG81-AG83-AG84-AG85-AG86","v":0}]
[null,null,null,null,null,null,null,null,"Затраты на ТМЦ поставки подрядчика",null,null,null,null,null,null,null,null,null,null,null,null,null,null,null,null,null,null,null,null,null,null,{"$f":"AF72*(1+nds)","v":0},{"$f":"AF83","v":0}]
[null,null,null,null,null,null,null,null,"Затраты на ПНР с учетом непредвиденных расходов",null,null,null,null,null,null,null,null,null,null,null,null,null,null,null,null,null,null,null,null,null,null,{"$f":"AF39*(1+nds)+AF39*(1+nds)*K141","v":0},{"$f":"AF84","v":0}]
[null,null,null,null,null,null,null,null,"Затраты на врезку",null,null,null,null,null,null,null,null,null,null,null,null,null,null,null,null,null,null,null,null,null,null,{"$f":"AF44*(1+nds)","v":0},{"$f":"AF85","v":0}]
[null,null,null,null,null,null,null,null,"Справочно:МТР поставки Заказчика",null,null,null,null,null,null,null,null,null,null,null,null,null,null,null,null,null,null,null,null,null,null,null,{"$f":"AG72-AF72","v":0}]
[]
[null,null,null,null,null,null,null,"Распределение суммы договора по объектам лота"]
[]
[null,null,null,null,null,null,null,"№ п/п","Наименование объекта","Базовая стоимость МТР ",null,null,null,null,"Материалы, текущий у/ц согласно РВ",null,null,null,"Текущий уровень цен"]
[null,null,null,null,null,null,null,null,null,null,null,null,null,null,null,null,null,null,"ИТОГО СМР по гл.1-7, \nтыс. руб.","Глава 8",null,"ИТОГО СМР \nпо гл.1-8, \nтыс. руб. без НДС","Глава 9. Прочие работы и затраты",null,null,null,null,null,null,null,"ИТОГО УСЛУГИ  \nпо гл.1-9, \nтыс. руб. без НДС","Затраты на \nиспытание свай, \nтыс. руб. без НДС","Врезка","Разница в стоимости электроэнергии","Затраты на траспортировку и \nпогрузку щебня поставки Заказчика, \nтыс. руб. без НДС","Непредвиденные работы и затраты, \nтыс. руб. без НДС","Стоимость ВСЕГО без учета материалов и оборудования поставки Заказчика, \nтыс. руб.  с НДС","Стоимость ВСЕГО с учетом материалов и оборудования поставки Заказчика с учетом прочих затрат и НДС"]
[null,null,null,null,null,null,null,null,null,"ИТОГО \nглавы 1-7, \nтыс. руб.","ИТОГО \nглава 8, \nтыс. руб. ","ИТОГО \nпо гл.1-8, \nтыс. руб.","ИТОГО \nстоимость оборудования, \nтыс. руб.","ИТОГО \nстоимость материалов, \nтыс. руб.","Поставка Заказчика",null,"Поставка Подрядчика",null,null,"Лимит затрат на ВЗиС, учтенный нормативом, \nтыс. руб.","ВЗиС (ЛС) сверх лимита, учтенного нормативом, \nтыс. руб.",null,"Зимнее удорожание, \nтыс. руб. без НДС","Снегоборьба, \nтыс. руб. без НДС","Борьба \nс гнусом, \nтыс. руб. без НДС","Первон.очистка от снега, \nтыс. руб. без НДС","ПНР, \nтыс. руб. без НДС","Мобилизация, \nтыс. руб. без НДС","Вахтовая перевозка, \nтыс. руб. без НДС","Ежедневная \nвозка, \nтыс. руб. без НДС"]
[null,null,null,null,null,null,null,null,null,null,null,null,null,null,"Стоимость оборудования, тыс. руб.","Стоимость материалов, тыс. руб.","Стоимость оборудования, тыс. руб.","Стоимость материалов, тыс. руб."]
[null,null,null,null,null,null,null,1,2,3,4,5,5,5,6,7,8,9,10,11,12,13,14,15,16,17,18,19,20,21,22,23,24,25,26,27,28,29]
[null,null,null,null,null,null,null,"C11","C12","C13","C14","C15","C42","C43","C16","C17","C18","C19","C22","C23","C24","C25","C26","C27","C28","C29","C30","C31","C32","C33","C34","C36","C40","C41","C37","C35","C38","C39"]
[null,null,null,null,null,null,null,null,"ВСЕГО"]
[null,null,null,null,null,null,null,null,null,{"$f":"J96-N17","v":0},{"$f":"K96-N22","v":0},{"$f":"L96-N24","v":0},null,null,{"$f":"O96-U72","v":0},{"$f":"P96-V72","v":0},{"$f":"Q96-W72","v":0},{"$f":"R96-X72","v":0},{"$f":"S96-AF17","v":0},null,null,{"$f":"V96-AF24","v":0},null,null,null,{"$f":"Z96-AF34","v":0},{"$f":"AA96-AF39","v":0},{"$f":"AB96-AF54","v":0},{"$f":"AC96-AF57","v":0},{"$f":"AD96-AF60","v":0},{"$f":"AE96-(AF41+AF62)","v":0},{"$f":"AF96-AF67","v":0},{"$f":"AG96-AF44","v":0},{"$f":"AH96-AF49","v":0},{"$f":"AI96-AF75","v":0},null,{"$f":"AK96-AF81","v":0},{"$f":"AL96-AG81","v":0}]
[null,null,null,null,null,null,null,"Стоимость строительства объекта в прогнозном уровне цен"]
[]
[null,null,null,null,null,null,null,"№ п/п","Наименование показателя",null,{"$f":"'Исходные данные'!V21","v":2021},null,null,null,{"$f":"K100+1","v":2022},null,null,null,{"$f":"O100+1","v":2023},null,null,null,{"$f":"S100+1","v":2024},null,null,null,"Итоговый показатель"]
["БлокПрогноз",null,null,null,null,null,null,null,null,null,"I квартал","II квартал","III квартал","IV квартал","I квартал","II квартал","III квартал","IV квартал","I квартал","II квартал","III квартал","IV квартал","I квартал","II квартал","III квартал","IV квартал"]
["БлокПрогнозИтог",null,null,null,null,null,null,null,"ВСЕГО"]
["lastRow"]
[null,null,null,null,null,null,null,"Стоимость строительства объекта в прогнозном уровне цен"]
[]
[null,null,null,null,null,null,null,"№ п/п","Наименование показателя",null,{"$f":"'Исходные данные'!V21","v":2021},null,null,null,{"$f":"K106+1","v":2022},null,null,null,{"$f":"O106+1","v":2023},null,null,null,{"$f":"S106+1","v":2024},null,null,null,"Итоговый показатель"]
[null,null,null,null,null,null,null,null,null,null,"I квартал","II квартал","III квартал","IV квартал","I квартал","II квартал","III квартал","IV квартал","I квартал","II квартал","III квартал","IV квартал","I квартал","II квартал","III квартал","IV квартал"]
["БлокПрогнозОбщий",null,null,null,null,null,null,1,"Прогнозное распределение СМР без учета ТМЦ и ПНР","%",null,null,null,null,null,null,null,null,null,null,null,null,null,null,null,null,{"$f":"IF((K108+L108+M108+N108+O108+P108+Q108+R108+S108+T108+U108+V108+W108+X108+Y108+Z108)<>100%,\"ОШИБКА\",1)","v":"ОШИБКА"}]
[null,null,null,null,null,null,null,2,"Прогнозное распределение ТМЦ поставки Подрядчика","%",{"$f":"K108","v":0},{"$f":"L108","v":0},0,0,0,0,0,0,0,0,0,0,0,0,0,0,{"$f":"IF((K109+L109+M109+N109+O109+P109+Q109+R109+S109+T109+U109+V109+W109+X109+Y109+Z109)<>100%,\"ОШИБКА\",1)","v":"ОШИБКА"}]
[null,null,null,null,null,null,null,3,"Прогнозное распределение ПНР","%",{"$f":"K108","v":0},{"$f":"L108","v":0},0,0,0,0,0,0,0,0,0,0,0,0,0,0,{"$f":"IF((K110+L110+M110+N110+O110+P110+Q110+R110+S110+T110+U110+V110+W110+X110+Y110+Z110)<>100%,\"ОШИБКА\",1)","v":"ОШИБКА"}]
[null,null,null,null,null,null,null,4,"Прогнозное распределение врезки","%",{"$f":"K108","v":0},{"$f":"L108","v":0},0,0,0,0,0,0,0,0,0,0,0,0,0,0,{"$f":"IF((K111+L111+M111+N111+O111+P111+Q111+R111+S111+T111+U111+V111+W111+X111+Y111+Z111)<>100%,\"ОШИБКА\",1)","v":"ОШИБКА"}]
[null,null,null,null,null,null,null,5,"Стоимость СМР без учета ТМЦ и ПНР в прогнозном распределении","тыс. руб.",{"$f":"K108*AF82","v":0},{"$f":"L108*AF82","v":0},{"$f":"M108*AF82","v":0},{"$f":"N108*AF82","v":0},{"$f":"O108*AF82","v":0},{"$f":"P108*AF82","v":0},{"$f":"Q108*AF82","v":0},{"$f":"R108*AF82","v":0},{"$f":"S108*AF82","v":0},{"$f":"T108*AF82","v":0},{"$f":"U108*AF82","v":0},{"$f":"V108*AF82","v":0},{"$f":"W108*AF82","v":0},{"$f":"X108*AF82","v":0},{"$f":"Y108*AF82","v":0},{"$f":"Z108*AF82","v":0},{"$f":"SUM(K112:Z112)","v":0}]
[null,null,null,null,null,null,null,6,"Стоимость ТМЦ поставки Подрядчика в прогнозном распределении","тыс. руб.",{"$f":"K109*AF83","v":0},{"$f":"L109*AF83","v":0},{"$f":"M109*AF83","v":0},{"$f":"N109*AF83","v":0},{"$f":"O109*AF83","v":0},{"$f":"P109*AF83","v":0},{"$f":"Q109*AF83","v":0},{"$f":"R109*AF83","v":0},{"$f":"S109*AF83","v":0},{"$f":"T109*AF83","v":0},{"$f":"U109*AF83","v":0},{"$f":"V109*AF83","v":0},{"$f":"W109*AF83","v":0},{"$f":"X109*AF83","v":0},{"$f":"Y109*AF83","v":0},{"$f":"Z109*AF83","v":0},{"$f":"SUM(K113:Z113)","v":0}]
[null,null,null,null,null,null,null,7,"Стоимость ПНР в прогнозном распределении","тыс. руб.",{"$f":"K110*AF84","v":0},{"$f":"L110*AF84","v":0},{"$f":"M110*AF84","v":0},{"$f":"N110*AF84","v":0},{"$f":"O110*AF84","v":0},{"$f":"P110*AF84","v":0},{"$f":"Q110*AF84","v":0},{"$f":"R110*AF84","v":0},{"$f":"S110*AF84","v":0},{"$f":"T110*AF84","v":0},{"$f":"U110*AF84","v":0},{"$f":"V110*AF84","v":0},{"$f":"W110*AF84","v":0},{"$f":"X110*AF84","v":0},{"$f":"Y110*AF84","v":0},{"$f":"Z110*AF84","v":0},{"$f":"SUM(K114:Z114)","v":0}]
[null,null,null,null,null,null,null,8,"Стоимость врезки в прогнозном распределении","тыс. руб.",{"$f":"K111*AF85","v":0},{"$f":"L111*AF85","v":0},{"$f":"M111*AF85","v":0},{"$f":"N111*AF85","v":0},{"$f":"O111*AF85","v":0},{"$f":"P111*AF85","v":0},{"$f":"Q111*AF85","v":0},{"$f":"R111*AF85","v":0},{"$f":"S111*AF85","v":0},{"$f":"T111*AF85","v":0},{"$f":"U111*AF85","v":0},{"$f":"V111*AF85","v":0},{"$f":"W111*AF85","v":0},{"$f":"X111*AF85","v":0},{"$f":"Y111*AF85","v":0},{"$f":"Z111*AF85","v":0},{"$f":"SUM(K115:Z115)","v":0}]
[null,null,null,null,null,null,null,9,"Всего стоимость СМР в прогнозном уровне цен","тыс. руб.",{"$f":"K113+K112+K114+K115","v":0},{"$f":"L113+L112+L114+L115","v":0},{"$f":"M113+M112+M114+M115","v":0},0,0,0,0,0,0,0,0,0,0,0,0,0,{"$f":"SUM(K116:Z116)","v":0}]
[null,null,null,null,null,null,null,null,"*     Доля освоения в соответствующем квартале рассчитывается как выраженное в процентах отношение объема работ в стоимостном выражении, планируемого к выполнению в соответствующем квартале, к общему объему работ в стоимостном выражении"]
[]
[null,null,null,null,null,null,null,"Примечание : расчет должен быть выполнен на основании утвержденной ПСД и технического задания с включением в него всех работ и затрат, указанных в техническом задании и проектной документации"]
[]
[null,null,null,null,null,null,null,"Ценовые нормативы, применяемые при расчете Договорной цены"]
[]
[null,null,null,null,null,null,null,"№ п/п","Наименование","Единица измерения","Ценовые нормативы "]
[null,null,null,null,null,null,null,1,2,3,4]
[null,null,null,null,null,null,null,"C10","C11","C14","C12"]
[null,null,null,null,null,null,"Price1",1,"Индекс оплаты труда основных рабочих и механизаторов СМР",null,{"$f":"'Ценовые нормативы'!E17","v":14.29}]
[null,null,null,null,null,null,"Price2",2,"Индекс эксплуатации машин и механизмов СМР",null,{"$f":"'Ценовые нормативы'!E18","v":7.86}]
[null,null,null,null,null,null,"Price3",3,"Индекс на перевозку грузов",null,{"$f":"'Ценовые нормативы'!E19","v":6.41}]
[null,null,null,null,null,null,"Price4",4,"Индекс МТР (для расчета лимитированных затрат) СМР",null,{"$f":"'Ценовые нормативы'!E20","v":4.16}]
[null,null,null,null,null,null,"Price5",5,"Индекс к оплате труда пусконаладочного персонала",null,{"$f":"'Ценовые нормативы'!E21","v":14.29}]
[null,null,null,null,null,null,"Price8",6,"Коэффициент к накладным расходам для СМР (кроме работ по строительству мостов)",null,{"$f":"'Ценовые нормативы'!E24","v":1}]
[null,null,null,null,null,null,"Price9",7,"Коэффициент к сметной прибыли для СМР (кроме работ по строительству мостов)",null,{"$f":"'Ценовые нормативы'!E25","v":1}]
[null,null,null,null,null,null,"Price10",8,"Коэффициент к накладным расходам для СМР (для работ по строительству мостов)",null,{"$f":"'Ценовые нормативы'!E26","v":1}]
[null,null,null,null,null,null,"Price11",9,"Коэффициент к сметной прибыли для СМР (для работ по строительству мостов)",null,{"$f":"'Ценовые нормативы'!E27","v":1}]
[null,null,null,null,null,null,"Price14",10,"Средневзвешенный курс евро 2013г.","руб.",{"$f":"'Ценовые нормативы'!E30","v":42.19}]
[null,null,null,null,null,null,"Price15",11,"НДС","%",{"$f":"'Ценовые нормативы'!E31","v":0.2}]
[null,null,null,null,null,null,"Price19",12,"Норма затрат на временные здания и сооружения","%",{"$f":"'Ценовые нормативы'!E35","v":2.5000000000000001E-2}]
[null,null,null,null,null,null,"Price20",13,"Норма затрат на удорожание работ в зимний период","%",{"$f":"'Ценовые нормативы'!E36","v":3.6999999999999998E-2}]
[null,null,null,null,null,null,"Price21",14,"Норма затрат на снегоборьбу","%",{"$f":"'Ценовые нормативы'!E37","v":4.0000000000000001E-3}]
[null,null,null,null,null,null,"Price22",15,"Норма затрат на борьбу с гнусом","%",{"$f":"'Ценовые нормативы'!E38","v":1E-3}]
[null,null,null,null,null,null,"Price23",16,"Норматив непредвиденных расходов","%",{"$f":"'Ценовые нормативы'!E39","v":1.4999999999999999E-2}]
[null,null,null,null,null,null,"Price25",17,"Индекс на динамическое испытание свай",null,{"$f":"'Ценовые нормативы'!E40","v":2.5950000000000002}]
[null,null,null,null,null,null,"Price24",18,"Индекс МТР для определения текущей стоимости вспомогательных материалов поставки Подрядчика",null,{"$f":"'Ценовые нормативы'!E41","v":4.16}]
[null,null,null,null,null,null,"Price26",19,"Индекс МТР для определения текущей стоимости оборудования поставки Подрядчика",null,{"$f":"'Ценовые нормативы'!E42","v":5.01}]
["lastRow2",null,null,null,null,null,"Price27",20,"Индекс на погрузочно-разгрузочные работы",null,{"$f":"'Ценовые нормативы'!E43","v":9.5299999999999994}]
[]
[]
[]
[null,null,null,null,null,null,null,null,null,{"$f":"'Исходные данные'!executor2","v":"Ответственный исполнитель ОЦП по КВ"},null,null,{"$f":"'Исходные данные'!executor2Position","v":"Ведущий специалист"},null,{"$f":"'Исходные данные'!executor2Fio","v":"Берестова А.В."}]
[null,null,null,null,null,null,null,null,null,null,null,null,"должность",null,"Ф.И.О."]
[]
[null,null,null,null,null,null,null,null,null,{"$f":"'Сопроводительная записка'!executor6","v":"Начальник ОЦП по КВ "},null,null,null,null,{"$f":"'Сопроводительная записка'!executor6Fio","v":"И.А. Овсянникова"}]
[null,null,null,null,null,null,null,null,null,null,null,null,"должность",null,"Ф.И.О."]

{"sheet":"priceTemplate_common_round","index":16,"n_rows":153,"n_cols":38,"rows_kept":153,"cut":false,"hidden":true,"merged":[[91,12,92,12],[91,13,92,13],[89,9,90,13],[9,6,12,6],[9,7,12,7],[9,8,12,8],[9,9,12,9],[9,10,12,10],[87,7,87,11],[11,16,12,16],[11,17,12,17],[10,33,12,33],[4,7,4,11],[5,7,5,11],[9,11,9,18],[11,12,12,12],[11,13,12,13],[11,18,12,18],[10,32,12,32],[90,37,92,37],[90,31,92,31],[90,32,92,32],[9,19,9,34],[10,11,12,11],[10,12,10,18],[10,19,12,19],[10,20,10,23],[10,24,12,24],[10,25,12,25],[10,26,12,26],[10,27,12,27],[10,28,12,28],[11,22,11,23],[11,14,12,14],[11,15,12,15],[10,34,12,34],[11,20,11,21],[10,29,12,29],[10,30,12,30],[10,31,12,31],[105,18,105,21],[105,22,105,25],[91,19,92,19],[91,20,92,20],[91,22,92,22],[105,26,106,26],[91,26,92,26],[91,27,92,27],[91,28,92,28],[91,29,92,29],[89,14,90,17],[89,18,89,37],[90,18,92,18],[90,19,90,20],[91,23,92,23],[91,24,92,24],[91,25,92,25],[90,30,92,30],[90,35,92,35],[90,21,92,21],[90,22,90,29],[91,14,91,15],[91,16,91,17],[90,33,92,33],[90,34,92,34],[90,36,92,36],[99,7,100,7],[99,8,100,8],[91,9,92,9],[91,10,92,10],[91,11,92,11],[89,7,92,7],[89,8,92,8],[97,7,97,11],[120,7,120,10],[99,18,99,21],[99,22,99,25],[99,26,100,26],[102,8,102,26],[99,9,100,9],[99,10,99,13],[99,14,99,17],[103,7,103,11],[105,7,106,7],[105,8,106,8],[105,9,106,9],[105,10,105,13],[105,14,105,17],[116,8,116,26],[117,7,117,11],[151,12,151,13],[151,14,151,15],[152,12,152,13],[152,14,152,15],[148,12,148,13],[148,14,148,15],[149,12,149,13],[149,14,149,15]]}
[]
[]
[]
[]
["95B8996E-A92E-40F2-8A9B-251AB1F004D4",null,null,null,null,null,null,"Расчет стоимости строительства по лоту",null,null,null,null,null,"Шифр проекта",{"$f":"'Исходные данные'!projectcode","v":"1980615/0880Д"},null,null,null,null,"5.50"]
[null,null,null,null,null,null,null,{"$f":"'Исходные данные'!D19","v":"Строительство объектов энергетики Правдинского региона"},null,null,null,null,null,"Разработчик проекта",{"$f":"'Исходные данные'!projectdeveloper","v":"ООО «РН-УфаНИПИнефть»"}]
[null,null,null,null,null,null,null,null,null,null,null,null,null,"Заказчик","ООО \"РН-Юганскнефтегаз\""]
[null,null,null,null,null,null,null,null,null,null,null,null,null,null,{"$f":"'Исходные данные'!lotNumber","v":"2000350438 (680-20-КС(ТЗ))"}]
[]
[null,null,null,null,null,null,"№","Обоснование (№ЛС)","Наименование работ и затрат","Единица измерения мощности (км, м3, шт и т.д.)","Количество","Базисный уровень цен 2001г.",null,null,null,null,null,null,null,"Текущий уровень цен"]
[null,null,null,null,null,null,null,null,null,null,null,"Стоимость объекта всего, тыс. руб.","в том числе:",null,null,null,null,null,null,"Стоимость МТР всего, тыс. руб.","в том числе:",null,null,null,"Оплата труда  основных рабочих, тыс.руб.","Трудозатраты основных рабочих, чел-час","Затраты на эксплуатацию машин и механизмов,  тыс. руб.","Оплата труда механизаторов, тыс.руб.","Трудозатраты рабочих-механизаторов, чел-час","Накладные расходы, тыс. руб.","Сметная прибыль, тыс. руб.","Стоимость строительства объекта без учета затрат Заказчика, тыс. руб.","Общая стоимость строительства объекта (с учетом затрат Заказчика), тыс. руб.","Полная стоимость с учетом материалов и оборудования поставки Заказчика"," Полная стоимость с учетом материалов и оборудования поставки Заказчика с учетом прочих затрат и НДС"]
[null,null,null,null,null,null,null,null,null,null,null,null,"Стоимость оборудования всего, тыс. руб.","Стоимость материалов всего, тыс. руб.","Оплата труда основных рабочих, тыс. руб.","Стоимость ЭММ, тыс. руб.","в том числе оплата труда механизаторов, тыс. руб.","Накладные расходы, тыс. руб.","Сметная прибыль, тыс. руб.",null,"Поставка Заказчика",null,"Поставка Подрядчика"]
[null,null,null,null,null,null,null,null,null,null,null,null,null,null,null,null,null,null,null,null,"Стоимость оборудования, тыс. руб.","Стоимость материалов, тыс. руб.","Стоимость оборудования, тыс. руб.","Стоимость материалов, тыс. руб."]
[null,null,null,null,null,null,1,2,3,4,5,6,7,8,9,10,11,12,13,14,15,16,17,18,19,20,21,22,23,24,25,26,27,28,29]
[null,"object_code","outlay_code","exception_code","exception_type","exception_mark","C10","C11","C12","C13","C14","C15","C16","C17","C18","C19","C20","C21","C22","C23","C24","C25","C26","C27","C28","C29","C30","C31","C32","C33","C34","C35","C36","C37","C38"]
["Глава 1-7",null,null,null,null,null,null,null,"ГЛАВА 1-7. Подготовка территории и основные объекты строительства"]
["Глава 1-7Итог",null,null,null,null,null,null,null,"ИТОГО ГЛАВЫ 1-7 Подготовка территории и основные объекты строительства"]
[]
["БлокЛимитбазы1",null,null,null,null,null,null,null,"Лимит базы 2001г  МТР для начисления лимитированных",null,null,{"$f":"ROUND(M17+N19+O17+P17+R17+S17,5)","v":0},null,{"$f":"N17","v":0}]
[]
["Глава 8",null,null,null,null,null,null,null,"ГЛАВА 8. Временные здания и сооружения"]
["Глава 8Итог",null,null,null,null,null,null,null,"ИТОГО ГЛАВА 8. Временные здания и сооружения"]
[]
["Глава 1-8",null,null,null,null,null,null,null,"ИТОГО ГЛАВЫ 1-8",null,null,{"$f":"ROUND(L17+L22,5)","v":0},{"$f":"ROUND(M17+M22,5)","v":0},{"$f":"ROUND(N17+N22,5)","v":0},0,0,0,0,0,null,null,null,null,null,{"$f":"ROUND(Y17+Y22,5)","v":0},0,0,0,0,0,0,0]
[]
["БлокЛимитбазы2",null,null,null,null,null,null,null,"Лимит базы 2001г  МТР для начисления лимитированных",null,null,{"$f":"ROUND(M24+N26+O24+P24+R24+S24,5)","v":0},null,{"$f":"N24","v":0}]
[]
["БлокГлава9",null,null,null,null,null,null,null,"ГЛАВА 9. Прочие работы и затраты"]
["БлокГлава9ПЗЗУ",null,null,null,null,null,null,null,"Зимнее удорожание"]
["БлокГлава9ПЗС",null,null,null,null,null,null,null,"Снегоборьба"]
["БлокГлава9ПЗБГ",null,null,null,null,null,null,null,"Борьба с гнусом"]
[]
["Глава 9",null,null,null,null,null,null,null,"ПРОЧИЕ РАБОТЫ"]
["Глава 9Итог",null,null,null,null,null,null,null,"ИТОГО ПРОЧИЕ РАБОТЫ"]
[]
[null,null,null,null,null,null,null,null,"ИТОГО С ПРОЧИМИ РАБОТАМИ",null,null,{"$f":"ROUND(L24+L29+L30+L31+L34,5)","v":0},{"$f":"ROUND(M24+M29+M30+M31+M34,5)","v":0},0,0,0,0,0,0,null,null,null,null,null,{"$f":"ROUND(Y24+Y29+Y30+Y31+Y34,5)","v":0},0,0,0,0,0,0,0]
[]
["ПНР",null,null,null,null,null,null,null,"ПНР"]
["ПНРИтог",null,null,null,null,null,null,null,"ИТОГО ПНР"]
[]
[null,null,null,null,null,null,null,null,"ИТОГО С ПНР",null,null,{"$f":"ROUND(L36+L39,5)","v":0},{"$f":"ROUND(M36+M39,5)","v":0},0,0,0,0,0,0,null,null,null,null,null,{"$f":"ROUND(Y36+Y39,5)","v":0},0,0,0,0,0,0,0]
[]
["Врезка",null,null,null,null,null,null,null,"ВРЕЗКА"]
["ВрезкаИтог",null,null,null,null,null,null,null,"ИТОГО ВРЕЗКА"]
[]
[null,null,null,null,null,null,null,null,"ИТОГО С ВРЕЗКА",null,null,{"$f":"ROUND(L41+L44,5)","v":0},0,0,0,0,0,0,0,null,null,null,null,null,{"$f":"ROUND(Y41+Y44,5)","v":0},0,0,0,0,0,0,0]
[]
["Разница в стоимости электроэнергии",null,null,null,null,null,null,null,"Разница в стоимости электроэнергии"]
["Разница в стоимости электроэнергииИтог",null,null,null,null,null,null,null,"ИТОГО Разница в стоимости электроэнергии"]
[]
[null,null,null,null,null,null,null,null,"ИТОГО С Разницей в стоимости электроэнергии",null,null,{"$f":"ROUND(L46+L49,5)","v":0},{"$f":"ROUND(M46+M49,5)","v":0},0,0,0,0,0,0,null,null,null,null,null,{"$f":"ROUND(Y46+Y49,5)","v":0},0,0,0,0,0,0,0]
[]
["БлокГлава9ПТ",null,null,null,null,null,null,null,"Перебазировка техники сверх нормативной величины"]
["БлокГлава9ПТИтог",null,null,null,null,null,null,null,"Итого Перебазировка техники сверх нормативной величины"]
[]
["БлокГлава9ВМ",null,null,null,null,null,null,null,"Затраты, связанные с осуществлением работ вахтовым методом"]
["БлокГлава9ВМИтог",null,null,null,null,null,null,null,"Итого Затраты, связанные с осуществлением работ вахтовым методом"]
[]
["БлокГлава9Т",null,null,null,null,null,null,null,"Затраты по перевозке автомобильным транспортом работников строительно-монтажных организаций"]
["БлокГлава9ТИтог",null,null,null,null,null,null,null,"Итого Затраты по перевозке автомобильным транспортом работников строительно-монтажных организаций"]
[]
[null,null,null,null,null,null,null,null,"ИТОГО ПРОЧИЕ ЗАТРАТЫ",null,null,null,null,null,null,null,null,null,null,null,null,null,null,null,null,null,null,null,null,null,null,{"$f":"ROUND(AF54+AF57+AF60,5)","v":0}]
[]
[null,null,null,null,null,null,null,null,"ИТОГО С ПРОЧИМИ ЗАТРАТАМИ",null,null,null,null,null,null,null,null,null,null,null,null,null,null,null,null,null,null,null,null,null,null,{"$f":"ROUND(AF51+AF62,5)","v":0}]
[]
["Испытание свай",null,null,null,null,null,null,null,"ИСПЫТАНИЕ СВАЙ"]
["Испытание свайИтог",null,null,null,null,null,null,null,"ИТОГО ИСПЫТАНИЕ СВАЙ"]
[]
[null,null,null,null,null,null,null,null,"ИТОГО С ИСПЫТАНИЕМ СВАЙ",null,null,null,null,null,null,null,null,null,null,null,null,null,null,null,null,null,null,null,null,null,null,{"$f":"ROUND(AF64+AF67,5)","v":0}]
[]
["БлокМатериалыПП",null,"БлокМатериалыОПП",null,null,null,null,null,"Материалы и оборудование в текущем уровне цен согласно разделительной ведомости "]
["БлокМатериалыППИтог",null,null,null,null,null,null,null,"Итого Материалы и оборудование в текущем уровне цен согласно разделительной ведомости "]
[]
["БлокМатериалыЗПог",null,null,null,null,null,null,null,"Дополнительные затраты на траспортировку и погрузку щебня поставки Заказчика"]
["БлокМатериалыЗПогИтог",null,null,null,null,null,null,null,"Итого Дополнительные затраты на траспортировку и погрузку щебня поставки Заказчика"]
[]
["БлокНЗ",null,null,null,null,null,null,null,"Непредвиденные затраты"]
[]
[null,null,null,null,null,null,null,null,"ИТОГО с учетом всех затрат",null,null,null,null,null,null,null,null,null,null,null,null,null,null,null,null,null,null,null,null,null,null,{"$f":"ROUND(AF69+AF72+AF75+AF77,5)","v":0},{"$f":"ROUND(AG69+AG77/2+AG72+AG75,5)","v":0}]
[null,null,null,null,null,null,null,null,"   - НДС",null,{"$f":"K136","v":0.2},null,null,null,null,null,null,null,null,null,null,null,null,null,null,null,null,null,null,null,null,{"$f":"ROUND(AF79*K80,5)","v":0},{"$f":"ROUND(AG79*K80,5)","v":0}]
[null,null,null,null,null,null,null,null,"ИТОГО с учетом НДС",null,null,null,null,null,null,null,null,null,null,null,null,null,null,null,null,null,null,null,null,null,null,{"$f":"ROUND(AF79+AF80,5)","v":0},{"$f":"ROUND(AG79+AG80,5)","v":0}]
[null,null,null,null,null,null,null,null,"Затраты на СМР без учета ТМЦ, ПНР,  врезки",null,null,null,null,null,null,null,null,null,null,null,null,null,null,null,null,null,null,null,null,null,null,{"$f":"ROUND(AF81-AF83-AF84-AF85,5)","v":0},{"$f":"ROUND(AG81-AG83-AG84-AG85-AG86,5)","v":0}]
[null,null,null,null,null,null,null,null,"Затраты на ТМЦ поставки подрядчика",null,null,null,null,null,null,null,null,null,null,null,null,null,null,null,null,null,null,null,null,null,null,{"$f":"ROUND(AF72*(1+nds),5)","v":0},{"$f":"ROUND(AF83,5)","v":0}]
[null,null,null,null,null,null,null,null,"Затраты на ПНР с учетом непредвиденных расходов",null,null,null,null,null,null,null,null,null,null,null,null,null,null,null,null,null,null,null,null,null,null,{"$f":"ROUND(AF39*(1+nds)+AF39*(1+nds)*K141,5)","v":0},{"$f":"ROUND(AF84,5)","v":0}]
[null,null,null,null,null,null,null,null,"Затраты на врезку",null,null,null,null,null,null,null,null,null,null,null,null,null,null,null,null,null,null,null,null,null,null,{"$f":"ROUND(AF44*(1+nds),5)","v":0},{"$f":"ROUND(AF85,5)","v":0}]
[null,null,null,null,null,null,null,null,"Справочно:МТР поставки Заказчика",null,null,null,null,null,null,null,null,null,null,null,null,null,null,null,null,null,null,null,null,null,null,null,{"$f":"ROUND(AG72-AF72,5)","v":0}]
[]
[null,null,null,null,null,null,null,"Распределение суммы договора по объектам лота"]
[]
[null,null,null,null,null,null,null,"№ п/п","Наименование объекта","Базовая стоимость МТР ",null,null,null,null,"Материалы, текущий у/ц согласно РВ",null,null,null,"Текущий уровень цен"]
[null,null,null,null,null,null,null,null,null,null,null,null,null,null,null,null,null,null,"ИТОГО СМР по гл.1-7, \nтыс. руб.","Глава 8",null,"ИТОГО СМР \nпо гл.1-8, \nтыс. руб. без НДС","Глава 9. Прочие работы и затраты",null,null,null,null,null,null,null,"ИТОГО УСЛУГИ  \nпо гл.1-9, \nтыс. руб. без НДС","Затраты на \nиспытание свай, \nтыс. руб. без НДС","Врезка","Разница в стоимости электроэнергии","Затраты на траспортировку и \nпогрузку щебня поставки Заказчика, \nтыс. руб. без НДС","Непредвиденные работы и затраты, \nтыс. руб. без НДС","Стоимость ВСЕГО без учета материалов и оборудования поставки Заказчика, \nтыс. руб.  с НДС","Стоимость ВСЕГО с учетом материалов и оборудования поставки Заказчика с учетом прочих затрат и НДС"]
[null,null,null,null,null,null,null,null,null,"ИТОГО \nглавы 1-7, \nтыс. руб.","ИТОГО \nглава 8, \nтыс. руб. ","ИТОГО \nпо гл.1-8, \nтыс. руб.","ИТОГО \nстоимость оборудования, \nтыс. руб.","ИТОГО \nстоимость материалов, \nтыс. руб.","Поставка Заказчика",null,"Поставка Подрядчика",null,null,"Лимит затрат на ВЗиС, учтенный нормативом, \nтыс. руб.","ВЗиС (ЛС) сверх лимита, учтенного нормативом, \nтыс. руб.",null,"Зимнее удорожание, \nтыс. руб. без НДС","Снегоборьба, \nтыс. руб. без НДС","Борьба \nс гнусом, \nтыс. руб. без НДС","Первон.очистка от снега, \nтыс. руб. без НДС","ПНР, \nтыс. руб. без НДС","Мобилизация, \nтыс. руб. без НДС","Вахтовая перевозка, \nтыс. руб. без НДС","Ежедневная \nвозка, \nтыс. руб. без НДС"]
[null,null,null,null,null,null,null,null,null,null,null,null,null,null,"Стоимость оборудования, тыс. руб.","Стоимость материалов, тыс. руб.","Стоимость оборудования, тыс. руб.","Стоимость материалов, тыс. руб."]
[null,null,null,null,null,null,null,1,2,3,4,5,5,5,6,7,8,9,10,11,12,13,14,15,16,17,18,19,20,21,22,23,24,25,26,27,28,29]
[null,null,null,null,null,null,null,"C11","C12","C13","C14","C15","C42","C43","C16","C17","C18","C19","C22","C23","C24","C25","C26","C27","C28","C29","C30","C31","C32","C33","C34","C36","C40","C41","C37","C35","C38","C39"]
[null,null,null,null,null,null,null,null,"ВСЕГО"]
[null,null,null,null,null,null,null,null,null,{"$f":"J96-N17","v":0},{"$f":"K96-N22","v":0},{"$f":"L96-N24","v":0},null,null,{"$f":"O96-U72","v":0},{"$f":"P96-V72","v":0},{"$f":"Q96-W72","v":0},{"$f":"R96-X72","v":0},{"$f":"S96-AF17","v":0},null,null,{"$f":"V96-AF24","v":0},null,null,null,{"$f":"Z96-AF34","v":0},{"$f":"AA96-AF39","v":0},{"$f":"AB96-AF54","v":0},{"$f":"AC96-AF57","v":0},{"$f":"AD96-AF60","v":0},{"$f":"AE96-(AF41+AF62)","v":0},{"$f":"AF96-AF67","v":0},{"$f":"AG96-AF44","v":0},{"$f":"AH96-AF49","v":0},{"$f":"AI96-AF75","v":0},null,{"$f":"AK96-AF81","v":0},{"$f":"AL96-AG81","v":0}]
[null,null,null,null,null,null,null,"Стоимость строительства объекта в прогнозном уровне цен"]
[]
[null,null,null,null,null,null,null,"№ п/п","Наименование показателя",null,{"$f":"'Исходные данные'!V21","v":2021},null,null,null,{"$f":"K100+1","v":2022},null,null,null,{"$f":"O100+1","v":2023},null,null,null,{"$f":"S100+1","v":2024},null,null,null,"Итоговый показатель"]
["БлокПрогноз",null,null,null,null,null,null,null,null,null,"I квартал","II квартал","III квартал","IV квартал","I квартал","II квартал","III квартал","IV квартал","I квартал","II квартал","III квартал","IV квартал","I квартал","II квартал","III квартал","IV квартал"]
["БлокПрогнозИтог",null,null,null,null,null,null,null,"ВСЕГО"]
["lastRow"]
[null,null,null,null,null,null,null,"Стоимость строительства объекта в прогнозном уровне цен"]
[]
[null,null,null,null,null,null,null,"№ п/п","Наименование показателя",null,{"$f":"'Исходные данные'!V21","v":2021},null,null,null,{"$f":"K106+1","v":2022},null,null,null,{"$f":"O106+1","v":2023},null,null,null,{"$f":"S106+1","v":2024},null,null,null,"Итоговый показатель"]
[null,null,null,null,null,null,null,null,null,null,"I квартал","II квартал","III квартал","IV квартал","I квартал","II квартал","III квартал","IV квартал","I квартал","II квартал","III квартал","IV квартал","I квартал","II квартал","III квартал","IV квартал"]
["БлокПрогнозОбщий",null,null,null,null,null,null,1,"Прогнозное распределение СМР без учета ТМЦ и ПНР","%",null,null,null,null,null,null,null,null,null,null,null,null,null,null,null,null,{"$f":"IF((K108+L108+M108+N108+O108+P108+Q108+R108+S108+T108+U108+V108+W108+X108+Y108+Z108)<>100%,\"ОШИБКА\",1)","v":"ОШИБКА"}]
[null,null,null,null,null,null,null,2,"Прогнозное распределение ТМЦ поставки Подрядчика","%",{"$f":"K108","v":0},{"$f":"L108","v":0},0,0,0,0,0,0,0,0,0,0,0,0,0,0,{"$f":"IF((K109+L109+M109+N109+O109+P109+Q109+R109+S109+T109+U109+V109+W109+X109+Y109+Z109)<>100%,\"ОШИБКА\",1)","v":"ОШИБКА"}]
[null,null,null,null,null,null,null,3,"Прогнозное распределение ПНР","%",{"$f":"K108","v":0},{"$f":"L108","v":0},0,0,0,0,0,0,0,0,0,0,0,0,0,0,{"$f":"IF((K110+L110+M110+N110+O110+P110+Q110+R110+S110+T110+U110+V110+W110+X110+Y110+Z110)<>100%,\"ОШИБКА\",1)","v":"ОШИБКА"}]
[null,null,null,null,null,null,null,4,"Прогнозное распределение врезки","%",{"$f":"K108","v":0},{"$f":"L108","v":0},0,0,0,0,0,0,0,0,0,0,0,0,0,0,{"$f":"IF((K111+L111+M111+N111+O111+P111+Q111+R111+S111+T111+U111+V111+W111+X111+Y111+Z111)<>100%,\"ОШИБКА\",1)","v":"ОШИБКА"}]
[null,null,null,null,null,null,null,5,"Стоимость СМР без учета ТМЦ и ПНР в прогнозном распределении","тыс. руб.",{"$f":"K108*AF82","v":0},{"$f":"L108*AF82","v":0},{"$f":"M108*AF82","v":0},{"$f":"N108*AF82","v":0},{"$f":"O108*AF82","v":0},{"$f":"P108*AF82","v":0},{"$f":"Q108*AF82","v":0},{"$f":"R108*AF82","v":0},{"$f":"S108*AF82","v":0},{"$f":"T108*AF82","v":0},{"$f":"U108*AF82","v":0},{"$f":"V108*AF82","v":0},{"$f":"W108*AF82","v":0},{"$f":"X108*AF82","v":0},{"$f":"Y108*AF82","v":0},{"$f":"Z108*AF82","v":0},{"$f":"SUM(K112:Z112)","v":0}]
[null,null,null,null,null,null,null,6,"Стоимость ТМЦ поставки Подрядчика в прогнозном распределении","тыс. руб.",{"$f":"K109*AF83","v":0},{"$f":"L109*AF83","v":0},{"$f":"M109*AF83","v":0},{"$f":"N109*AF83","v":0},{"$f":"O109*AF83","v":0},{"$f":"P109*AF83","v":0},{"$f":"Q109*AF83","v":0},{"$f":"R109*AF83","v":0},{"$f":"S109*AF83","v":0},{"$f":"T109*AF83","v":0},{"$f":"U109*AF83","v":0},{"$f":"V109*AF83","v":0},{"$f":"W109*AF83","v":0},{"$f":"X109*AF83","v":0},{"$f":"Y109*AF83","v":0},{"$f":"Z109*AF83","v":0},{"$f":"SUM(K113:Z113)","v":0}]
[null,null,null,null,null,null,null,7,"Стоимость ПНР в прогнозном распределении","тыс. руб.",{"$f":"K110*AF84","v":0},{"$f":"L110*AF84","v":0},{"$f":"M110*AF84","v":0},{"$f":"N110*AF84","v":0},{"$f":"O110*AF84","v":0},{"$f":"P110*AF84","v":0},{"$f":"Q110*AF84","v":0},{"$f":"R110*AF84","v":0},{"$f":"S110*AF84","v":0},{"$f":"T110*AF84","v":0},{"$f":"U110*AF84","v":0},{"$f":"V110*AF84","v":0},{"$f":"W110*AF84","v":0},{"$f":"X110*AF84","v":0},{"$f":"Y110*AF84","v":0},{"$f":"Z110*AF84","v":0},{"$f":"SUM(K114:Z114)","v":0}]
[null,null,null,null,null,null,null,8,"Стоимость врезки в прогнозном распределении","тыс. руб.",{"$f":"K111*AF85","v":0},{"$f":"L111*AF85","v":0},{"$f":"M111*AF85","v":0},{"$f":"N111*AF85","v":0},{"$f":"O111*AF85","v":0},{"$f":"P111*AF85","v":0},{"$f":"Q111*AF85","v":0},{"$f":"R111*AF85","v":0},{"$f":"S111*AF85","v":0},{"$f":"T111*AF85","v":0},{"$f":"U111*AF85","v":0},{"$f":"V111*AF85","v":0},{"$f":"W111*AF85","v":0},{"$f":"X111*AF85","v":0},{"$f":"Y111*AF85","v":0},{"$f":"Z111*AF85","v":0},{"$f":"SUM(K115:Z115)","v":0}]
[null,null,null,null,null,null,null,9,"Всего стоимость СМР в прогнозном уровне цен","тыс. руб.",{"$f":"K113+K112+K114+K115","v":0},{"$f":"L113+L112+L114+L115","v":0},{"$f":"M113+M112+M114+M115","v":0},0,0,0,0,0,0,0,0,0,0,0,0,0,{"$f":"SUM(K116:Z116)","v":0}]
[null,null,null,null,null,null,null,null,"*     Доля освоения в соответствующем квартале рассчитывается как выраженное в процентах отношение объема работ в стоимостном выражении, планируемого к выполнению в соответствующем квартале, к общему объему работ в стоимостном выражении"]
[]
[null,null,null,null,null,null,null,"Примечание : расчет должен быть выполнен на основании утвержденной ПСД и технического задания с включением в него всех работ и затрат, указанных в техническом задании и проектной документации"]
[]
[null,null,null,null,null,null,null,"Ценовые нормативы, применяемые при расчете Договорной цены"]
[]
[null,null,null,null,null,null,null,"№ п/п","Наименование","Единица измерения","Ценовые нормативы "]
[null,null,null,null,null,null,null,1,2,3,4]
[null,null,null,null,null,null,null,"C10","C11","C14","C12"]
[null,null,null,null,null,null,"Price1",1,"Индекс оплаты труда основных рабочих и механизаторов СМР",null,{"$f":"'Ценовые нормативы'!E17","v":14.29}]
[null,null,null,null,null,null,"Price2",2,"Индекс эксплуатации машин и механизмов СМР",null,{"$f":"'Ценовые нормативы'!E18","v":7.86}]
[null,null,null,null,null,null,"Price3",3,"Индекс на перевозку грузов",null,{"$f":"'Ценовые нормативы'!E19","v":6.41}]
[null,null,null,null,null,null,"Price4",4,"Индекс МТР (для расчета лимитированных затрат) СМР",null,{"$f":"'Ценовые нормативы'!E20","v":4.16}]
[null,null,null,null,null,null,"Price5",5,"Индекс к оплате труда пусконаладочного персонала",null,{"$f":"'Ценовые нормативы'!E21","v":14.29}]
[null,null,null,null,null,null,"Price8",6,"Коэффициент к накладным расходам для СМР (кроме работ по строительству мостов)",null,{"$f":"'Ценовые нормативы'!E24","v":1}]
[null,null,null,null,null,null,"Price9",7,"Коэффициент к сметной прибыли для СМР (кроме работ по строительству мостов)",null,{"$f":"'Ценовые нормативы'!E25","v":1}]
[null,null,null,null,null,null,"Price10",8,"Коэффициент к накладным расходам для СМР (для работ по строительству мостов)",null,{"$f":"'Ценовые нормативы'!E26","v":1}]
[null,null,null,null,null,null,"Price11",9,"Коэффициент к сметной прибыли для СМР (для работ по строительству мостов)",null,{"$f":"'Ценовые нормативы'!E27","v":1}]
[null,null,null,null,null,null,"Price14",10,"Средневзвешенный курс евро 2013г.","руб.",{"$f":"'Ценовые нормативы'!E30","v":42.19}]
[null,null,null,null,null,null,"Price15",11,"НДС","%",{"$f":"'Ценовые нормативы'!E31","v":0.2}]
[null,null,null,null,null,null,"Price19",12,"Норма затрат на временные здания и сооружения","%",{"$f":"'Ценовые нормативы'!E35","v":2.5000000000000001E-2}]
[null,null,null,null,null,null,"Price20",13,"Норма затрат на удорожание работ в зимний период","%",{"$f":"'Ценовые нормативы'!E36","v":3.6999999999999998E-2}]
[null,null,null,null,null,null,"Price21",14,"Норма затрат на снегоборьбу","%",{"$f":"'Ценовые нормативы'!E37","v":4.0000000000000001E-3}]
[null,null,null,null,null,null,"Price22",15,"Норма затрат на борьбу с гнусом","%",{"$f":"'Ценовые нормативы'!E38","v":1E-3}]
[null,null,null,null,null,null,"Price23",16,"Норматив непредвиденных расходов","%",{"$f":"'Ценовые нормативы'!E39","v":1.4999999999999999E-2}]
[null,null,null,null,null,null,"Price25",17,"Индекс на динамическое испытание свай",null,{"$f":"'Ценовые нормативы'!E40","v":2.5950000000000002}]
[null,null,null,null,null,null,"Price24",18,"Индекс МТР для определения текущей стоимости вспомогательных материалов поставки Подрядчика",null,{"$f":"'Ценовые нормативы'!E41","v":4.16}]
[null,null,null,null,null,null,"Price26",19,"Индекс МТР для определения текущей стоимости оборудования поставки Подрядчика",null,{"$f":"'Ценовые нормативы'!E42","v":5.01}]
["lastRow2",null,null,null,null,null,"Price27",20,"Индекс на погрузочно-разгрузочные работы",null,{"$f":"'Ценовые нормативы'!E43","v":9.5299999999999994}]
[]
[]
[]
[null,null,null,null,null,null,null,null,null,{"$f":"'Исходные данные'!executor2","v":"Ответственный исполнитель ОЦП по КВ"},null,null,{"$f":"'Исходные данные'!executor2Position","v":"Ведущий специалист"},null,{"$f":"'Исходные данные'!executor2Fio","v":"Берестова А.В."}]
[null,null,null,null,null,null,null,null,null,null,null,null,"должность",null,"Ф.И.О."]
[]
[null,null,null,null,null,null,null,null,null,{"$f":"'Сопроводительная записка'!executor6","v":"Начальник ОЦП по КВ "},null,null,null,null,{"$f":"'Сопроводительная записка'!executor6Fio","v":"И.А. Овсянникова"}]
[null,null,null,null,null,null,null,null,null,null,null,null,"должность",null,"Ф.И.О."]

{"sheet":"priceChapterTemplates","index":17,"n_rows":169,"n_cols":35,"rows_kept":169,"cut":false,"hidden":true,"merged":[]}
[]
[]
[]
[null,null,"Глава 1-7Объект",null,null,null,null,null,null,null,"Объект"]
[null,null,"Глава 1-7Шаблон",null,null,null,null,null,null,null,null,null,null,{"$f":"O5+P5+Q5+R5+T5+U5","v":0},null,null,null,null,null,null,null,null,null,null,null,null,null,null,null,null,null,null,null,{"$f":"AA5+AC5+AF5+AG5","v":0}]
[null,null,"Глава 1-7ОбъектИтог",null,null,null,null,null,null,null,"Итог Объект",null,null,{"$f":"ROUND(SUM(N5),5)","v":0},{"$f":"ROUND(SUM(O5),5)","v":0},0,0,0,0,0,0,null,null,null,null,null,{"$f":"ROUND(SUM(AA5),5)","v":0},{"$f":"ROUND(SUM(AB5),5)","v":0},0,0,0,0,0,0]
[]
[]
[]
[]
[null,null,"БлокЛимитбазы1Объект",null,null,null,null,null,null,null,"Объект"]
[]
[]
[]
[]
[null,null,"Глава 8Объект",null,null,null,null,null,null,null,"Объект"]
[null,null,"Глава 8 ВЗиС",null,null,null,null,null,null,"ГСН 81-05-01-2001","Временные здания и сооружения"]
[null,null,"Глава 8Шаблон",null,null,null,null,null,null,null,null,null,null,{"$f":"O18+P18+Q18+R18+T18+U18","v":0},null,null,null,null,null,null,null,null,null,null,null,null,null,null,null,null,null,null,null,{"$f":"AA18+AC18+AF18+AG18","v":0}]
[null,null,"Глава 8ОбъектИтог",null,null,null,null,null,null,null,"Итог Объект",null,null,{"$f":"ROUND(SUM(N17:N18),5)","v":0},{"$f":"ROUND(SUM(O17:O18),5)","v":0},0,0,0,0,0,0,null,null,null,null,null,{"$f":"ROUND(SUM(AA17:AA18),5)","v":0},{"$f":"ROUND(SUM(AB17:AB18),5)","v":0},0,0,0,0,0,0]
[]
[]
[]
[]
[null,null,"БлокЛимитбазы2Объект",null,null,null,null,null,null,null,"Объект"]
[]
[]
[]
[]
[null,null,"БлокГлава9ПЗЗУОбъект",null,null,null,null,null,null,"ГСН 81-05-02-2007","Объект"]
[]
[]
[]
[]
[null,null,"БлокГлава9ПЗСОбъект",null,null,null,null,null,1,"ГСН 81-05-02-2007","Объект"]
[]
[]
[]
[]
[null,null,"БлокГлава9ПЗБГОбъект",null,null,null,null,null,2,"МДС 81-35.2004","Объект"]
[]
[]
[]
[]
[null,null,"Глава 9Объект",null,null,null,null,null,null,null,"Объект"]
[null,null,"Глава 9Шаблон",null,null,null,null,null,null,null,null,null,null,{"$f":"O45+P45+Q45+R45+T45+U45","v":0},null,null,null,null,null,null,null,null,null,null,null,null,null,null,null,null,null,null,null,{"$f":"AA45+AC45+AF45+AG45","v":0}]
[null,null,"Глава 9ОбъектИтог",null,null,null,null,null,null,null,"Итог Объект",null,null,{"$f":"ROUND(SUM(N45),5)","v":0},{"$f":"ROUND(SUM(O45),5)","v":0},0,0,0,0,0,0,null,null,null,null,null,{"$f":"ROUND(SUM(AA45),5)","v":0},{"$f":"ROUND(SUM(AB45),5)","v":0},0,0,0,0,0,0]
[]
[]
[]
[]
[null,null,"ПНРОбъект",null,null,null,null,null,null,null,"Объект"]
[null,null,"ПНРШаблон",null,null,null,null,null,null,null,null,null,null,{"$f":"O52+P52+Q52+R52+T52+U52","v":0},null,null,null,null,null,null,null,null,null,null,null,null,null,null,null,null,null,null,null,{"$f":"AA52+AC52+AF52+AG52","v":0}]
[null,null,"ПНРОбъектИтог",null,null,null,null,null,null,null,"Итог Объект",null,null,{"$f":"ROUND(SUM(N52),5)","v":0},{"$f":"ROUND(SUM(O52),5)","v":0},0,0,0,0,0,0,null,null,null,null,null,{"$f":"ROUND(SUM(AA52),5)","v":0},0,0,0,0,0,0,0]
[]
[]
[]
[]
[null,null,"ВрезкаОбъект",null,null,null,null,null,null,null,"Объект"]
[null,null,"ВрезкаШаблон"]
[null,null,"ВрезкаОбъектИтог",null,null,null,null,null,null,null,"Итого Объект",null,null,{"$f":"ROUND(SUM(N59),5)","v":0},{"$f":"ROUND(SUM(O59),5)","v":0},0,0,0,0,0,0,null,null,null,null,null,{"$f":"ROUND(SUM(AA59),5)","v":0},{"$f":"ROUND(SUM(AB59),5)","v":0},0,0,0,0,0,0]
[]
[]
[]
[]
[null,null,"Разница в стоимости электроэнергииОбъект",null,null,null,null,null,null,null,"Объект"]
[null,null,"Разница в стоимости электроэнергииШаблон"]
[null,null,"Разница в стоимости электроэнергииОбъектИтог",null,null,null,null,null,null,null,"Итого Объект",null,null,{"$f":"ROUND(SUM(N66),5)","v":0},{"$f":"ROUND(SUM(O66),5)","v":0},0,0,0,0,0,0,null,null,null,null,null,{"$f":"ROUND(SUM(AA66),5)","v":0},{"$f":"ROUND(SUM(AB66),5)","v":0},0,0,0,0,0,0]
[]
[]
[]
[]
[null,null,"БлокГлава9ПТОбъект",null,null,null,null,null,null,null,"Объект"]
[]
[]
[]
[]
[null,null,"БлокГлава9ВМОбъект",null,null,null,null,null,null,null,"Объект"]
[]
[]
[]
[]
[null,null,"БлокГлава9ТОбъект",null,null,null,null,null,null,null,"Объект"]
[]
[]
[]
[]
[null,null,"Испытание свайОбъект",null,null,null,null,null,null,null,"Объект"]
[null,null,"Испытание свайШаблон"]
[null,null,"Испытание свайОбъектИтог",null,null,null,null,null,null,null,"Итого Объект",null,null,{"$f":"ROUND(SUM(N88),5)","v":0},{"$f":"ROUND(SUM(O88),5)","v":0},0,0,0,0,0,0,null,null,null,null,null,{"$f":"ROUND(SUM(AA88),5)","v":0},{"$f":"ROUND(SUM(AB88),5)","v":0},0,0,0,0,0,0]
[]
[]
[]
[]
[null,null,"БлокМатериалыППОбъект",null,null,null,null,null,null,null,"Объект",null,null,null,null,null,null,null,null,null,null,{"$f":"W94+X94+Y94+Z94","v":0},null,null,null,null,null,null,null,null,null,null,null,{"$f":"Y94+Z94","v":0},{"$f":"V94","v":0}]
[]
[]
[]
[]
[null,null,"БлокМатериалыЗПогОбъект",null,null,null,null,null,null,null,"Объект"]
[null,null,"БлокМатериалыЗПогОбъект",null,null,null,null,null,null,null,"Стоимость дополнительных затрат на погрузку материалов Заказчика (щебень)","т",null,null,null,null,null,null,null,null,null,null,null,null,null,null,null,null,null,null,null,null,null,{"$f":"Z100","v":0},{"$f":"AH100","v":0}]
[null,null,"move_template",null,null,null,null,null,null,null,"Стоимость дополнительных затрат на перевозку материалов Заказчика (щебень)","т",null,null,null,null,null,null,null,null,null,null,null,null,null,null,null,null,null,null,null,null,null,{"$f":"Z101","v":0},{"$f":"AH101","v":0}]
[null,null,"БлокМатериалыЗПогОбъектИтог",null,null,null,null,null,null,null,"Итого Объект","т",null,null,null,null,null,null,null,null,null,null,null,null,null,{"$f":"ROUND(SUM(Z100:Z101),5)","v":0},null,null,null,null,null,null,null,{"$f":"ROUND(SUM(AH100:AH101),5)","v":0},{"$f":"ROUND(SUM(AI100:AI101),5)","v":0}]
[]
[]
[]
[]
[null,null,"БлокМатериалыОППОбъект",null,null,null,null,null,null,null,"Объект",null,null,null,null,null,null,null,null,null,null,null,null,null,null,null,null,null,null,null,null,null,null,null,{"$f":"Y107","v":0}]
[]
[]
[]
[]
[null,null,"БлокНЗОбъект",null,null,null,null,null,null,"МДС 81-35.2004","Объект",null,null,null,null,null,null,null,null,null,null,null,null,null,null,null,null,null,null,null,null,null,null,null,{"$f":"AH112*2","v":0}]
[]
[]
[]
[null,null,"БлокЗМПЗБНОбъект",null,null,null,null,null,null,null,"Объект"]
[]
[]
[]
[null,null,"БлокЗМПЗНОбъект",null,null,null,null,null,null,null,"Объект"]
[]
[]
[]
[null,null,"БлокЗОПЗБНОбъект",null,null,null,null,null,null,null,"Объект"]
[]
[]
[]
[null,null,"БлокЗОПЗНОбъект",null,null,null,null,null,null,null,"Объект"]
[]
[]
[]
[null,null,"БлокНЗЗОбъект",null,null,null,null,null,null,null,"Объект"]
[]
[]
[null,null,"БлокВсегоОбъект",null,null,null,null,null,null,null,"Объект"]
[]
[]
[]
[null,null,"БлокПрогнозОбъект",null,null,null,null,null,null,null,"Прогнозное распределение*","%",null,null,null,null,null,null,null,null,null,null,null,null,null,null,null,null,{"$f":"IF((M139+N139+O139+P139+Q139+R139+S139+T139+U139+V139+W139+X139+Y139+Z139+AA139+AB139)<>100%,\"ОШИБКА\",1)","v":"ОШИБКА"}]
[null,null,null,null,null,null,null,null,null,null,"Стоимость в прогнозном распределении","тыс. руб.",{"$f":"ROUND(M139*$AG114,5)","v":0},0,0,0,0,0,0,0,0,0,0,0,0,0,0,0,{"$f":"SUM(M140:AB140)","v":0}]
[]
[]
[]
[null,null,"БлокИтогоОбъект",null,null,null,null,null,null,null,"Объект"]
[]
[]
[]
[null,null,"БлокИтогоСМРОбъект",null,null,null,null,null,null,null,"Объект"]
[]
[]
[]
[null,null,"БлокИтогоТМЦОбъект",null,null,null,null,null,null,null,"Объект"]
[]
[]
[]
[null,null,"БлокИтогоПНРОбъект",null,null,null,null,null,null,null,"Объект"]
[]
[]
[]
[null,null,"БлокИтогоВрезкаОбъект",null,null,null,null,null,null,null,"Объект"]
[]
[]
[]
[null,null,"БлокСправочноОБъект"]
[]
[]
[]
[]
[null,null,null,null,null,null,null,null,null,null,null,null,null,{"$f":"L169+M169","v":0},null,null,null,null,null,null,null,null,null,{"$f":"U169+V169+W169","v":0},null,null,null,null,null,null,null,null,{"$f":"SUM(X169:AF169)","v":0}]

{"sheet":"workTypes","index":18,"n_rows":19,"n_cols":7,"rows_kept":19,"cut":false,"hidden":true,"merged":[[7,11,8,11],[7,12,8,12],[9,11,10,11],[9,12,10,12]]}
["work_type","editable_columns","C21","C22","C23","C24","C25"]
["Ежедневная возка рабочих","C26","ОКРУГЛ(((C15R#*2)/$J$27)*$G$27+C15R#*2*$H$27;2)","ОКРУГЛ(C21R#/$I$27;2)","ОКРУГЛ(C22R#*$E$14*$E$17*$E$18;2)","C18R#/$E$16","ОКРУГЛ(C24R#*C23R#;2)"]
["Ежедневная возка ПН персонала","C16|C26","ОКРУГЛ(((C15R#*2)/$J$28)*$G$28+C15R#*2*$H$28;2)",null,null,null,"ОКРУГЛ(C21R#*($E$14*C16R#);2)"]
["Перевозка вахт рабочих","C26","ОКРУГЛ(((C15R#*2)/$J$29)*$G$29+C15R#*2*$H$29;2)","ОКРУГЛ(C21R#/$I$29;2)","ОКРУГЛ(C22R#*$E$15*$E$17;2)","C18R#/$E$16","ОКРУГЛ(C24R#*C23R#;2)"]
["Перевозка вахт ПН персонала","C17|C26","ОКРУГЛ(((C15R#*2)/$J$30)*$G$30+C15R#*2*$H$30;2)",null,null,null,"ОКРУГЛ(C21R#*(C17R#*$E$15);2)"]
[]
[]
[1,"Ежедневная возка рабочих"]
[2,"Ежедневная возка ПН персонала"]
[3,"Перевозка вахт рабочих"]
[4,"Перевозка вахт ПН персонала"]
[]
[]
["Марка автобуса-вахты | автомобиля","Шифр","Стоимость 1 машино-часа, руб.","Стоимость 1 км пробега, руб. ","Вместимость автобуса-вахты, чел.","Средняя скорость движения, км/ч"]
["Не предусмотрено","-","-","-","-","-"]
["ГАЗ-3221  м/а",19,229.56,5.95,12,50]
["УРАЛ-4320 НЗАС",282,363.27,11.77,21,60]
["УРАЛ-42112 НЗАС",266,363.27,11.77,27,40]
["УАЗ-3909  Фургон",252,236.61,7.46,6,50]

{"sheet":"Ежеднев. возка и перевозка вахт","index":19,"n_rows":46,"n_cols":14,"rows_kept":46,"cut":false,"hidden":false,"merged":[[41,1,41,13],[42,12,43,12],[42,13,43,13],[44,12,45,12],[44,13,45,13],[36,1,36,13],[37,12,38,12],[37,13,38,13],[39,12,40,12],[39,13,40,13],[24,4,24,5],[25,4,25,5],[26,4,26,5],[29,4,29,5],[31,1,31,4],[28,4,28,5],[27,4,27,5],[20,2,20,3],[22,1,22,4],[15,2,15,3],[16,2,16,3],[17,2,17,3],[18,2,18,3],[19,2,19,3],[3,1,3,13],[9,1,9,4],[14,2,14,3],[11,2,11,3],[12,2,12,3],[13,2,13,3],[4,1,4,13]]}
[]
[]
["95B8996E-A92E-40F2-8A9B-251AB1F004D4"]
[null,"Ежедневная возка и перевозка вахт"]
[null,{"$f":"'Исходные данные'!D19","v":"Строительство объектов энергетики Правдинского региона"}]
[null,null,"Шифр проекта","1980615/0880Д",null,null,null,null,null,null,null,null,null,"2000350438 (680-20-КС(ТЗ))"]
[null,null,"Разработчик проекта","ООО «РН-УфаНИПИнефть»"]
[null,null,"Заказчик","ООО \"РН-Юганскнефтегаз\""]
[]
[null,"Параметры перевозки"]
[]
[null,"№ п/п","Наименование",null,"Значение"]
[null,1,2,null,3]
[null,1,"Количество рейсов в день (Ежедневная возка)",null,1]
[null,2,"Количество перевозок в месяц (Перевозка вахт)",null,2]
[null,3,"Количество рабочих часов в году, ч.",null,2920]
[null,4,"Количество месяцев в году",null,12]
[null,5,"Среднее количество календарных дней в месяце",null,30]
[null,6,"Перевозка вахт автотранспортом",null,1]
[null,7,"Перевозка вахт водным транспортом",null,0]
[null,8,"Перевозка вахт воздушным транспортом",null,0]
[]
[null,"Параметры техники"]
[]
[null,"№ п/п","Параметры","Шифр","Марка автобуса-вахты | автомобиля",null,"Стоимость 1 машино-часа, руб.","Стоимость 1 км пробега, руб. ","Вместимость автобуса-вахты, чел.","Средняя скорость движения, км/ч"]
[null,1,2,3,4,null,5,6,7,8]
[null,1,"Ежедневная возка рабочих",282,"УРАЛ-4320 НЗАС",null,null,null,21,40]
[null,2,"Ежедневная возка ПН персонала",19,"ГАЗ-3221  м/а",null,null,null,12,40]
[null,3,"Перевозка вахт рабочих",282,"УРАЛ-4320 НЗАС",null,null,null,21,60]
[null,4,"Перевозка вахт ПН персонала",19,"ГАЗ-3221  м/а",null,null,null,12,60]
[]
[null,"Расчет стоимости"]
[]
[null,"№ п/п","Вид работ","Расстояние перевозки, км","Продолжительность ПНР (согласно графика), дней","Продолжительность ПНР, месяцев","Трудоемкость СМР(осн. рабочие + механизаторы)","Стоимость транспорта в течение рейса, руб.","Стоимость транспортировки 1 рабочего, руб.","Стоимость  перевозки 1 рабочего  в год, руб.","Количество лет строительства на 1 рабочего","Стоимость перевозки, руб.","Лимит, руб.","Стоимость в расчет, руб."]
[null,1,2,3,4,5,6,7,8,9,10,11,12,13]
["object_code","C10","C11","C15","C16","C17","C18","C21","C22","C23","C24","C25","C26","C27"]
["5D57A968-2E2D-47A8-B7F4-6C635AF194C3","ВЛ 6 кВ на куст 3129.1 (габ.110 кВ) Приразломное м/р. Правдинский (КС00091309)","ВЛ 6 кВ на куст 3129.1 (габ.110 кВ) Приразломное м/р. Правдинский (КС00091309)","ВЛ 6 кВ на куст 3129.1 (габ.110 кВ) Приразломное м/р. Правдинский (КС00091309)","ВЛ 6 кВ на куст 3129.1 (габ.110 кВ) Приразломное м/р. Правдинский (КС00091309)","ВЛ 6 кВ на куст 3129.1 (габ.110 кВ) Приразломное м/р. Правдинский (КС00091309)","ВЛ 6 кВ на куст 3129.1 (габ.110 кВ) Приразломное м/р. Правдинский (КС00091309)","ВЛ 6 кВ на куст 3129.1 (габ.110 кВ) Приразломное м/р. Правдинский (КС00091309)","ВЛ 6 кВ на куст 3129.1 (габ.110 кВ) Приразломное м/р. Правдинский (КС00091309)","ВЛ 6 кВ на куст 3129.1 (габ.110 кВ) Приразломное м/р. Правдинский (КС00091309)","ВЛ 6 кВ на куст 3129.1 (габ.110 кВ) Приразломное м/р. Правдинский (КС00091309)","ВЛ 6 кВ на куст 3129.1 (габ.110 кВ) Приразломное м/р. Правдинский (КС00091309)","ВЛ 6 кВ на куст 3129.1 (габ.110 кВ) Приразломное м/р. Правдинский (КС00091309)","ВЛ 6 кВ на куст 3129.1 (габ.110 кВ) Приразломное м/р. Правдинский (КС00091309)"]
[null,1,"Ежедневная возка рабочих",52,"-","-",{"$f":"SUM(НМЦ!$Z18:$Z28)+SUM(НМЦ!$AC18:$AC28)+SUM(НМЦ!$Z108:$Z111)+SUM(НМЦ!$AC108:$AC111)+SUM(НМЦ!$Z48:$Z78)+SUM(НМЦ!$AC48:$AC78)","v":12449.432700000001},{"$f":"ROUND(((D38*2)/$J$27)*$G$27+D38*2*$H$27,2)","v":0},{"$f":"ROUND(H38/$I$27,2)","v":0},{"$f":"ROUND(I38*$E$14*$E$17*$E$18,2)","v":0},{"$f":"G38/$E$16","v":4.2635043493150686},{"$f":"ROUND(K38*J38,2)","v":0},{"$f":"(НМЦ!V181+НМЦ!N181*НМЦ!K213)*1.25%*1000","v":0},{"$f":"ROUND(MIN(SUM(L38:L39),M38),2)","v":0}]
[null,2,"Ежедневная возка ПН персонала",52,15,"-","-",{"$f":"ROUND(((D39*2)/$J$28)*$G$28+D39*2*$H$28,2)","v":0},"-","-","-",{"$f":"ROUND(H39*($E$14*E39),2)","v":0}]
[null,3,"Перевозка вахт рабочих",195,"-","-",{"$f":"SUM(НМЦ!$Z18:$Z28)+SUM(НМЦ!$AC18:$AC28)+SUM(НМЦ!$Z108:$Z111)+SUM(НМЦ!$AC108:$AC111)+SUM(НМЦ!$Z48:$Z78)+SUM(НМЦ!$AC48:$AC78)","v":12449.432700000001},{"$f":"ROUND(((D40*2)/$J$29)*$G$29+D40*2*$H$29,2)","v":0},{"$f":"ROUND(H40/$I$29,2)","v":0},{"$f":"ROUND(I40*$E$15*$E$17,2)","v":0},{"$f":"G40/$E$16","v":4.2635043493150686},{"$f":"ROUND(K40*J40,2)","v":0},{"$f":"(НМЦ!V181+НМЦ!N181*НМЦ!K213)*0.21%*1000","v":0},{"$f":"ROUND(MIN(SUM(L40:L41),M40),2)","v":0}]
[null,4,"Перевозка вахт ПН персонала",195,"-",0.5,"-",{"$f":"ROUND(((D41*2)/$J$30)*$G$30+D41*2*$H$30,2)","v":0},"-","-","-",{"$f":"ROUND(H41*(F41*$E$15),2)","v":0}]
["AEEAB128-A9D6-4DE1-ACE9-6CD791FCF82A","ВЛ 6 кВ на куст 3129.2 (габ. 6 кВ) Приразломное м/р. Правдинский (КС00091313)","ВЛ 6 кВ на куст 3129.2 (габ. 6 кВ) Приразломное м/р. Правдинский (КС00091313)","ВЛ 6 кВ на куст 3129.2 (габ. 6 кВ) Приразломное м/р. Правдинский (КС00091313)","ВЛ 6 кВ на куст 3129.2 (габ. 6 кВ) Приразломное м/р. Правдинский (КС00091313)","ВЛ 6 кВ на куст 3129.2 (габ. 6 кВ) Приразломное м/р. Правдинский (КС00091313)","ВЛ 6 кВ на куст 3129.2 (габ. 6 кВ) Приразломное м/р. Правдинский (КС00091313)","ВЛ 6 кВ на куст 3129.2 (габ. 6 кВ) Приразломное м/р. Правдинский (КС00091313)","ВЛ 6 кВ на куст 3129.2 (габ. 6 кВ) Приразломное м/р. Правдинский (КС00091313)","ВЛ 6 кВ на куст 3129.2 (габ. 6 кВ) Приразломное м/р. Правдинский (КС00091313)","ВЛ 6 кВ на куст 3129.2 (габ. 6 кВ) Приразломное м/р. Правдинский (КС00091313)","ВЛ 6 кВ на куст 3129.2 (габ. 6 кВ) Приразломное м/р. Правдинский (КС00091313)","ВЛ 6 кВ на куст 3129.2 (габ. 6 кВ) Приразломное м/р. Правдинский (КС00091313)","ВЛ 6 кВ на куст 3129.2 (габ. 6 кВ) Приразломное м/р. Правдинский (КС00091313)"]
[null,1,"Ежедневная возка рабочих",52,"-","-",{"$f":"SUM(НМЦ!$Z30:$Z37)+SUM(НМЦ!$AC30:$AC37)+SUM(НМЦ!$Z80:$Z91)+SUM(НМЦ!$AC80:$AC91)","v":3640.7919999999999},{"$f":"ROUND(((D43*2)/$J$27)*$G$27+D43*2*$H$27,2)","v":0},{"$f":"ROUND(H43/$I$27,2)","v":0},{"$f":"ROUND(I43*$E$14*$E$17*$E$18,2)","v":0},{"$f":"G43/$E$16","v":1.2468465753424658},{"$f":"ROUND(K43*J43,2)","v":0},{"$f":"(НМЦ!V182+НМЦ!N182*НМЦ!K213)*1.28%*1000","v":0},{"$f":"ROUND(MIN(SUM(L43:L44),M43),2)","v":0}]
[null,2,"Ежедневная возка ПН персонала",52,15,"-","-",{"$f":"ROUND(((D44*2)/$J$28)*$G$28+D44*2*$H$28,2)","v":0},"-","-","-",{"$f":"ROUND(H44*($E$14*E44),2)","v":0}]
[null,3,"Перевозка вахт рабочих",195,"-","-",{"$f":"SUM(НМЦ!$Z30:$Z37)+SUM(НМЦ!$AC30:$AC37)+SUM(НМЦ!$Z80:$Z91)+SUM(НМЦ!$AC80:$AC91)","v":3640.7919999999999},{"$f":"ROUND(((D45*2)/$J$29)*$G$29+D45*2*$H$29,2)","v":0},{"$f":"ROUND(H45/$I$29,2)","v":0},{"$f":"ROUND(I45*$E$15*$E$17,2)","v":0},{"$f":"G45/$E$16","v":1.2468465753424658},{"$f":"ROUND(K45*J45,2)","v":0},{"$f":"(НМЦ!V182+НМЦ!N182*НМЦ!K213)*0.22%*1000","v":0},{"$f":"ROUND(MIN(SUM(L45:L46),M45),2)","v":0}]
[null,4,"Перевозка вахт ПН персонала",195,"-",0.5,"-",{"$f":"ROUND(((D46*2)/$J$30)*$G$30+D46*2*$H$30,2)","v":0},"-","-","-",{"$f":"ROUND(H46*(F46*$E$15),2)","v":0}]

{"sheet":"relocationTemplate","index":20,"n_rows":400,"n_cols":21,"rows_kept":400,"cut":false,"hidden":true,"merged":[[13,4,13,16],[0,4,0,8],[0,10,0,20],[12,4,12,19],[1,4,1,19],[3,4,3,19],[4,4,4,19],[5,4,5,19],[2,4,2,19],[6,4,6,8],[6,10,6,20],[7,4,7,19],[8,4,8,19],[9,4,9,19],[10,4,10,19],[11,4,11,19]]}
["code","formula",null,"d","Расстояние перебазировки до объекта"]
["C21","C15R#/C18R#",null,"q","1. Эксплуатация седельного тягача"]
["C22","C21R#*C16R#",null,"i","1.1.  Эксплуатация седельного тягача (под погрузкой/разгрузкой) "]
["C23","C15R#*C16R#",null,"w","2. Строительная техника при перебазировке на трале (седельном тягаче)"]
["C24","ОКРУГЛ(C22R#*C19R#;2)",null,"e","3. Перебазировка техники своим ходом"]
["C25","ОКРУГЛ(C23R#*C20R#;2)",null,"r","4. Сопровождение груза до объекта"]
["C26","ОКРУГЛ(C24R#+C25R#;2)",null,"d","Расстояние перебазировки до объекта на обвязку"]
["C12","ВПР(C11R#;paramRange;2;0)",null,"q","1. Эксплуатация седельного тягача"]
["C13","ВПР(C11R#;paramRange;5;0)",null,"i","1.1.  Эксплуатация седельного тягача (под погрузкой/разгрузкой) "]
["C19","ВПР(C11R#;paramRange;3;0)",null,"w","2. Строительная техника при перебазировке на трале (седельном тягаче)"]
["C20","ВПР(C11R#;paramRange;4;0)",null,"ee","3. Перебазировка техники своим ходом"]
[null,null,null,"r","4. Сопровождение груза до объекта"]
[null,null,null,"t","ИТОГО перебазировка техники на объект",null,null,null,null,null,null,null,null,null,null,null,null,null,null,null,{"$f":"U2+U3+U4+U5+U6+U8+U9+U10+U11+U12","v":0}]
[null,null,null,"u","ВСЕГО с учетом удельного веса затрат на перебазировку, учтенный в индексе к ЭММ с учетом зимнего удорожания",null,null,null,null,null,null,null,null,null,null,null,null,{"$f":"'Ценовые нормативы'!$E$36","v":3.6999999999999998E-2},null,null,{"$f":"U13-T14","v":0}]
[null,null,null,"y","ВСЕГО перебазировка техники на объект с учетом лимита",null,null,null,null,null,null,null,null,null,null,null,null,null,null,null,{"$f":"ROUND(IF(U14<0,0,MIN(U14,T15)),2)","v":0}]
[]
[]
[]
[]
[]
[]
[null,null,null,null,"Наименование показателя","Шифр норматива","Тариф за 1 м-часа, руб.","Тариф за 1 км пробега, руб.","Грузоподъемность, т",null,null,null,"Наименование показателя","Шифр норматива","Тариф за 1 м-часа, руб.","Тариф за 1 км пробега, руб.","Грузоподъемность, т"]
[null,null,null,null,"BV-206 AMT",1,1504.61,0,"-",null,null,null,"Автобетоносмесители на базе автомобиля МАЗ-5549 вместимостью барабана 2,7 м3",160100,266.76,0,"-"]
[null,null,null,null,"DAEWOO SOLAR 140LC-V",2,636.79999999999995,0,"-",null,null,null,"Автогидроподъемники высотой подъема 12 м",31001,260.81,0,"-"]
[null,null,null,null,"FORD TRANSIT VAN",3,417.37,9.64,"-",null,null,null,"Автогидроподъемники высотой подъема 18 м",31002,379.22,0,"-"]
[null,null,null,null,"Hitachi-200-5 ЕХ-200-5",4,629.99,0,"-",null,null,null,"Автогидроподъемники высотой подъема 22 м",31003,535.79999999999995,0,"-"]
[null,null,null,null,"HYUNDAI R160LC-7",5,614.16999999999996,0,"-",null,null,null,"Автогидроподъемники высотой подъема 28 м",31004,634.13,0,"-"]
[null,null,null,null,"KOMATSU PC200-7",6,834.17,0,"-",null,null,null,"Автогидроподъемники высотой подъема свыше 35 м",31005,1063.8,0,"-"]
[null,null,null,null,"KR-500 S-КАТО",7,1451.98,79.760000000000005,"-",null,null,null,"Автогрейдеры легкого типа 66,2 (90) кВт (л.с.)",120201,307.66000000000003,0,"-"]
[null,null,null,null,"MAN TGS 33.440 с/т с ЧМЗАП-990640",8,845.01,42.87,"-",null,null,null,"Автогрейдеры среднего типа 99 (135) кВт (л.с.)",120202,248.44,0,"-"]
[null,null,null,null,"REMU BF 12.24 экскав.амфибия",9,3261.99,0,"-",null,null,null,"Автоматы для сварки мостовых конструкций типа АДФ",40310,29.18,0,"-"]
[null,null,null,null,"АТ-990 ГРОВЕ",10,1415,94.54,"-",null,null,null,"Автоматы сварочные с номинальным сварочным током 450-1250 А",40300,25.83,0,"-"]
[null,null,null,null,"Б-10. М0102-1Е БУЛЬДОЗЕР",11,655.24,0,"-",null,null,null,"Автопогрузчики 5 т",30101,205.73,0,"-"]
[null,null,null,null,"БОЛОТОХОД ВV 206 D",12,1504.61,0,"-",null,null,null,"Автопогрузчики специальные со стрелой и выдвижным крюком 1,5 т",30150,353.4,0,"-"]
[null,null,null,null,"В-138 С замена",13,489.3,0,"-",null,null,null,"Автопогрузчики специальные со стрелой и передвижным крюком 3 т",30140,327.41000000000003,0,"-"]
[null,null,null,null,"ВАЗ-21310",14,234.46,4.67,"-",null,null,null,"Агрегаты копровые без дизельмолота на базе трактора 80 (108) кВт (л.с.)",140110,478.36,0,"-"]
[null,null,null,null,"ВАЗ-2329",15,234.46,3.48,"-",null,null,null,"Агрегаты копровые без дизельмолота на базе экскаватора 0,65 м3",140101,388.32,0,"-"]
[null,null,null,null,"ГАЗ-22171",16,229.56,5.95,"-",null,null,null,"Агрегаты копровые без дизельмолота на базе экскаватора 1 м3",140102,412.66,0,"-"]
[null,null,null,null,"ГАЗ-2705 фур.",17,242.57,7,"-",null,null,null,"Агрегаты копровые без дизельмолота на базе экскаватора 1,25 м3",140103,458.44,0,"-"]
[null,null,null,null,"ГАЗ-27057",18,242.57,7,"-",null,null,null,"Агрегаты сварочные однопостовые для ручной электродуговой сварки",40251,26.09,0,"-"]
[null,null,null,null,"ГАЗ-3221  м/а",19,229.56,5.95,"-",null,null,null,"Агрегаты сварочные передвижные с номинальным сварочным током 250-400 А с бензиновым двигателем",40201,8.1,0,"-"]
[null,null,null,null,"ГАЗ-3302",20,237.45,8.36,"-",null,null,null,"Агрегаты сварочные передвижные с номинальным сварочным током 250-400 А с дизельным двигателем",40202,8.09,0,"-"]
[null,null,null,null,"ГАЗ-33023 б",21,237.45,8.36,"-",null,null,null,"Аппараты для воздушной плазменной резки металла",40700,89.36,0,"-"]
[null,null,null,null,"ГАЗ-33081 с КМУ Егерь-2",22,346.76,10.24,"-",null,null,null,"Аппараты для газовой сварки и резки",40504,1.99,0,"-"]
[null,null,null,null,"ГАЗ-33081-70 б Егерь",23,333.07,9.9499999999999993,"-",null,null,null,"Аппараты смазочный тросовый",161100,8.11,0,"-"]
[null,null,null,null,"ГАЗ-340031",24,568.07000000000005,0,"-",null,null,null,"Бензопилы дисковые \"Партнер\"",390541,222.43,0,"-"]
[null,null,null,null,"ГАЗ-34031",25,546.49,0,"-",null,null,null,"Бороны дисковые мелиоративные (без трактора)",90102,95.95,0,"-"]
[null,null,null,null,"ГАЗ-34037-11П спец.тягач",26,568.07000000000005,0,"-",null,null,null,"Бороны зубовые",90111,2.5099999999999998,0,"-"]
[null,null,null,null,"ГАЗ-34039",27,372.23,29.84,"-",null,null,null,"Бороны корчевальные (без трактора)",90101,14.68,0,"-"]
[null,null,null,null,"ГАЗ-3897 фургон",28,242.4,8.7100000000000009,"-",null,null,null,"Бульдозеры на базе трактора 121 (165) кВт (л.с.)",160901,322.18,0,"-"]
[null,null,null,null,"ГАЗ-71",29,616.47,0,"-",null,null,null,"Бульдозеры при работе на других видах строительства (кроме водохозяйственного) 118 (160) кВт (л.с.)",70151,265.72000000000003,0,"-"]
[null,null,null,null,"ГАЗ-71 ЛСВ-6",30,616.47,0,"-",null,null,null,"Бульдозеры при работе на других видах строительства (кроме водохозяйственного) 121 (165) кВт (л.с.)",70152,287.98,0,"-"]
[null,null,null,null,"ГАЗЕЛЬ-32213",31,299.87,6.02,"-",null,null,null,"Бульдозеры при работе на других видах строительства (кроме водохозяйственного) 132 (180) кВт (л.с.)",70153,273.61,0,"-"]
[null,null,null,null,"ГАЗЕЛЬ-32217",32,299.87,5.13,"-",null,null,null,"Бульдозеры при работе на других видах строительства (кроме водохозяйственного) 243 (330) кВт (л.с.)",70154,302.62,0,"-"]
[null,null,null,null,"ГТТ",33,738.57,0,"-",null,null,null,"Бульдозеры при работе на других видах строительства (кроме водохозяйственного) 37 (50) кВт (л.с.)",70147,248.99,0,"-"]
[null,null,null,null,"ГТ-ТБ",34,738.57,0,"-",null,null,null,"Бульдозеры при работе на других видах строительства (кроме водохозяйственного) 59 (80) кВт (л.с.)",70148,231.48,0,"-"]
[null,null,null,null,"ЕК-14 экскаватор",35,382.17,0,"-",null,null,null,"Бульдозеры при работе на других видах строительства (кроме водохозяйственного) 79 (108) кВт (л.с.)",70149,241.23,0,"-"]
[null,null,null,null,"ЕК-270 субаренда",36,403.95,0,"-",null,null,null,"Бульдозеры при работе на других видах строительства (кроме водохозяйственного) 96 (130) кВт (л.с.)",70150,230.97,0,"-"]
[null,null,null,null,"ЕТ-25",37,382.17,0,"-",null,null,null,"Бульдозеры при работе на сооружении магистральных трубопроводов 121 (165) кВт (л.с.)",70118,330.05,0,"-"]
[null,null,null,null,"ЗИЛ-130 ТЦ-10",38,443.46,12.28,"-",null,null,null,"Бульдозеры при работе на сооружении магистральных трубопроводов 132 (180) кВт (л.с.)",70119,348.68,0,"-"]
[null,null,null,null,"ЗИЛ-131 АЗА-3",39,431.28,14.17,"-",null,null,null,"Бульдозеры при работе на сооружении магистральных трубопроводов 228 (310) кВт (л.с.)",70120,781.33,0,"-"]
[null,null,null,null,"ЗИЛ-131 б",40,262.27,13.44,"-",null,null,null,"Бульдозеры при работе на сооружении магистральных трубопроводов 303 (410) кВт (л.с.)",70121,391.97,0,"-"]
[null,null,null,null,"ЗИЛ-131 ЛС-6",41,450.33,14.2,"-",null,null,null,"Бульдозеры при работе на сооружении магистральных трубопроводов 340 (450) кВт (л.с.)",70122,436.88,0,"-"]
[null,null,null,null,"ЗИЛ-131 НА б",42,262.27,13.44,"-",null,null,null,"Бульдозеры при работе на сооружении магистральных трубопроводов 96 (130) кВт (л.с.)",70117,304.16000000000003,0,"-"]
[null,null,null,null,"ЗИЛ-131 НМТО-АТ",43,320.19,15.79,"-",null,null,null,"Бульдозеры при работе на сооружении магистральных трубопроводов до 59 (80) кВт (л.с.)",70116,267.05,0,"-"]
[null,null,null,null,"ЗИЛ-131 ПРМ",44,356.32,16.5,"-",null,null,null,"Бульдозеры-рыхлители на тракторе при работе на водохозяйственном строительстве мощностью 121 (165) кВт (л.с.)",70202,382.18,0,"-"]
[null,null,null,null,"ЗИЛ-131 ПРМА-531",45,356.32,16.5,"-",null,null,null,"Бульдозеры-рыхлители на тракторе при работе на водохозяйственном строительстве мощностью 132 (180) кВт (л.с.)",70203,405.5,0,"-"]
[null,null,null,null,"ЗИЛ-131 т/в",46,310.29000000000002,16.62,"-",null,null,null,"Бульдозеры-рыхлители на тракторе при работе на водохозяйственном строительстве мощностью 79 (108) кВт (л.с.)",70201,255.57,0,"-"]
[null,null,null,null,"ЗИЛ-131 УМП-350",47,818.92,14.73,"-",null,null,null,"Бульдозеры-рыхлители на тракторе при работе на других видах строительства (кроме водохозяйственного) мощностью 121 (165) кВт (л.с.)",70224,256.56,0,"-"]
[null,null,null,null,"ЗИЛ-413412 АЦПТ-5",48,330.34,11.25,"-",null,null,null,"Бульдозеры-рыхлители на тракторе при работе на других видах строительства (кроме водохозяйственного) мощностью 132 (180) кВт (л.с.)",70225,243.97,0,"-"]
[null,null,null,null,"ЗИЛ-431410 б 6Т.",49,322.85000000000002,9.7799999999999994,"-",null,null,null,"Бульдозеры-рыхлители на тракторе при работе на других видах строительства (кроме водохозяйственного) мощностью 79 (108) кВт (л.с.)",70223,205.11,0,"-"]
[null,null,null,null,"ЗИЛ-431412 б",50,322.85000000000002,9.7799999999999994,"-",null,null,null,"Бульдозеры-рыхлители на тракторе при работе на транспортном строительстве мощностью 132 (180) кВт (л.с.)",70213,385.12,0,"-"]
[null,null,null,null,"ЗИЛ-433360",51,322.85000000000002,10.050000000000001,"-",null,null,null,"Валкователи древесных остатков (без трактора)",81800,70.16,0,"-"]
[null,null,null,null,"ЗИЛ-433362",52,322.85000000000002,10.050000000000001,"-",null,null,null,"Вибропогружатели высокочастотные для погружения шпунтов и свай до 1,5 т",140401,105.12,0,"-"]
[null,null,null,null,"ЗИЛ-433362 КО-520",53,327.52,10.85,"-",null,null,null,"Вибропогружатели низкочастотные для погружения металлических и железобетонных свай до 3 т",140406,155.43,0,"-"]
[null,null,null,null,"ЗИЛ-433362 КО-713 замена",54,327.52,10.85,"-",null,null,null,"Вибропогружатели низкочастотные для погружения свай-оболочек",140411,220.83,0,"-"]
[null,null,null,null,"ЗИЛ-433362 МК-5,8 замена",55,327.52,10.85,"-",null,null,null,"Выпрямители сварочные многопостовые с количеством постов до 30",40801,18.309999999999999,0,"-"]
[null,null,null,null,"ЗИЛ-4334 УМП-350",56,911.18,12.41,"-",null,null,null,"Выпрямители сварочные однопостовые с номинальным сварочным током 315-500 А",40802,4.88,0,"-"]
[null,null,null,null,"ЗИЛ-ММЗ-4505",57,301.97000000000003,13.03,"-",null,null,null,"Вышки телескопические 25 м",31050,476.67,0,"-"]
[null,null,null,null,"Ивеко-190-36 с/тяг с ЮКИ-П21АЛ-5 б",58,387.77,28.44,"-",null,null,null,"Грабли кустарниковые навесные (без трактора)",90200,18.11,0,"-"]
[null,null,null,null,"К-700 Бульдозер",59,854.54,0,"-",null,null,null,"Грейдеры прицепные среднего типа",120301,197.61,0,"-"]
[null,null,null,null,"К-701",60,854.54,0,"-",null,null,null,"Грейдеры прицепные тяжелого типа",120302,180.65,0,"-"]
[null,null,null,null,"К-701 бульдозер",61,854.54,0,"-",null,null,null,"Дизель-молоты 0,5 т",140501,16.84,0,"-"]
[null,null,null,null,"К-702 МБА-УДМ-2",62,831.47,0,"-",null,null,null,"Дизель-молоты 1,25 т",140502,29.12,0,"-"]
[null,null,null,null,"К-703 МА-ДМ-15",63,854.54,0,"-",null,null,null,"Дизель-молоты 1,8 т",140503,38.22,0,"-"]
[null,null,null,null,"К-703 МА-ДМ-15 лизинговый",64,818.51,0,"-",null,null,null,"Дизель-молоты 2,5 т",140504,58.01,0,"-"]
[null,null,null,null,"КАВЗ-3976",65,336.6,7.68,"-",null,null,null,"Дизель-молоты 3,5 т",140505,80.760000000000005,0,"-"]
[null,null,null,null,"КАВЗ-3976-011-020",66,336.6,7.68,"-",null,null,null,"Дизель-молоты 5 т",140506,89.47,0,"-"]
[null,null,null,null,"КАВЗ-397652",67,378.62,8.24,"-",null,null,null,"Кабелеукладчики колесные прицепные для прокладки коаксиального кабеля КУК-5М",170102,403.72,0,"-"]
[null,null,null,null,"КАМАЗ НЕФАЗ-4208",68,363.27,10.02,"-",null,null,null,"Кабелеукладчики колесные прицепные КУК-4Б",170105,403.04,0,"-"]
[null,null,null,null,"КАМАЗ НЗАС-4951",69,363.27,10.02,"-",null,null,null,"Кабелеукладчики колесные прицепные легкие для прокладки малогабаритных кабелей связи - КУ-120 В",170101,174.96,0,"-"]
[null,null,null,null,"КАМАЗ-42112 НЗАС",70,363.27,10.02,"-",null,null,null,"Кабелеукладчики навесные вибрационные для прокладки оптического кабеля КНВ-2К",170103,1959.68,0,"-"]
[null,null,null,null,"КАМАЗ-4310 АКH-6,6",71,416.26,15.76,"-",null,null,null,"Кабелеукладчики прицепные легкие для сельской и зоновой связи ЛПК-20-2",170104,167.47,0,"-"]
[null,null,null,null,"КамАЗ-4310 ИФ-300",72,506.24,15.57,"-",null,null,null,"Канавокопатели фрезерные (на тракторе)",90303,396.78,0,"-"]
[null,null,null,null,"КАМАЗ-4310 К-140 ЛИВ замена",73,509.91,15.57,"-",null,null,null,"Катки дорожные прицепные кулачковые 17 т",120702,46.22,0,"-"]
[null,null,null,null,"Камаз-4310 НЗАС-4208",74,363.27,10.02,"-",null,null,null,"Катки дорожные прицепные кулачковые 28 т",120703,55.25,0,"-"]
[null,null,null,null,"КАМАЗ-4310 ПВ 95",75,401.14,19.29,"-",null,null,null,"Катки дорожные прицепные кулачковые 8 т",120701,10.11,0,"-"]
[null,null,null,null,"КАМАЗ-4310 ТЕХПОМОЩЬ",76,409.05,15.83,"-",null,null,null,"Катки дорожные прицепные на пневмоколесном ходу 12,5 т",120710,46.55,0,"-"]
[null,null,null,null,"КАМАЗ-43101",77,296.55,14.2,"-",null,null,null,"Катки дорожные прицепные на пневмоколесном ходу 25 т",120711,63.15,0,"-"]
[null,null,null,null,"КАМАЗ-43101 АКН-6,6",78,416.26,15.76,"-",null,null,null,"Катки дорожные прицепные на пневмоколесном ходу 50 т",120712,107.35,0,"-"]
[null,null,null,null,"КАМАЗ-43101 НЗАС",79,363.27,10.02,"-",null,null,null,"Катки дорожные самоходные вибрационные 2,2 т",120901,126.99,0,"-"]
[null,null,null,null,"КАМАЗ-43101 ПВ-96",80,401.14,19.29,"-",null,null,null,"Катки дорожные самоходные вибрационные, масса более 8 т",120952,247.93,0,"-"]
[null,null,null,null,"КамАЗ-43101 ППЦ-16 замена",81,377.67,21.99,"-",null,null,null,"Катки дорожные самоходные вибрационные, масса до 8 т",120951,168.35,0,"-"]
[null,null,null,null,"КАМАЗ-43101 ТГМ-10",82,417.01,19.21,"-",null,null,null,"Катки дорожные самоходные гладкие 10 т",153102,327.33999999999997,0,"-"]
[null,null,null,null,"КАМАЗ-43114",83,296.55,15.89,"-",null,null,null,"Катки дорожные самоходные гладкие 13 т",120907,365.38,0,"-"]
[null,null,null,null,"КамАЗ-43114 680102 ИМ-20 замена",84,490.79,25.69,"-",null,null,null,"Катки дорожные самоходные гладкие 18 т",120908,476.73,0,"-"]
[null,null,null,null,"КАМАЗ-43114 тех.помощь",85,427.09,15.92,"-",null,null,null,"Катки дорожные самоходные гладкие 5 т",153101,432.28,0,"-"]
[null,null,null,null,"КамАЗ-43114-15 АДПМ-12/150-2 замена",86,479.45,16.12,"-",null,null,null,"Катки дорожные самоходные гладкие 8 т",120906,240.5,0,"-"]
[null,null,null,null,"КамАЗ-43114-15 АРОК-2 замена",87,463.49,15.86,"-",null,null,null,"Катки дорожные самоходные на пневмоколесном ходу 16 т",120910,279.58999999999997,0,"-"]
[null,null,null,null,"КАМАЗ-43114-15 б замена",88,327.97,15.89,"-",null,null,null,"Катки дорожные самоходные на пневмоколесном ходу 30 т",120911,440.4,0,"-"]
[null,null,null,null,"КАМАЗ-43118 3902Р1 с КМУ гар.4271",89,567.20000000000005,16.559999999999999,"-",null,null,null,"Катки полуприцепные на пневмоколесном ходу с тягачом 15 т",120801,294.14,0,"-"]
[null,null,null,null,"Камаз-43118 АДПМ-12/150-2 гар.8183",90,547.78,15.82,"-",null,null,null,"Катки полуприцепные на пневмоколесном ходу с тягачом 25 т",120802,428.79,0,"-"]
[null,null,null,null,"КАМАЗ-43118 АКН-10",91,452.95,19.04,"-",null,null,null,"Катки полуприцепные на пневмоколесном ходу с тягачом 35 т",120803,462.79,0,"-"]
[null,null,null,null,"Камаз-43118 АКН-10 гар.8225,9485,9489,9490,9491",92,603.82000000000005,18.73,"-",null,null,null,"Компрессоры \"XANS-175Dd\"",391711,606.20000000000005,0,"-"]
[null,null,null,null,"КамАЗ-43118 АКНС-10 замена",93,458.57,19.010000000000002,"-",null,null,null,"Компрессоры передвижные \"АТLАS СОРСО\" XRHS-485 или аналогичного типа, давление до 2,0 МПа, производительность до 60 м3/мин",391751,1227.46,0,"-"]
[null,null,null,null,"КамАЗ-43118 АЦН-10",94,460.58,19.010000000000002,"-",null,null,null,"Компрессоры передвижные с двигателем внутреннего сгорания 800 кПа (8 ат) 10 м3/мин",50201,175.76,0,"-"]
[null,null,null,null,"КАМАЗ-43118 ИМ-150 с ПП-9370",95,490.79,25.69,"-",null,null,null,"Компрессоры передвижные с двигателем внутреннего сгорания давлением до 686 кПа (7 ат) 11,2 м3/мин",152800,252.54,0,"-"]
[null,null,null,null,"КамАЗ-43118 к/м Palfinger АНРВ",96,658.69,16.239999999999998,"-",null,null,null,"Компрессоры передвижные с двигателем внутреннего сгорания давлением до 686 кПа (7 ат) 2,2 м3/мин",50101,242.78,0,"-"]
[null,null,null,null,"КамАЗ-43118 КС-35714 замена",97,677.43,19.8,"-",null,null,null,"Компрессоры передвижные с двигателем внутреннего сгорания давлением до 686 кПа (7 ат) 5 м3/мин",50102,231.64,0,"-"]
[null,null,null,null,"КамАЗ-43118 НефАЗ-66062 т/з замена",98,521.08000000000004,18.440000000000001,"-",null,null,null,"Компрессоры передвижные с электродвигателем давлением 600 кПа (6 ат), производительность до 0,5 м3/мин",50401,1.1599999999999999,0,"-"]
[null,null,null,null,"Камаз-43118 ППУ-1600/100 гар.2091,8254,9341,9342",99,496.88,16.850000000000001,"-",null,null,null,"Компрессоры передвижные с электродвигателем давлением 600 кПа (6 ат), производительность до 3,5 м3/мин",50402,49.78,0,"-"]
[null,null,null,null,"КамАЗ-43118 ППУ-1600/100 замена",100,457.68,17.12,"-",null,null,null,"Компрессоры самоходные с двигателем внутреннего сгорания давлением 800 кПа (8 ат), производительность 6,3 м3/мин",50301,241.94,0,"-"]
[null,null,null,null,"КамАЗ-43118 спец. авт. заправщик",101,521.08000000000004,18.440000000000001,"-",null,null,null,"Копры гусеничные для свай длиной до 12 м",140201,423.46,0,"-"]
[null,null,null,null,"КамАЗ-43118 тех.помощь замена",102,427.09,15.92,"-",null,null,null,"Копры гусеничные для свай длиной до 20 м",140202,539.41,0,"-"]
[null,null,null,null,"КАМАЗ-43118 ХИАБ-200",103,503.5,17.95,"-",null,null,null,"Копры универсальные с дизельмолотом 2,5 т",140301,357.75,0,"-"]
[null,null,null,null,"КамАЗ-43118 ЦА-32 замена",104,385.74,17.29,"-",null,null,null,"Копры универсальные с пневматическим молотом 6 т",140310,217.37,0,"-"]
[null,null,null,null,"КАМАЗ-43118-15 АЦ-32 гар.8249,8253,9168",105,450.43,17.03,"-",null,null,null,"Копры универсальные с пневматическим молотом 8 т",140311,361.82,0,"-"]
[null,null,null,null,"КамАЗ-43118-15 КС-45719-7А 20т",106,692.21,21.22,"-",null,null,null,"Корчеватели роторные (без трактора)",90400,122.29,0,"-"]
[null,null,null,null,"КамАЗ-4326 УМП-4326",107,999.41,14.11,"-",null,null,null,"Корчеватели-собиратели с трактором 118 (160) кВт (л.с.)",90503,223.58,0,"-"]
[null,null,null,null,"КамАЗ-44108 ППЦ-16 замена",108,391.1,23.77,"-",null,null,null,"Корчеватели-собиратели с трактором 59 (80) кВт (л.с.)",90504,129.97,0,"-"]
[null,null,null,null,"КамАЗ-44108 ППЦ-23 замена",109,400.94,37.86,"-",null,null,null,"Корчеватели-собиратели с трактором 79 (108) кВт (л.с.)",90501,148.99,0,"-"]
[null,null,null,null,"КамАЗ-44108 с/т с ОДАЗ замена",110,372.76,23.21,"-",null,null,null,"Корчеватели-собиратели с трактором 96 (130) кВт (л.с.)",90502,369.13,0,"-"]
[null,null,null,null,"КАМАЗ-44108-10 ППЦ-18 с НЕФАЗ-96742-04 гар.8197, 9486",111,452.98,20.8,"-",null,null,null,"Краны башенные при работе на монтаже технологического оборудования 10 т",20103,384.52,0,"-"]
[null,null,null,null,"КамАЗ-44108-10 с/т НЕФАЗ-96742 17,3т",112,372.76,23.21,"-",null,null,null,"Краны башенные при работе на монтаже технологического оборудования 12.5 т",20104,535.91999999999996,0,"-"]
[null,null,null,null,"КАМАЗ-44108-10 с/т ТСП-9417, СЗАП-9328, HLS-200 17,3т",113,372.76,23.21,"-",null,null,null,"Краны башенные при работе на монтаже технологического оборудования 25 т",20105,757.75,0,"-"]
[null,null,null,null,"КАМАЗ-4426 т/в",114,409.07,18.61,"-",null,null,null,"Краны на автомобильном ходу 10 т",161001,272.86,0,"-"]
[null,null,null,null,"КАМАЗ-44260 т/в гар.3001,3002",115,524.73,18.88,"-",null,null,null,"Краны на автомобильном ходу 16 т",161002,292.08999999999997,0,"-"]
[null,null,null,null,"КАМАЗ-44260 ТГМ-10",116,409.07,18.61,"-",null,null,null,"Краны на автомобильном ходу при работе на других видах строительства (кроме магистральных трубопроводов) 10 т",21141,248.28,0,"-"]
[null,null,null,null,"КамАЗ-47610 АРОК-2 замена",117,463.49,15.86,"-",null,null,null,"Краны на автомобильном ходу при работе на других видах строительства (кроме магистральных трубопроводов) 12,5 т",21142,250.14,0,"-"]
[null,null,null,null,"КАМАЗ-5320",118,284.05,12.08,"-",null,null,null,"Краны на автомобильном ходу при работе на других видах строительства (кроме магистральных трубопроводов) 16 т",21143,275.62,0,"-"]
[null,null,null,null,"КАМАЗ-5320 АЦ-7,5",119,397.64,14.11,"-",null,null,null,"Краны на автомобильном ходу при работе на других видах строительства (кроме магистральных трубопроводов) 25 т",21144,672.45,0,"-"]
[null,null,null,null,"КАМАЗ-5320 АЦ-8",120,397.64,14.11,"-",null,null,null,"Краны на автомобильном ходу при работе на других видах строительства (кроме магистральных трубопроводов) 40 т",21145,1130.6500000000001,0,"-"]
[null,null,null,null,"КамАЗ-5320 МКТ-253 25т",121,811.35,21.56,"-",null,null,null,"Краны на автомобильном ходу при работе на других видах строительства (кроме магистральных трубопроводов) 6,3 т",21140,216.9,0,"-"]
[null,null,null,null,"КАМАЗ-53212",122,308.08999999999997,12.24,"-",null,null,null,"Краны на автомобильном ходу при работе на других видах строительства (кроме магистральных трубопроводов) 63 т",21146,1189.98,0,"-"]
[null,null,null,null,"КАМАЗ-53212 АЦ-10",123,414.39,14.69,"-",null,null,null,"Краны на автомобильном ходу при работе на монтаже технологического оборудования 10 т",21102,290.43,0,"-"]
[null,null,null,null,"КамАЗ-53212 АЦ-9 замена",124,414.39,14.69,"-",null,null,null,"Краны на автомобильном ходу при работе на монтаже технологического оборудования 12,5 т",21103,290.06,0,"-"]
[null,null,null,null,"КамАЗ-53212 ЦА-320 замена",125,384.03,17.29,"-",null,null,null,"Краны на автомобильном ходу при работе на монтаже технологического оборудования 16 т",21104,312.37,0,"-"]
[null,null,null,null,"КамАЗ-53215 КС-45717 с/аренда",126,811.35,21.56,"-",null,null,null,"Краны на автомобильном ходу при работе на монтаже технологического оборудования 25 т",21105,719.33,0,"-"]
[null,null,null,null,"КАМАЗ-53228 HIAB-300",127,524.80999999999995,21.86,"-",null,null,null,"Краны на автомобильном ходу при работе на монтаже технологического оборудования 40 т",21106,1128.58,0,"-"]
[null,null,null,null,"КАМАЗ-53228 N экскаватор (УДС)",128,707.3,27.38,"-",null,null,null,"Краны на автомобильном ходу при работе на монтаже технологического оборудования 6,3 т",21101,230.11,0,"-"]
[null,null,null,null,"КАМАЗ-53228 ИМ-240П",129,523.85,24.71,"-",null,null,null,"Краны на автомобильном ходу при работе на монтаже технологического оборудования 63 т",21107,1167.51,0,"-"]
[null,null,null,null,"КАМАЗ-53228 КС-45717",130,811.35,21.56,"-",null,null,null,"Краны на автомобильном ходу при работе на сооружении магистральных трубопроводов 10 т",21129,293.33999999999997,0,"-"]
[null,null,null,null,"КамАЗ-53228R АЦ-15 НЕФАЗ",131,377.66,21.65,"-",null,null,null,"Краны на автомобильном ходу при работе на сооружении магистральных трубопроводов 12,5 т",21130,316.11,0,"-"]
[null,null,null,null,"КАМАЗ-5410 АЦ-8",132,414.39,14.12,"-",null,null,null,"Краны на автомобильном ходу при работе на сооружении магистральных трубопроводов 6,3 т",21128,234.01,0,"-"]
[null,null,null,null,"КАМАЗ-5410 с ОДАЗ-9370",133,372.76,16.5,"-",null,null,null,"Краны на гусеничном ходу при работе на других видах строительства (кроме магистральных трубопроводов) 100 т",21247,1050.31,0,"-"]
[null,null,null,null,"КАМАЗ-5410 с/т МАЗ-9397 21т замена",134,400.82,19.93,"-",null,null,null,"Краны на гусеничном ходу при работе на других видах строительства (кроме магистральных трубопроводов) 125 т",21248,1711.98,0,"-"]
[null,null,null,null,"КАМАЗ-5410 с/т с ЮКИ-П21АЛ 22 т",135,400.82,19.93,"-",null,null,null,"Краны на гусеничном ходу при работе на других видах строительства (кроме магистральных трубопроводов) 25 т",21244,305.51,0,"-"]
[null,null,null,null,"КАМАЗ-54112 с ОДАЗ-9370",136,372.76,16.5,"-",null,null,null,"Краны на гусеничном ходу при работе на других видах строительства (кроме магистральных трубопроводов) 40 т",21245,399.55,0,"-"]
[null,null,null,null,"КАМАЗ-54112 с ПП-9370",137,372.76,16.5,"-",null,null,null,"Краны на гусеничном ходу при работе на других видах строительства (кроме магистральных трубопроводов) 50-63 т",21246,663.02,0,"-"]
[null,null,null,null,"КАМАЗ-55111",138,344.09,15.61,"-",null,null,null,"Краны на гусеничном ходу при работе на других видах строительства (кроме магистральных трубопроводов) до 16 т",21243,278.31,0,"-"]
[null,null,null,null,"КАМАЗ-56071 АЦ-9",139,414.39,14.12,"-",null,null,null,"Краны на гусеничном ходу при работе на монтаже технологического оборудования 100 т",21205,1189.96,0,"-"]
[null,null,null,null,"КамАЗ-56071 КС-45711-1 25т",140,811.35,21.56,"-",null,null,null,"Краны на гусеничном ходу при работе на монтаже технологического оборудования 125 т",21206,1956.25,0,"-"]
[null,null,null,null,"КамАЗ-56247 АЦ-10 замена",141,463.31,19.010000000000002,"-",null,null,null,"Краны на гусеничном ходу при работе на монтаже технологического оборудования 25 т",21202,338.14,0,"-"]
[null,null,null,null,"КамАЗ-56684 АТЗ-7,5",142,428.17,14.12,"-",null,null,null,"Краны на гусеничном ходу при работе на монтаже технологического оборудования 40 т",21203,434.1,0,"-"]
[null,null,null,null,"КамАЗ-63501 ПКС",143,4058.29,28.2,"-",null,null,null,"Краны на гусеничном ходу при работе на монтаже технологического оборудования 50-63 т",21204,695.12,0,"-"]
[null,null,null,null,"КАМАЗ-64061 ИФ-300 ТСП-9417",144,524.02,25.06,"-",null,null,null,"Краны на гусеничном ходу при работе на монтаже технологического оборудования до 16 т",21201,292.47000000000003,0,"-"]
[null,null,null,null,"КамАЗ-65111 EW-25-М1.103",145,768.21,26.37,"-",null,null,null,"Краны на гусеничном ходу при работе на сооружении магистральных трубопроводов 25 т",21232,481.1,0,"-"]
[null,null,null,null,"КАМАЗ-65111-62 EW25М1.103 гар.9069",146,1122.51,20.61,"-",null,null,null,"Краны на гусеничном ходу при работе на сооружении магистральных трубопроводов 63 т",21233,626.37,0,"-"]
[null,null,null,null,"КамАЗ-65115-62 КС-55713 (25 т) замена",147,811.35,21.56,"-",null,null,null,"Краны на гусеничном ходу при работе на сооружении магистральных трубопроводов до 16 т",21231,298.89999999999998,0,"-"]
[null,null,null,null,"КамАЗ-65221 ППЦ-НефАЗ-96742 с/т замена",148,375.89,19.739999999999998,"-",null,null,null,"Краны на пневмоколесном ходу при работе на гидроэнергетическом строительстве 100 т",21417,894.79,0,"-"]
[null,null,null,null,"КАМАЗ-65225 с ТСП-94161-000050 гар.3299",149,573.49,31.38,"-",null,null,null,"Краны на пневмоколесном ходу при работе на гидроэнергетическом строительстве 16 т",21413,302.3,0,"-"]
[null,null,null,null,"КамАЗ-65225-22 с/т 39т",150,402.14,33.5,"-",null,null,null,"Краны на пневмоколесном ходу при работе на гидроэнергетическом строительстве 25 т",21414,352,0,"-"]
[null,null,null,null,"КАМАЗ-690650 ИФ-300С-1с п/п НЕФАЗ-9334",151,413.88,27.37,"-",null,null,null,"Краны на пневмоколесном ходу при работе на гидроэнергетическом строительстве 40 т",21415,426.84,0,"-"]
[null,null,null,null,"Кароса С-735",152,384.7,17.149999999999999,"-",null,null,null,"Краны на пневмоколесном ходу при работе на гидроэнергетическом строительстве 63 т",21416,475.9,0,"-"]
[null,null,null,null,"Кароса Ц-934",153,370.81,15.91,"-",null,null,null,"Краны на пневмоколесном ходу при работе на других видах строительства (кроме магистральных трубопроводов) 100 т",21442,905.44,0,"-"]
[null,null,null,null,"КЗКТ-7428-0011 ЧМЗАП -9990 72 тн",154,654.20000000000005,83.51,"-",null,null,null,"Краны на пневмоколесном ходу при работе на других видах строительства (кроме магистральных трубопроводов) 16 т",21438,347.71,0,"-"]
[null,null,null,null,"КЗКТ-7428-011 с/т с КЗКТ-9101 замена 53,5 т",155,620.75,81.3,"-",null,null,null,"Краны на пневмоколесном ходу при работе на других видах строительства (кроме магистральных трубопроводов) 25 т",21439,322.56,0,"-"]
[null,null,null,null,"КРАЗ-250",156,313.08,16.100000000000001,"-",null,null,null,"Краны на пневмоколесном ходу при работе на других видах строительства (кроме магистральных трубопроводов) 40 т",21440,517.79999999999995,0,"-"]
[null,null,null,null,"КРАЗ-250 АНЦ -320",157,410.65,18.670000000000002,"-",null,null,null,"Краны на пневмоколесном ходу при работе на других видах строительства (кроме магистральных трубопроводов) 63 т",21441,562.82000000000005,0,"-"]
[null,null,null,null,"КРАЗ-250 АЦ-12",158,358.73,18.73,"-",null,null,null,"Краны на пневмоколесном ходу при работе на монтаже технологического оборудования 100 т",21405,922.56,0,"-"]
[null,null,null,null,"КРАЗ-250 АЦН-12С",159,358.73,18.73,"-",null,null,null,"Краны на пневмоколесном ходу при работе на монтаже технологического оборудования 16 т",21401,342.9,0,"-"]
[null,null,null,null,"КРАЗ-250 ППУ-1600/100",160,465.38,18.18,"-",null,null,null,"Краны на пневмоколесном ходу при работе на монтаже технологического оборудования 25 т",21402,410.95,0,"-"]
[null,null,null,null,"КРАЗ-250 СД-9/101",161,502.88,20.84,"-",null,null,null,"Краны на пневмоколесном ходу при работе на монтаже технологического оборудования 40 т",21403,497.43,0,"-"]
[null,null,null,null,"КРАЗ-250 СКС-10/111",162,502.88,20.84,"-",null,null,null,"Краны на пневмоколесном ходу при работе на монтаже технологического оборудования 63 т",21404,585.64,0,"-"]
[null,null,null,null,"КРАЗ-250 УНБ-160/32",163,410.65,18.809999999999999,"-",null,null,null,"Краны на пневмоколесном ходу при работе на сооружении магистральных трубопроводов 16 т",21427,382.22,0,"-"]
[null,null,null,null,"КРАЗ-250 УНБ-160/40",164,410.65,18.809999999999999,"-",null,null,null,"Краны на пневмоколесном ходу при работе на сооружении магистральных трубопроводов 25 т",21428,452.63,0,"-"]
[null,null,null,null,"КРАЗ-250 фискарс замена",165,534.28,18.28,"-",null,null,null,"Краны на пневмоколесном ходу при работе на сооружении магистральных трубопроводов 40 т",21429,538.71,0,"-"]
[null,null,null,null,"КРАЗ-250 ЦА-320",166,410.65,18.670000000000002,"-",null,null,null,"Краны на тракторе 121 (165) кВт (л.с.) 10 т (прицепные)",160202,185.01,0,"-"]
[null,null,null,null,"КРАЗ-255 АДПМ-12/150",167,447.9,20.11,"-",null,null,null,"Краны на тракторе 121 (165) кВт (л.с.) 5 т",160201,324.22000000000003,0,"-"]
[null,null,null,null,"КРАЗ-255 АНР-1",168,350.19,21.71,"-",null,null,null,"Краны установщики на тракторе 121 (165) кВт (л.с.) 12 т",160301,347.39,0,"-"]
[null,null,null,null,"КРАЗ-255 бал.тягач. замена",169,387.19,25.79,"-",null,null,null,"Краны-трубоукладчики грузоподъемностью 12,5 т",150702,314.41000000000003,0,"-"]
[null,null,null,null,"КРАЗ-255 ППУ-1600/100",170,462.83,20.43,"-",null,null,null,"Краны-трубоукладчики грузоподъемностью 35 т",150703,368.21,0,"-"]
[null,null,null,null,"КРАЗ-255 фискарс",171,507.55,20.43,"-",null,null,null,"Краны-трубоукладчики грузоподъемностью 50 т",150704,1204.44,0,"-"]
[null,null,null,null,"КРАЗ-255Б1 с/т 39,9 тн",172,387.19,25.79,"-",null,null,null,"Краны-трубоукладчики грузоподъемностью 6,3 т",150701,356.1,0,"-"]
[null,null,null,null,"КРАЗ-260 LIV-24.81",173,539.73,20.43,"-",null,null,null,"Краны-трубоукладчики грузоподъемностью 63-90 т",150705,977.15,0,"-"]
[null,null,null,null,"КРАЗ-260 К-120 гидроман. замена",174,544.02,18.3,"-",null,null,null,"Кусторезы навесные на тракторе 118 (160) кВт (л.с.) с гидравлическим управлением",90602,168.32,0,"-"]
[null,null,null,null,"КРАЗ-260 ППУ-1600/100",175,462.83,20.43,"-",null,null,null,"Кусторезы навесные на тракторе 79 (108) кВт (л.с.) с гидравлическим управлением",90601,220.63,0,"-"]
[null,null,null,null,"КРАЗ-260 ППЦ-23",176,410.44,28.8,"-",null,null,null,"Лебедки тяговым усилием 1471,5 (150) кН (т)",153200,2139.02,0,"-"]
[null,null,null,null,"КРАЗ-260 с ЧМЗАП-99865 Е",177,407.69,28.51,"-",null,null,null,"Лыжи самосвал прицепные",81900,22.95,0,"-"]
[null,null,null,null,"КРАЗ-260 с/т ЧМЗАП-93853",178,387.19,25.79,"-",null,null,null,"Машины бурильно-крановые на автомобиле глубиной бурения 3,5 м",160402,290.49,0,"-"]
[null,null,null,null,"КРАЗ-260 фискарс",179,507.55,20.43,"-",null,null,null,"Машины бурильно-крановые на тракторе 66 (90) кВт (л.с.) глубиной бурения 1,5-3 м",160401,339.79,0,"-"]
[null,null,null,null,"КРАЗ-260Г ИФ-300 АТ-8",180,539.73,20.43,"-",null,null,null,"Машины бурильные на тракторе 85 (115) кВт (л.с.) глубиной бурения 3,5 м",160501,350.46,0,"-"]
[null,null,null,null,"КРАЗ-260Г ИФ-300С",181,523.64,20.43,"-",null,null,null,"Машины для установки столбиков ограждения",90800,197.52,0,"-"]
[null,null,null,null,"КРАЗ-63221 АТЭ-8 М HIAB-200 C",182,539.73,20.43,"-",null,null,null,"Машины камнеуборочные",90900,29.07,0,"-"]
[null,null,null,null,"КРАЗ-63221 ИФ-300С-08 замена",183,507.56,20.43,"-",null,null,null,"Машины лесопосадочные (без трактора)",91000,19.96,0,"-"]
[null,null,null,null,"КРАЗ-6446 с ЧМЗАП-99865 Е",184,407.69,28.51,"-",null,null,null,"Мотокусторезы 2,6 (3,5) кВт (л.с.)",90700,200.49,0,"-"]
[null,null,null,null,"КРАЗ-65101 АДПМ-12/150У1",185,447.9,18.34,"-",null,null,null,"Опрыскиватели вентиляторные",91100,30.37,0,"-"]
[null,null,null,null,"КРАЗ-65101 АНЦ-320",186,410.65,18.670000000000002,"-",null,null,null,"Опыливатели широкозахватный универсальный",91200,5.83,0,"-"]
[null,null,null,null,"КРАЗ-65101 АЦ-10",187,359.75,18.73,"-",null,null,null,"Плетевозы на автомобильном ходу до 12 т",152401,288.95999999999998,0,"-"]
[null,null,null,null,"КРАЗ-65101 АЦ-12",188,359.75,18.73,"-",null,null,null,"Плетевозы на автомобильном ходу до 19 т",152402,354.83,0,"-"]
[null,null,null,null,"КРАЗ-65101 АЦН-10",189,359.75,18.73,"-",null,null,null,"Плетевозы на автомобильном ходу до 30 т",152403,572.32000000000005,0,"-"]
[null,null,null,null,"КРАЗ-65101 АЦН-12",190,359.75,18.73,"-",null,null,null,"Плетевозы на автомобильном ходу до 50 т",152404,650.16999999999996,0,"-"]
[null,null,null,null,"КРАЗ-65101 АЦН-14",191,359.75,18.73,"-",null,null,null,"Плетевозы тракторные с трактором 30 т",152500,394.26,0,"-"]
[null,null,null,null,"КРАЗ-65101 ИФ-300",192,534.28,18.28,"-",null,null,null,"Плуги выкопочные (без трактора)",91301,5.72,0,"-"]
[null,null,null,null,"КРАЗ-65101 ППУ-1200/100 замена",193,465.38,18.18,"-",null,null,null,"Плуги кустарниковоболотные (без трактора)",91302,13.33,0,"-"]
[null,null,null,null,"КРАЗ-65101 ППУ-1600/100",194,465.38,18.18,"-",null,null,null,"Плуги трехкорпусные навесные",91305,23.02,0,"-"]
[null,null,null,null,"КРАЗ-65101 УНБ-160/32",195,410.65,18.670000000000002,"-",null,null,null,"Плуги четырехкорпусные навесные",91306,24.69,0,"-"]
[null,null,null,null,"КРАЗ-65101 УНБ-160/40",196,410.65,18.670000000000002,"-",null,null,null,"Погрузчики одноковшовые на пневмоколесном ходу",152600,439.06,0,"-"]
[null,null,null,null,"КРАЗ-65101 УНБ-160/63",197,410.65,18.670000000000002,"-",null,null,null,"Погрузчики одноковшовые универсальные фронтальные гусеничные 2 т",31820,238.43,0,"-"]
[null,null,null,null,"КРАЗ-65101 ЦА-320",198,410.65,18.670000000000002,"-",null,null,null,"Погрузчики одноковшовые универсальные фронтальные гусеничные 3 т",31821,267.79000000000002,0,"-"]
[null,null,null,null,"ЛАЗ-695 Н",199,379.47,15.29,"-",null,null,null,"Погрузчики одноковшовые универсальные фронтальные гусеничные 4 т",31822,340.22,0,"-"]
[null,null,null,null,"ЛАЗ-699 Р",200,379.47,16.829999999999998,"-",null,null,null,"Погрузчики одноковшовые универсальные фронтальные пневмоколесные 2 т",31811,229.05,0,"-"]
[null,null,null,null,"Либхер ЛТМ 1100-5.21 (лизинг)",201,1083.69,104.81,"-",null,null,null,"Погрузчики одноковшовые универсальные фронтальные пневмоколесные 3 т",31812,371.11,0,"-"]
[null,null,null,null,"МАЗ-63030 КС-45717А1",202,843.76,39.83,"-",null,null,null,"Подборщики мелких древесных остатков",81700,183.13,0,"-"]
[null,null,null,null,"МАЗ-630303 КС-45717А-1",203,843.76,39.83,"-",null,null,null,"Подъемники гидравлические высотой подъема 10 м",30902,224.9,0,"-"]
[null,null,null,null,"МАЗ-6422А5-320 с/т 39 т",204,421.32,34.380000000000003,"-",null,null,null,"Подъемники гидравлические высотой подъема 12,5 м",30903,239.68,0,"-"]
[null,null,null,null,"МАЗ-642505-220 41 т новый",205,422.63,33.5,"-",null,null,null,"Подъемники гидравлические высотой подъема 8 м",30901,218.26,0,"-"]
[null,null,null,null,"МАЗ-642505-220 с/т 42 т",206,422.63,33.5,"-",null,null,null,"Подъемники строительные грузопассажирский высотой подъема 105 м",31101,589.51,0,"-"]
[null,null,null,null,"МАЗ-642505-220 с/т ТСП-94162",207,422.63,33.5,"-",null,null,null,"Полуавтоматы сварочные с номинальным сварочным током 40-500 А",40400,11,0,"-"]
[null,null,null,null,"МАЗ-642505-230 ППЦ НЕФАЗ-96742-10",208,402.22,32.74,"-",null,null,null,"Преобразователи сварочные с номинальным сварочным током 315-500 А",41000,9.81,0,"-"]
[null,null,null,null,"МАЗ-642505-230 с ППЦ НЕФАЗ-96742-10 гар.2391,2392",209,561.49,44.6,"-",null,null,null,"Рыхлители прицепные (без трактора)",91400,17.91,0,"-"]
[null,null,null,null,"МАЗ-642505-230 с ТСП-94171 замена 29 т",210,400.82,29.45,"-",null,null,null,"Сваепогружатели на базе трактора 121 (165) кВт (л.с.)",160701,508.46,0,"-"]
[null,null,null,null,"МАЗ-642505-230 с/т замена",211,422.63,33.5,"-",null,null,null,"Тележки раскаточные на гусеничном ходу",161300,11.53,0,"-"]
[null,null,null,null,"Мерседес-Бенц-2644АГ с STU-2-67/40",212,501.66,47.54,"-",null,null,null,"Тележки тракторные 20 т",10601,32.6,0,"-"]
[null,null,null,null,"МЗКТ-6923 КС-6476",213,870.81,43.51,"-",null,null,null,"Тракторы лесохозяйственные на гусеничном ходу 58,8 (80) кВт (л.с.)",10501,377.34,0,"-"]
[null,null,null,null,"МКСМ-800",214,334.31,0,"-",null,null,null,"Тракторы на гусеничном ходу 128,7 (175) кВт (л.с.)",152203,399.74,0,"-"]
[null,null,null,null,"МТЗ-82",215,516.11,0,"-",null,null,null,"Тракторы на гусеничном ходу 228 (310) кВт (л.с.)",152204,948.23,0,"-"]
[null,null,null,null,"МТЗ-82 КО-207",216,517.19000000000005,0,"-",null,null,null,"Тракторы на гусеничном ходу 244 (330) кВт (л.с.)",152205,1397.45,0,"-"]
[null,null,null,null,"МТЗ-82 ЭО-2621",217,415.74,0,"-",null,null,null,"Тракторы на гусеничном ходу 96 (130) кВт (л.с.)",152202,325.89999999999998,0,"-"]
[null,null,null,null,"НЕФАЗ-5299",218,353.17,21.09,"-",null,null,null,"Тракторы на гусеничном ходу до 59 (80) кВт (л.с.)",152201,259.12,0,"-"]
[null,null,null,null,"НЕФАЗ-5299-17-33 гар.7365",219,616.64,23.07,"-",null,null,null,"Тракторы на гусеничном ходу при работе на других видах строительства (кроме водохозяйственного) 121 (165) кВт (л.с.)",10314,308.19,0,"-"]
[null,null,null,null,"Нодвелл с экс.Хитачи (усредн.)",220,494.52,2112.0700000000002,"-",null,null,null,"Тракторы на гусеничном ходу при работе на других видах строительства (кроме водохозяйственного) 132 (180) кВт (л.с.)",10315,315.77,0,"-"]
[null,null,null,null,"ПАЗ-3204",221,417.08,8.52,"-",null,null,null,"Тракторы на гусеничном ходу при работе на других видах строительства (кроме водохозяйственного) 228 (310) кВт (л.с.)",10316,389.5,0,"-"]
[null,null,null,null,"ПАЗ-3205",222,336.6,8.42,"-",null,null,null,"Тракторы на гусеничном ходу при работе на других видах строительства (кроме водохозяйственного) 79 (108) кВт (л.с.)",10312,248.97,0,"-"]
[null,null,null,null,"ПАЗ-32054-60",223,336.6,8.42,"-",null,null,null,"Тракторы на гусеничном ходу при работе на других видах строительства (кроме водохозяйственного) 96 (130) кВт (л.с.)",10313,287.8,0,"-"]
[null,null,null,null,"Погрузчик ТО-28 замена",224,489.3,0,"-",null,null,null,"Тракторы на гусеничном ходу при работе на других видах строительства (кроме водохозяйственного) до 59 (80) кВт (л.с.)",10311,231.54,0,"-"]
[null,null,null,null,"Т-12.19.01 гар.9560, 9561",225,663.47,0,"-",null,null,null,"Тракторы на гусеничном ходу с лебедкой 132 (180) кВт (л.с.)",160601,280.20999999999998,0,"-"]
[null,null,null,null,"Т-130 ДЗ-110",226,651.15,0,"-",null,null,null,"Тракторы на пневмоколесном ходу 108 кВт (145 л.с.)",152304,331.65,0,"-"]
[null,null,null,null,"Т-130 ДЗ-110 В",227,651.15,0,"-",null,null,null,"Тракторы на пневмоколесном ходу 158 кВт (215 л.С.)",152305,374.93,0,"-"]
[null,null,null,null,"Т-130 ПАРС-2",228,651.15,0,"-",null,null,null,"Тракторы на пневмоколесном ходу 29 кВт (40 л.с.)",152301,196.93,0,"-"]
[null,null,null,null,"Т-170 Д-170-01",229,655.24,0,"-",null,null,null,"Тракторы на пневмоколесном ходу 40 кВт (55 л.с.)",152302,215.53,0,"-"]
[null,null,null,null,"Т-170 ДЗ-110",230,655.24,0,"-",null,null,null,"Тракторы на пневмоколесном ходу 59 кВт (80 л.с.)",152303,269.38,0,"-"]
[null,null,null,null,"Т-170 ДЗ-170",231,655.24,0,"-",null,null,null,"Трансформаторы сварочные с номинальным сварочным током 315-500 А",40900,7.54,0,"-"]
[null,null,null,null,"Т-170 ДЗ-171",232,655.24,0,"-",null,null,null,"Установки для сварки автоматической под слоем флюса",40503,39.78,0,"-"]
[null,null,null,null,"Т-170 ДЗ-182 замена",233,655.24,0,"-",null,null,null,"Установки для сварки аргонодуговой",40501,15.42,0,"-"]
[null,null,null,null,"Т-170 М1Б -170",234,655.24,0,"-",null,null,null,"Установки для сварки ручной дуговой (постоянного тока)",40502,10.74,0,"-"]
[null,null,null,null,"Т-170 МК-21",235,655.24,0,"-",null,null,null,"Установки компрессорные передвижные давлением 9800 кПа (100 ат) 16 м3/мин",153000,780.47,0,"-"]
[null,null,null,null,"Т-170 ПАРС-2",236,655.24,0,"-",null,null,null,"Установки направленного бурения для бестраншейной прокладки \"Навигатор\"",380601,2044.68,0,"-"]
[null,null,null,null,"Т-180 Б-10М НОВЫЙ",237,655.24,0,"-",null,null,null,"Установки направленного бурения для бестраншейной прокладки типа \"Навигатор\" с тяговым усилием 120 кН",380602,4765.4799999999996,0,"-"]
[null,null,null,null,"Татра-815 АД-20",238,758.41,24.91,"-",null,null,null,"Установки направленного бурения для бестраншейной прокладки типа \"Навигатор\" с тяговым усилием 200 кН",380603,10027.27,0,"-"]
[null,null,null,null,"Татра-815 с ТСП-9417 27,5т",239,431.08,32.75,"-",null,null,null,"Установки шнекового бурения для устройства скважин под сваи глубиной до 20 м, диаметром до 800, 1000, 1300 мм",140603,843.97,0,"-"]
[null,null,null,null,"Татра-815 с ЧМЗАП-93853",240,431.08,32.75,"-",null,null,null,"Установки шнекового бурения для устройства скважин под сваи глубиной до 30 м, диаметром до 1000-1100 мм",140605,1794.64,0,"-"]
[null,null,null,null,"Татра-815 УДС-114",241,711.68,27.9,"-",null,null,null,"Установки шнекового бурения для устройства скважин под сваи глубиной до 30 м, диаметром до 600 мм",140604,557.09,0,"-"]
[null,null,null,null,"Татра-815-2 ДАС-01",242,426.17,25.44,"-",null,null,null,"Экскаваторы одноковшовые дизельные на гусеничном ходу при работе на гидроэнергетическом строительстве 0,4 м3",60201,222.69,0,"-"]
[null,null,null,null,"Татра-Т-815-21-АS-01",243,426.17,27.1,"-",null,null,null,"Экскаваторы одноковшовые дизельные на гусеничном ходу при работе на гидроэнергетическом строительстве 0,5 м3",60202,247.78,0,"-"]
[null,null,null,null,"Татра-Т-815-250S01 с/с",244,426.17,27.1,"-",null,null,null,"Экскаваторы одноковшовые дизельные на гусеничном ходу при работе на гидроэнергетическом строительстве 0,65 м3",60203,269.25,0,"-"]
[null,null,null,null,"ТО-18 Б.3 погрузчик",245,607.89,0,"-",null,null,null,"Экскаваторы одноковшовые дизельные на гусеничном ходу при работе на гидроэнергетическом строительстве 1 м3",60204,444.84,0,"-"]
[null,null,null,null,"ТОЙОТА ЛЕНД КРУЗЕР VX",246,307.05,13.74,"-",null,null,null,"Экскаваторы одноковшовые дизельные на гусеничном ходу при работе на гидроэнергетическом строительстве 1,25 м3",60205,487.84,0,"-"]
[null,null,null,null,"ТР 12.19-01 трубоукладчик",247,634.41,0,"-",null,null,null,"Экскаваторы одноковшовые дизельные на гусеничном ходу при работе на гидроэнергетическом строительстве 1,6 м3",60206,513.71,0,"-"]
[null,null,null,null,"ТС-1 снегоболотох.",248,509.89,639.17999999999995,"-",null,null,null,"Экскаваторы одноковшовые дизельные на гусеничном ходу при работе на других видах строительства (кроме водохозяйственного) 0,4 м3",60246,272.95,0,"-"]
[null,null,null,null,"ТТМ-3902 С-01",249,430.28,554.15,"-",null,null,null,"Экскаваторы одноковшовые дизельные на гусеничном ходу при работе на других видах строительства (кроме водохозяйственного) 0,5 м3",60247,285.70999999999998,0,"-"]
[null,null,null,null,"ТТМ-69021Э снегоболотоход",250,1382.03,984.35,"-",null,null,null,"Экскаваторы одноковшовые дизельные на гусеничном ходу при работе на других видах строительства (кроме водохозяйственного) 0,65 м3",60248,283.66000000000003,0,"-"]
[null,null,null,null,"УАЗ-2206 м/а",251,292.81,4.0599999999999996,"-",null,null,null,"Экскаваторы одноковшовые дизельные на гусеничном ходу при работе на других видах строительства (кроме водохозяйственного) 1 м3",60249,436.58,0,"-"]
[null,null,null,null,"УАЗ-3909  Фургон",252,236.61,7.46,"-",null,null,null,"Экскаваторы одноковшовые дизельные на гусеничном ходу при работе на других видах строительства (кроме водохозяйственного) 1,25 м3",60250,463.08,0,"-"]
[null,null,null,null,"УАЗ-3909 гр/пас.",253,236.61,7.46,"-",null,null,null,"Экскаваторы одноковшовые дизельные на гусеничном ходу при работе на других видах строительства (кроме водохозяйственного) 1,6 м3",60251,445.48,0,"-"]
[null,null,null,null,"УАЗ-390902, 39094, 390945 б замена",254,236.61,5.4,"-",null,null,null,"Экскаваторы одноковшовые дизельные на гусеничном ходу при работе на сооружении магистральных трубопроводов 0,25 м3",60216,227.43,0,"-"]
[null,null,null,null,"УАЗ-390944 б",255,236.61,5.4,"-",null,null,null,"Экскаваторы одноковшовые дизельные на гусеничном ходу при работе на сооружении магистральных трубопроводов 0,5 м3",60217,255.56,0,"-"]
[null,null,null,null,"УАЗ-390994 фургон",256,236.61,7.46,"-",null,null,null,"Экскаваторы одноковшовые дизельные на гусеничном ходу при работе на сооружении магистральных трубопроводов 0,65 м3",60218,288.42,0,"-"]
[null,null,null,null,"Урал 4320 КС 45717-1 гар.2287, 4065",257,902.24,20.6,"-",null,null,null,"Экскаваторы одноковшовые дизельные на гусеничном ходу при работе на сооружении магистральных трубопроводов 1 м3",60219,501.83,0,"-"]
[null,null,null,null,"УРАЛ НЕФАЗ-42112",258,363.27,11.77,"-",null,null,null,"Экскаваторы одноковшовые дизельные на гусеничном ходу при работе на сооружении магистральных трубопроводов 1,25 м3",60220,560.70000000000005,0,"-"]
[null,null,null,null,"УРАЛ-3255 НЕФАЗ",259,363.27,11.83,"-",null,null,null,"Экскаваторы одноковшовые на гусеничном ходу 0,65 м3",160801,337.94,0,"-"]
[null,null,null,null,"Урал-3255 НЗАС",260,363.27,11.83,"-",null,null,null,"Электростанции передвижные 100 кВт",40105,233.63,0,"-"]
[null,null,null,null,"Урал-3255-0012,41 техпомощь",261,489.53,15.17,"-",null,null,null,"Электростанции передвижные 100 кВт",152702,201.45,0,"-"]
[null,null,null,null,"УРАЛ-32551-0010 гар.7168,7366",262,406.41,15.92,"-",null,null,null,"Электростанции передвижные 1050 кВт (в вагоне)",40108,1049.6400000000001,0,"-"]
[null,null,null,null,"УРАЛ-375 Д-009 АЦ-5,5",263,344.67,27.22,"-",null,null,null,"Электростанции передвижные 2 кВт",40101,149.83000000000001,0,"-"]
[null,null,null,null,"УРАЛ-375 Д-009 б  замена",264,273.35000000000002,19.940000000000001,"-",null,null,null,"Электростанции передвижные 200 кВт",40106,498.5,0,"-"]
[null,null,null,null,"УРАЛ-375 Д-009 техпомощь",265,358.53,24.04,"-",null,null,null,"Электростанции передвижные 200 кВт",152703,410.78,0,"-"]
[null,null,null,null,"УРАЛ-42112 НЗАС",266,363.27,11.77,"-",null,null,null,"Электростанции передвижные 30 кВт",40103,192.49,0,"-"]
[null,null,null,null,"УРАЛ-4320 HIAB-300 АТ-8",267,532.32000000000005,14.31,"-",null,null,null,"Электростанции передвижные 4 кВт",40102,152.41,0,"-"]
[null,null,null,null,"УРАЛ-4320 RIKO М3",268,431.3,14.31,"-",null,null,null,"Электростанции передвижные 500 кВт",40107,1322.78,0,"-"]
[null,null,null,null,"УРАЛ-4320 АКНС-10",269,497.3,18.3,"-",null,null,null,"Электростанции передвижные 500 кВт",152704,550.77,0,"-"]
[null,null,null,null,"УРАЛ-4320 АКНСМ-10",270,492.65,18.3,"-",null,null,null,"Электростанции передвижные 60 кВт",40104,200.97,0,"-"]
[null,null,null,null,"УРАЛ-4320 АНЦ-320",271,449.05,16.86,"-",null,null,null,"Электростанции передвижные 60 кВт",152701,164.35,0,"-"]
[null,null,null,null,"УРАЛ-4320 АНЦ-320У",272,449.05,16.86,"-",null,null,null,"Ямокопатели",91500,36.83,0,"-"]
[null,null,null,null,"УРАЛ-4320 АРОК",273,505.85,14.63,"-"]
[null,null,null,null,"УРАЛ-4320 АТЗ-10 замена",274,537.94000000000005,18.29,"-"]
[null,null,null,null,"УРАЛ-4320 АЦ-32",275,449.05,16.86,"-"]
[null,null,null,null,"УРАЛ-4320 АЦН-10С НОВЫЙ",276,495.52,18.3,"-"]
[null,null,null,null,"УРАЛ-4320 б",277,304.77,14.31,"-"]
[null,null,null,null,"УРАЛ-4320 КС-35714 замена",278,675.25,19.05,"-"]
[null,null,null,null,"УРАЛ-4320 КС-45717-1",279,824.31,21.57,"-"]
[null,null,null,null,"Урал-4320 кс-45721",280,717.3,22.24,"-"]
[null,null,null,null,"Урал-4320 КС-55722 замена",281,717.3,22.24,"-"]
[null,null,null,null,"УРАЛ-4320 НЗАС",282,363.27,11.77,"-"]
[null,null,null,null,"Урал-4320 НЗАС-4951",283,363.27,11.77,"-"]
[null,null,null,null,"УРАЛ-4320 ПАРМ ЛВ-8Б-01 замена",284,382.56,14.63,"-"]
[null,null,null,null,"Урал-4320 ПВ-95",285,379.18,18.059999999999999,"-"]
[null,null,null,null,"УРАЛ-4320 ППУ А 1600/100",286,458.83,19.28,"-"]
[null,null,null,null,"УРАЛ-4320 ПРМ",287,382.56,14.63,"-"]
[null,null,null,null,"УРАЛ-4320 с ОДАЗ-9370",288,359.71,19.14,"-"]
[null,null,null,null,"УРАЛ-4320 с/т 26,6 тн замена",289,431.08,32.14,"-"]
[null,null,null,null,"УРАЛ-4320 СИН 32.02.0",290,440.21,16.86,"-"]
[null,null,null,null,"УРАЛ-4320 Т/В",291,379.18,18.059999999999999,"-"]
[null,null,null,null,"УРАЛ-4320 техпомощь",292,382.56,14.63,"-"]
[null,null,null,null,"УРАЛ-4320 УНБ-125/32У",293,449.05,16.86,"-"]
[null,null,null,null,"УРАЛ-4320 Фискарс с/т с ПБ-0807",294,532.32000000000005,14.31,"-"]
[null,null,null,null,"УРАЛ-4320 ЦА-320",295,449.05,16.86,"-"]
[null,null,null,null,"УРАЛ-4320, -4420, -44202 с ЧМЗАП-9906, УАТ-99402",296,363.27,22.94,"-"]
[null,null,null,null,"УРАЛ-4320-0111-41 б",297,273.35000000000002,14.31,"-"]
[null,null,null,null,"УРАЛ-43201 ЛВБ-01 тех/пом.",298,382.56,14.63,"-"]
[null,null,null,null,"УРАЛ-4320-10 АЦПТ-4,7",299,313.39999999999998,15.89,"-"]
[null,null,null,null,"Урал-4320-1912-30 АЦН-10С НОВЫЙ",300,495.52,18.3,"-"]
[null,null,null,null,"УРАЛ-4320-1912-30 СИН-320",301,440.21,16.86,"-"]
[null,null,null,null,"УРАЛ-4320-1951-40 АРОК",302,505.85,14.63,"-"]
[null,null,null,null,"Урал-4320-1951-40 АЦПТ-10Н замена",303,487.4,18.3,"-"]
[null,null,null,null,"УРАЛ-4320-1951-40 ИК 2403",304,516.38,23.31,"-"]
[null,null,null,null,"Урал-4320-1951-40 ИФ-300С",305,701.12,14.41,"-"]
[null,null,null,null,"Урал-4320-1951-40 ИФ-300С гар.2286,2288",306,701.12,14.41,"-"]
[null,null,null,null,"УРАЛ-4320-1968-40 КС-45721",307,717.3,22.24,"-"]
[null,null,null,null,"УРАЛ-43202 АЦ-7",308,404.3,15.89,"-"]
[null,null,null,null,"УРАЛ-43202 б",309,609.55999999999995,28.62,"-"]
[null,null,null,null,"УРАЛ-4320-30 АНЦ-320",310,449.05,16.86,"-"]
[null,null,null,null,"УРАЛ-4320-30 АТ-6194 замена",311,389.89,18.14,"-"]
[null,null,null,null,"УРАЛ-4320-30 ИФ-300 АТ-8",312,532.32000000000005,14.31,"-"]
[null,null,null,null,"Урал-4320-30 УНБ 125/32У",313,449.05,16.86,"-"]
[null,null,null,null,"УРАЛ-43203-10 АДПМ-12/150",314,426.83,15.58,"-"]
[null,null,null,null,"УРАЛ-43203-10 ЛВ-197 замена",315,380.41,16.61,"-"]
[null,null,null,null,"УРАЛ-43204 ПВ-95",316,387.12,18.63,"-"]
[null,null,null,null,"УРАЛ-4320-40 АКНС-10",317,497.3,18.3,"-"]
[null,null,null,null,"УРАЛ-43204-31 ПВ-95 М",318,387.12,18.63,"-"]
[null,null,null,null,"УРАЛ-43204-5960 Т/ПЛ",319,387.12,18.63,"-"]
[null,null,null,null,"УРАЛ-43206  новый",320,273.35000000000002,14.31,"-"]
[null,null,null,null,"Урал-43206 АКНС-10  новый",321,497.3,18.3,"-"]
[null,null,null,null,"УРАЛ-43206 сварка замена",322,287.7,14.32,"-"]
[null,null,null,null,"УРАЛ-43206 УМП-400",323,910.03,12.38,"-"]
[null,null,null,null,"УРАЛ-4420 ЛИВ-120 с/т с ОДАЗ-9370",324,500.15,14.31,"-"]
[null,null,null,null,"УРАЛ-44202 б",325,273.35000000000002,14.31,"-"]
[null,null,null,null,"УРАЛ-44202 с ОДАЗ-9370",326,359.71,19.14,"-"]
[null,null,null,null,"УРАЛ-44202 с ОДАЗ-9385",327,387.77,20.100000000000001,"-"]
[null,null,null,null,"УРАЛ-44202 с ПП-9370",328,359.71,19.14,"-"]
[null,null,null,null,"УРАЛ-44202 с ППК-11 замена 11 т",329,359.71,18.309999999999999,"-"]
[null,null,null,null,"УРАЛ-44202 с ППЦ-15",330,358.92,21.72,"-"]
[null,null,null,null,"УРАЛ-44202 с ТСП 9417-10",331,388.21,22.94,"-"]
[null,null,null,null,"УРАЛ-44202 с ХИАБ",332,532.32000000000005,14.31,"-"]
[null,null,null,null,"УРАЛ-44202 с ЧМЗАП-93853",333,431.08,32.14,"-"]
[null,null,null,null,"УРАЛ-44202 с ЧМЗАП-9906, УАТ-99402 18,5 тн",334,363.27,22.94,"-"]
[null,null,null,null,"УРАЛ-44202 С/Т 20,5 т замена",335,359.71,27.84,"-"]
[null,null,null,null,"УРАЛ-44202 ЧМЗАП-93853 26 т",336,431.08,32.14,"-"]
[null,null,null,null,"Урал-44202-0311-41 с НефАЗ-9334 с/т",337,359.71,19.14,"-"]
[null,null,null,null,"УРАЛ-44202-31 АПШ-65 замена",338,477.85,19.010000000000002,"-"]
[null,null,null,null,"УРАЛ-44202-31 ППЦ-15",339,406.76,24.87,"-"]
[null,null,null,null,"Урал-44202-31 ЧМЗАП-9906",340,363.27,22.94,"-"]
[null,null,null,null,"Урал-44202-40 Palfinger п/пр НЕФАЗ-9334",341,532.9,23.13,"-"]
[null,null,null,null,"Урал-44204 с/т с ЧМЗАП-83853 замена",342,431.08,32.14,"-"]
[null,null,null,null,"УРАЛ-444405 т/пл замена",343,395.05,18.649999999999999,"-"]
[null,null,null,null,"УРАЛ-542362 с САВ-931822 41 т",344,421.32,25.47,"-"]
[null,null,null,null,"Урал-5451 с НефАЗ-9334-10 с/т 16,4т",345,359.71,19.14,"-"]
[null,null,null,null,"УРАЛ-5557 АДПМ-12/150",346,426.83,15.58,"-"]
[null,null,null,null,"УРАЛ-5557 АНРВ-1УС новый",347,432.01,18.579999999999998,"-"]
[null,null,null,null,"УРАЛ-5557 АТЗ-7,5 топ./запр.",348,434,16.079999999999998,"-"]
[null,null,null,null,"Урал-5557 АТМЗ-7,5",349,434,16.079999999999998,"-"]
[null,null,null,null,"УРАЛ-5557 АЦ -7",350,387.66,16.510000000000002,"-"]
[null,null,null,null,"УРАЛ-5557 АЦ-8",351,387.66,16.510000000000002,"-"]
[null,null,null,null,"УРАЛ-5557 КС-35714",352,675.25,19.05,"-"]
[null,null,null,null,"УРАЛ-5557 КС-3574",353,675.25,18.73,"-"]
[null,null,null,null,"УРАЛ-5557 лаб.57351В",354,381.2,17.95,"-"]
[null,null,null,null,"УРАЛ-5557 ПАРМ ЛВ-8 Б-01",355,381.2,17.95,"-"]
[null,null,null,null,"УРАЛ-5557 ППУ-1600/100",356,458.83,16.420000000000002,"-"]
[null,null,null,null,"УРАЛ-5557-10  УНПМ",357,449.05,16.45,"-"]
[null,null,null,null,"УРАЛ-5557-10 АНРВ",358,416.48,17.13,"-"]
[null,null,null,null,"УРАЛ-5557-10 АЦ-8",359,387.66,16.510000000000002,"-"]
[null,null,null,null,"УРАЛ-5557-10 КС-35714",360,675.25,19.05,"-"]
[null,null,null,null,"Урал-55571-1121-30  с/с  новый",361,346.92,14.66,"-"]
[null,null,null,null,"УРАЛ-5557-130 с/с лизинг",362,346.92,14.66,"-"]
[null,null,null,null,"УРАЛ-55571-40  новый",363,346.92,14.66,"-"]
[null,null,null,null,"УРАЛ-5557-40 КС-35719 гар.4298",364,722.99,20.61,"-"]
[null,null,null,null,"Урал-5557-596002 т/пл",365,395.05,19.63,"-"]
[null,null,null,null,"УРАЛ-5960 Т/ПЛ",366,387.12,18.63,"-"]
[null,null,null,null,"УРАЛ-69701 УНБ-132/25 замена",367,446.91,16.86,"-"]
[null,null,null,null,"Урал-Ивеко-330.30 с ТСП-94182 28т",368,543.66999999999996,29.69,"-"]
[null,null,null,null,"Урал-Ивеко-330.30 с ЮКИ 28т",369,387.77,22.16,"-"]
[null,null,null,null,"Урал-Ивеко-330.30 с/т с ЧМЗАП-99865",370,451.57,37.39,"-"]
[null,null,null,null,"УРАЛ-Ивеко-63391 с ТСП-9416",371,453.82,40.01,"-"]
[null,null,null,null,"ФОРД-800",372,905.98,28.22,"-"]
[null,null,null,null,"ФОРМОСТ ХАСКИ-4",373,3064.81,0,"-"]
[null,null,null,null,"ХАСКИ-8 Болотоход",374,1302.96,0,"-"]
[null,null,null,null,"ХАСКИ-8Д ЭО-3322",375,1340.82,0,"-"]
[null,null,null,null,"ЭО МТЗ-82",376,415.74,0,"-"]
[null,null,null,null,"ЭО-2621 ЭКСКАВАТОР",377,415.74,0,"-"]
[null,null,null,null,"ЭО-3322",378,609.4,0,"-"]

{"sheet":"вахтовая надбавка","index":21,"n_rows":45,"n_cols":6,"rows_kept":45,"cut":false,"hidden":false,"merged":[[31,1,31,4],[2,1,2,4],[3,1,3,4],[7,1,7,4],[9,1,10,1],[9,2,10,2],[9,3,10,3]]}
[25,50,275,125,125]
["19FE1FB4-CB97-4F03-8416-E94F392A4DB0",null,null,null,{"$f":"'Ежеднев. возка и перевозка вахт'!N6","v":"2000350438 (680-20-КС(ТЗ))"}]
["3EA88FC0-1291-4E86-B96F-F502A2C6EA3D","Выплаты, связанные с вахтовым методом выполнения работ"]
[null,"Строительство объектов энергетики Правдинского региона"]
[]
[null,null,"Заказчик    ООО \"РН-Юганскнефтегаз\""]
[]
[null,"Исходные данные"]
[]
[null,"№ п/п","Наименование показателя/статьи затрат (обозначение)","Ед. изм","Основные данные с \nПОС, ТЗ\nВЛ 6 кВ на куст 3129.1 (габ.110 кВ) ","Основные данные с \nПОС, ТЗ\nВЛ 6 кВ на куст 3129.2 (габ.6 кВ) "]
[null,null,null,null,"Значение","Значение"]
[null,1,2,3,4,4]
[null,1,"Данные ПОС"]
[null,"1.1.","Продолжительность строительства, (Тдн)","календ. дни",43,41]
[null,"1.2.","Общее количество дней нахождения работников в пути в обе стороны, (Тдн.п.)","календ. дни",2,2]
[null,"1.3.","Среднесписочная численность вахтовых работников, единовременно находящихся на вахте, за исключением персонала, обслуживающих вахтовый поселок (Счел)","чел.",7,4]
[null,"1.4.","Продолжительность вахты (Вдн) (вахта 15 дней х 15 дней)","календ. дни",15,15]
[null,"1.5.","Продолжнительность рабочей смены на вахте (Вр.с.)","час",11,11]
[null,"1.6.","Продолжнительность рабочей недели на вахте (Вр.н.)","раб.дни",6,6]
[null,"1.7.","Количество вахтовых потоков (Nв.п.)","поток",2,2]
[null,2,"Производственный календарь"]
[null,"2.1.","Нормальная продолжительность рабочего дня (Вн.р.д.)","раб.час",8,8]
[null,"2.2.","Нормальная продолжительность рабочего времени в году, количество рабочих часов (Вн.год)","раб.час",{"$f":"1972/12*(Param1_1/(365/12))","v":232.31780821917809},{"$f":"1972/12*(Param1_1/(365/12))","v":232.31780821917809}]
[null,3,"Налоговый кодекс РФ"]
[null,"3.1.","Обязательные отчисления страховых взносов (Ос.в.)","%"]
[null,4,"Исходные данные Заказчика для составления сметной документации"]
[null,"4.1.","Размер суточных в период нахождения работников в пути, (Цсут)","руб/сутки"]
[null,"4.2.","Учетный период","год",1,1]
[null,"4.3.","Индекс перевода в текущие цены на прочие работы и затраты",null,{"$f":"НМЦ!K234","v":0},{"$f":"НМЦ!K234","v":0}]
[null,"4.4.","Размер средней дневной тарифной ставки вахтовых работников исходя из 8-часовой продолжительности рабочего дня (ТСср.дн.)","руб/день"]
[]
[null,"Расчет затрат"]
[]
[null,"№ п/п","Наименование показателя/статьи затрат (обозначение)","Ед. изм","Значение","Значение"]
[null,1,2,3,4,4]
[null,1,"Продолжительность вахты с учетом времени отдыха, приходящегося на данный период (Внед)","неделя",{"$f":"ROUND(E17/7,2)","v":2.14},{"$f":"ROUND(F17/7,2)","v":2.14}]
[null,2,"Количество вахтовых циклов (ВЦ)","вахтовый цикл",{"$f":"12*(Param1_1/12)/E17","v":2.8666666666666667},{"$f":"12*(Param1_1/12)/F17","v":2.8666666666666667}]
[null,3,"Надбавка за вахтовый метод работы (Нвм)","руб.",{"$f":"ROUND(E27*E16*(E14+E15*E37),0)","v":0},{"$f":"ROUND(F27*F16*(F14+F15*F37),0)","v":0}]
[null,4,"Затраты на выплаты за каждый день нахождения в пути от пункта сбора до места выполнения работ и обратно (Звп)","руб.",{"$f":"ROUND(E30*E16*E37*E15,0)","v":0},{"$f":"ROUND(F30*F16*F37*F15,0)","v":0}]
[null,5,"Затраты на оплату дней междувахтового отдыха (Змо)","руб.",{"$f":"IF(E16*E30*((E19*E18*E36*E37-E23*E20)/E22)>0, E16*E30*((E19*E18*E36*E37-E23*E20)/E22), 0)","v":0},{"$f":"IF(F16*F30*((F19*F18*F36*F37-F23*F20)/F22)>0, F16*F30*((F19*F18*F36*F37-F23*F20)/F22), 0)","v":0}]
[null,6,"Затраты на оплату дней междувахтового отдыха с учетом обязательных отчислений страховых взносов (Змо.с.в.)","руб.",{"$f":"E40+E40*E25","v":0},{"$f":"F40+F40*F25","v":0}]
[null,7,"Всего по расчету в ценах на 01.01.2000","руб.",{"$f":"(E38+E39+E41)/E29","v":{"$error":"#DIV/0!"}},{"$f":"(F38+F39+F41)/F29","v":{"$error":"#DIV/0!"}}]
[null,8,"Всего по расчету в текущем уровне цен","руб.",{"$f":"E42*E29","v":{"$error":"#DIV/0!"}},{"$f":"F42*F29","v":{"$error":"#DIV/0!"}}]
[]
[null,null,"Затраты компенсируются по фактическим затратам на основании подтверждающих документов."]

{"sheet":"Перебазировка","index":22,"n_rows":63,"n_cols":19,"rows_kept":63,"cut":false,"hidden":false,"merged":[[61,1,61,13],[55,1,55,16],[56,1,56,16],[57,1,57,16],[58,1,58,16],[59,1,59,16],[50,1,50,16],[52,1,52,16],[54,1,54,5],[54,7,54,17],[60,1,60,16],[39,1,39,5],[39,7,39,17],[40,1,40,16],[43,1,43,16],[44,1,44,16],[33,1,33,16],[34,1,34,16],[35,1,35,16],[36,1,36,13],[38,1,38,17],[29,1,29,5],[29,7,29,17],[30,1,30,16],[31,1,31,16],[32,1,32,16],[4,1,4,17],[9,13,10,13],[9,11,10,11],[25,1,25,16],[27,1,27,16],[15,1,15,16],[18,1,18,16],[19,1,19,16],[3,1,3,17],[9,17,10,17],[9,8,9,9],[9,10,10,10],[9,1,10,1],[9,2,10,2],[9,16,10,16],[9,3,10,3],[9,4,10,4],[9,5,10,5],[9,14,10,14],[9,15,10,15],[9,12,10,12],[9,6,10,6],[9,7,10,7],[13,1,13,17],[14,1,14,5],[14,7,14,17]]}
[]
[null,null,null,null,null,null,null,null,null,null,null,null,null,null,null,null,null,null,25]
["95B8996E-A92E-40F2-8A9B-251AB1F004D4"]
[null,"Перебазировка"]
[null,{"$f":"'Исходные данные'!D19","v":"Строительство объектов энергетики Правдинского региона"}]
[null,null,"Шифр проекта","1980615/0880Д",null,null,null,null,null,null,null,null,null,null,null,null,null,"2000350438 (680-20-КС(ТЗ))"]
[null,null,"Разработчик проекта","ООО «РН-УфаНИПИнефть»"]
[null,null,"Заказчик","ООО \"РН-Юганскнефтегаз\""]
[]
[null,"№ п/п","Наименование показателя","Шифр норматива","Грузоподъемность, т","Количество техники","Расстояние перебазировки до объекта, км","Количество рейсов для завоза техники на объект","Средняя скорость движения автомобиля , км/ч",null,"Тариф за\n1 м-часа,\nруб.","Тариф за\n1 км пробега,\nруб.","Время затраченное на 1 рейс, ч","Время затраченное на все  рейсы, ч","Суммарный пробег, км","Стоимость\nм-часов, руб.","Стоимость\nкм., руб.","Итого, руб."]
[null,null,null,null,null,null,null,null," при порожнем пробеге (для сед. тягача)","при движении с грузом (для сед. тягача)"]
[null,1,2,3,4,5,6,7,8,9,10,11,12,13,14,15,16,17]
["object_code","C10","C11","C12","C13","C14","C15","C16","C17","C18","C19","C20","C21","C22","C23","C24","C25","C26"]
["5D57A968-2E2D-47A8-B7F4-6C635AF194C3","ВЛ 6 кВ на куст 3129.1 (габ.110 кВ) Приразломное м/р. Правдинский (КС00091309)","ВЛ 6 кВ на куст 3129.1 (габ.110 кВ) Приразломное м/р. Правдинский (КС00091309)","ВЛ 6 кВ на куст 3129.1 (габ.110 кВ) Приразломное м/р. Правдинский (КС00091309)","ВЛ 6 кВ на куст 3129.1 (габ.110 кВ) Приразломное м/р. Правдинский (КС00091309)","ВЛ 6 кВ на куст 3129.1 (габ.110 кВ) Приразломное м/р. Правдинский (КС00091309)","ВЛ 6 кВ на куст 3129.1 (габ.110 кВ) Приразломное м/р. Правдинский (КС00091309)","ВЛ 6 кВ на куст 3129.1 (габ.110 кВ) Приразломное м/р. Правдинский (КС00091309)","ВЛ 6 кВ на куст 3129.1 (габ.110 кВ) Приразломное м/р. Правдинский (КС00091309)","ВЛ 6 кВ на куст 3129.1 (габ.110 кВ) Приразломное м/р. Правдинский (КС00091309)","ВЛ 6 кВ на куст 3129.1 (габ.110 кВ) Приразломное м/р. Правдинский (КС00091309)","ВЛ 6 кВ на куст 3129.1 (габ.110 кВ) Приразломное м/р. Правдинский (КС00091309)","ВЛ 6 кВ на куст 3129.1 (габ.110 кВ) Приразломное м/р. Правдинский (КС00091309)","ВЛ 6 кВ на куст 3129.1 (габ.110 кВ) Приразломное м/р. Правдинский (КС00091309)","ВЛ 6 кВ на куст 3129.1 (габ.110 кВ) Приразломное м/р. Правдинский (КС00091309)","ВЛ 6 кВ на куст 3129.1 (габ.110 кВ) Приразломное м/р. Правдинский (КС00091309)","ВЛ 6 кВ на куст 3129.1 (габ.110 кВ) Приразломное м/р. Правдинский (КС00091309)","ВЛ 6 кВ на куст 3129.1 (габ.110 кВ) Приразломное м/р. Правдинский (КС00091309)"]
["d","Расстояние перебазировки до объекта",null,null,null,null,221]
["q","1. Эксплуатация седельного тягача",null,null,null,null,null,null,null,null,null,null,null,null,null,null,null,{"$f":"ROUND(SUM(R17:R18),2)","v":0}]
[null,1,"КЗКТ-7428-0011 ЧМЗАП -9990 72 тн",154,"-",1,{"$f":"G15","v":221},3,60,38,null,null,{"$f":"G17/I17+G17/J17","v":9.4991228070175442},{"$f":"M17*H17","v":28.497368421052634},{"$f":"G17*H17*2","v":1326},{"$f":"ROUND(N17*K17,2)","v":0},{"$f":"ROUND(O17*L17,2)","v":0},{"$f":"ROUND(P17+Q17,2)","v":0}]
[null,2,"УРАЛ-44202 с ЧМЗАП-9906, УАТ-99402 18,5 тн",334,"-",1,{"$f":"G15","v":221},1,60,38,null,null,{"$f":"G18/I18+G18/J18","v":9.4991228070175442},{"$f":"M18*H18","v":9.4991228070175442},{"$f":"G18*H18*2","v":442},{"$f":"ROUND(N18*K18,2)","v":0},{"$f":"ROUND(O18*L18,2)","v":0},{"$f":"ROUND(P18+Q18,2)","v":0}]
["i","1.1.  Эксплуатация седельного тягача (под погрузкой/разгрузкой) "]
["w","2. Строительная техника при перебазировке на трале (седельном тягаче)",null,null,null,null,null,null,null,null,null,null,null,null,null,null,null,{"$f":"ROUND(SUM(R21:R25),2)","v":0}]
[null,1,"Копры гусеничные для свай длиной до 12 м",140201,"-",1,{"$f":"G15","v":221},{"$f":"F21","v":1},0,38,null,null,{"$f":"G21/J21","v":5.8157894736842106},{"$f":"M21*H21","v":5.8157894736842106},{"$f":"G21*H21","v":221},{"$f":"ROUND(N21*K21,2)","v":0},0,{"$f":"ROUND(P21+Q21,2)","v":0}]
[null,2,"Дизель-молоты 3,5 т",140505,"-",1,{"$f":"G15","v":221},{"$f":"F22","v":1},0,38,null,null,5.8157894736842106,5.8157894736842106,221,0,0,0]
[null,3,"Бульдозеры при работе на других видах строительства (кроме водохозяйственного) 96 (130) кВт (л.с.)",70150,"-",2,{"$f":"G15","v":221},1,0,38,null,null,5.8157894736842106,5.8157894736842106,221,0,0,0]
[null,4,"Экскаваторы одноковшовые дизельные на гусеничном ходу при работе на других видах строительства (кроме водохозяйственного) 0,4 м3",60246,"-",1,{"$f":"G15","v":221},{"$f":"F24","v":1},0,38,null,null,5.8157894736842106,5.8157894736842106,221,0,0,0]
[null,5,"Агрегаты сварочные передвижные с номинальным сварочным током 250-400 А с дизельным двигателем",40202,"-",2,{"$f":"G15","v":221},1,0,38,null,null,5.8157894736842106,5.8157894736842106,221,0,0,0]
["e","3. Перебазировка техники своим ходом",null,null,null,null,null,null,null,null,null,null,null,null,null,null,null,{"$f":"ROUND(SUM(R27:R27),2)","v":0}]
[null,1,"КАМАЗ-55111",138,"-",1,{"$f":"G15","v":221},1,0,49,null,null,{"$f":"G27/J27","v":4.5102040816326534},{"$f":"M27*H27","v":4.5102040816326534},{"$f":"G27*H27","v":221},{"$f":"ROUND(N27*K27,2)","v":0},0,{"$f":"ROUND(P27+Q27,2)","v":0}]
["r","4. Сопровождение груза до объекта",null,null,null,null,null,null,null,null,null,null,null,null,null,null,null,{"$f":"ROUND(SUM(R29:R29),2)","v":0}]
[null,1,"ВАЗ-21310",14,"-",1,{"$f":"G15","v":221},3,60,38,null,null,{"$f":"G29/I29+G29/J29","v":9.4991228070175442},{"$f":"M29*H29","v":28.497368421052634},{"$f":"G29*H29*2","v":1326},{"$f":"ROUND(N29*K29,2)","v":0},{"$f":"ROUND(O29*L29,2)","v":0},{"$f":"ROUND(P29+Q29,2)","v":0}]
["d","Расстояние перебазировки до объекта на обвязку",null,null,null,null,0]
["q","1. Эксплуатация седельного тягача"]
["i","1.1.  Эксплуатация седельного тягача (под погрузкой/разгрузкой) "]
["w","2. Строительная техника при перебазировке на трале (седельном тягаче)"]
["ee","3. Перебазировка техники своим ходом"]
["r","4. Сопровождение груза до объекта"]
["t","ИТОГО перебазировка техники на объект",null,null,null,null,null,null,null,null,null,null,null,null,null,null,null,{"$f":"R16+R19+R20+R26+R28+R31+R32+R33+R34+R35","v":0}]
["u","ВСЕГО с учетом удельного веса затрат на перебазировку, учтенный в индексе к ЭММ с учетом зимнего удорожания",null,null,null,null,null,null,null,null,null,null,null,null,{"$f":"НМЦ!$K$101","v":0},{"$f":"'Исходные данные'!$AL$25","v":8.09E-2},{"$f":"IF($G$15=0,0,((SUM(НМЦ!$AA18:$AA28)+SUM(НМЦ!$AA48:$AA78))*(1+$O$37)+(SUM(НМЦ!$AA108:$AA111)))*$P$37)*1000","v":0},{"$f":"R36-Q37","v":0}]
["y","ВСЕГО перебазировка техники на объект с учетом лимита",null,null,null,null,null,null,null,null,null,null,null,null,null,null,{"$f":"(НМЦ!V181+НМЦ!N181*НМЦ!K213)*0.2%*1000","v":0},{"$f":"ROUND(IF(R37<0,0,MIN(R37,Q38)),2)","v":0}]
["AEEAB128-A9D6-4DE1-ACE9-6CD791FCF82A","ВЛ 6 кВ на куст 3129.2 (габ. 6 кВ) Приразломное м/р. Правдинский (КС00091313)","ВЛ 6 кВ на куст 3129.2 (габ. 6 кВ) Приразломное м/р. Правдинский (КС00091313)","ВЛ 6 кВ на куст 3129.2 (габ. 6 кВ) Приразломное м/р. Правдинский (КС00091313)","ВЛ 6 кВ на куст 3129.2 (габ. 6 кВ) Приразломное м/р. Правдинский (КС00091313)","ВЛ 6 кВ на куст 3129.2 (габ. 6 кВ) Приразломное м/р. Правдинский (КС00091313)","ВЛ 6 кВ на куст 3129.2 (габ. 6 кВ) Приразломное м/р. Правдинский (КС00091313)","ВЛ 6 кВ на куст 3129.2 (габ. 6 кВ) Приразломное м/р. Правдинский (КС00091313)","ВЛ 6 кВ на куст 3129.2 (габ. 6 кВ) Приразломное м/р. Правдинский (КС00091313)","ВЛ 6 кВ на куст 3129.2 (габ. 6 кВ) Приразломное м/р. Правдинский (КС00091313)","ВЛ 6 кВ на куст 3129.2 (габ. 6 кВ) Приразломное м/р. Правдинский (КС00091313)","ВЛ 6 кВ на куст 3129.2 (габ. 6 кВ) Приразломное м/р. Правдинский (КС00091313)","ВЛ 6 кВ на куст 3129.2 (габ. 6 кВ) Приразломное м/р. Правдинский (КС00091313)","ВЛ 6 кВ на куст 3129.2 (габ. 6 кВ) Приразломное м/р. Правдинский (КС00091313)","ВЛ 6 кВ на куст 3129.2 (габ. 6 кВ) Приразломное м/р. Правдинский (КС00091313)","ВЛ 6 кВ на куст 3129.2 (габ. 6 кВ) Приразломное м/р. Правдинский (КС00091313)","ВЛ 6 кВ на куст 3129.2 (габ. 6 кВ) Приразломное м/р. Правдинский (КС00091313)","ВЛ 6 кВ на куст 3129.2 (габ. 6 кВ) Приразломное м/р. Правдинский (КС00091313)"]
["d","Расстояние перебазировки до объекта",null,null,null,null,221]
["q","1. Эксплуатация седельного тягача",null,null,null,null,null,null,null,null,null,null,null,null,null,null,null,{"$f":"ROUND(SUM(R42:R43),2)","v":0}]
[null,1,"КЗКТ-7428-0011 ЧМЗАП -9990 72 тн",154,"-",1,{"$f":"G40","v":221},1,60,38,null,null,{"$f":"G42/I42+G42/J42","v":9.4991228070175442},{"$f":"M42*H42","v":9.4991228070175442},{"$f":"G42*H42*2","v":442},{"$f":"ROUND(N42*K42,2)","v":0},{"$f":"ROUND(O42*L42,2)","v":0},{"$f":"ROUND(P42+Q42,2)","v":0}]
[null,2,"УРАЛ-44202 с ЧМЗАП-9906, УАТ-99402 18,5 тн",334,"-",1,{"$f":"G40","v":221},3,60,38,null,null,{"$f":"G43/I43+G43/J43","v":9.4991228070175442},{"$f":"M43*H43","v":28.497368421052634},{"$f":"G43*H43*2","v":1326},{"$f":"ROUND(N43*K43,2)","v":0},{"$f":"ROUND(O43*L43,2)","v":0},{"$f":"ROUND(P43+Q43,2)","v":0}]
["i","1.1.  Эксплуатация седельного тягача (под погрузкой/разгрузкой) "]
["w","2. Строительная техника при перебазировке на трале (седельном тягаче)",null,null,null,null,null,null,null,null,null,null,null,null,null,null,null,{"$f":"ROUND(SUM(R46:R50),2)","v":0}]
[null,1,"Копры гусеничные для свай длиной до 12 м",140201,"-",1,{"$f":"G40","v":221},{"$f":"F46","v":1},0,38,null,null,{"$f":"G46/J46","v":5.8157894736842106},{"$f":"M46*H46","v":5.8157894736842106},{"$f":"G46*H46","v":221},{"$f":"ROUND(N46*K46,2)","v":0},0,{"$f":"ROUND(P46+Q46,2)","v":0}]
[null,2,"Дизель-молоты 3,5 т",140505,"-",1,{"$f":"G40","v":221},{"$f":"F47","v":1},0,38,null,null,5.8157894736842106,5.8157894736842106,221,0,0,0]
[null,3,"Бульдозеры при работе на других видах строительства (кроме водохозяйственного) 96 (130) кВт (л.с.)",70150,"-",2,{"$f":"G40","v":221},1,0,38,null,null,5.8157894736842106,5.8157894736842106,221,0,0,0]
[null,4,"Экскаваторы одноковшовые дизельные на гусеничном ходу при работе на других видах строительства (кроме водохозяйственного) 0,4 м3",60246,"-",1,{"$f":"G40","v":221},{"$f":"F49","v":1},0,38,null,null,5.8157894736842106,5.8157894736842106,221,0,0,0]
[null,5,"Агрегаты сварочные передвижные с номинальным сварочным током 250-400 А с дизельным двигателем",40202,"-",2,{"$f":"G40","v":221},1,0,38,null,null,5.8157894736842106,5.8157894736842106,221,0,0,0]
["e","3. Перебазировка техники своим ходом",null,null,null,null,null,null,null,null,null,null,null,null,null,null,null,{"$f":"ROUND(SUM(R52:R52),2)","v":0}]
[null,1,"КАМАЗ-55111",138,"-",1,{"$f":"G40","v":221},{"$f":"F52","v":1},0,49,null,null,{"$f":"G52/J52","v":4.5102040816326534},{"$f":"M52*H52","v":4.5102040816326534},{"$f":"G52*H52","v":221},{"$f":"ROUND(N52*K52,2)","v":0},0,{"$f":"ROUND(P52+Q52,2)","v":0}]
["r","4. Сопровождение груза до объекта",null,null,null,null,null,null,null,null,null,null,null,null,null,null,null,{"$f":"ROUND(SUM(R54:R54),2)","v":0}]
[null,1,"ВАЗ-21310",14,"-",1,{"$f":"G40","v":221},3,60,38,null,null,{"$f":"G54/I54+G54/J54","v":9.4991228070175442},{"$f":"M54*H54","v":28.497368421052634},{"$f":"G54*H54*2","v":1326},{"$f":"ROUND(N54*K54,2)","v":0},{"$f":"ROUND(O54*L54,2)","v":0},{"$f":"ROUND(P54+Q54,2)","v":0}]
["d","Расстояние перебазировки до объекта на обвязку",null,null,null,null,0]
["q","1. Эксплуатация седельного тягача"]
["i","1.1.  Эксплуатация седельного тягача (под погрузкой/разгрузкой) "]
["w","2. Строительная техника при перебазировке на трале (седельном тягаче)"]
["ee","3. Перебазировка техники своим ходом"]
["r","4. Сопровождение груза до объекта"]
["t","ИТОГО перебазировка техники на объект",null,null,null,null,null,null,null,null,null,null,null,null,null,null,null,{"$f":"R41+R44+R45+R51+R53+R56+R57+R58+R59+R60","v":0}]
["u","ВСЕГО с учетом удельного веса затрат на перебазировку, учтенный в индексе к ЭММ с учетом зимнего удорожания",null,null,null,null,null,null,null,null,null,null,null,null,{"$f":"НМЦ!$K$102","v":0},{"$f":"'Исходные данные'!$AL$26","v":8.09E-2},{"$f":"IF($G$40=0,0,((SUM(НМЦ!$AA30:$AA37)+SUM(НМЦ!$AA80:$AA91))*(1+$O$62)+(0))*$P$62)*1000","v":0},{"$f":"R61-Q62","v":0}]
["y","ВСЕГО перебазировка техники на объект с учетом лимита",null,null,null,null,null,null,null,null,null,null,null,null,null,null,{"$f":"(НМЦ!V182+НМЦ!N182*НМЦ!K213)*0.21%*1000","v":0},{"$f":"ROUND(IF(R62<0,0,MIN(R62,Q63)),2)","v":0}]

{"sheet":"materialTemplate","index":23,"n_rows":33,"n_cols":59,"rows_kept":33,"cut":false,"hidden":true,"merged":[[1,5,2,5],[13,53,13,58],[10,58,11,58],[1,13,2,13],[10,53,11,53],[12,15,12,50],[13,15,13,50],[10,38,11,38],[10,16,11,16],[10,31,11,31],[10,29,11,29],[10,26,10,27],[10,20,10,23],[10,17,11,17],[10,18,10,19],[1,27,1,28],[1,14,2,14],[12,53,12,58],[5,7,5,9],[5,10,6,10],[10,25,11,25],[10,28,11,28],[10,30,11,30],[10,12,11,12],[10,13,11,13],[10,15,11,15],[10,56,10,57],[10,8,11,8],[10,41,11,41],[10,42,11,42],[5,18,6,18],[10,39,11,39],[10,55,11,55],[1,6,2,6],[1,7,2,7],[1,11,2,11],[1,12,2,12],[1,8,2,8],[1,9,2,9],[1,10,2,10],[8,1,8,9],[10,1,11,1],[10,4,11,4],[10,5,11,5],[10,6,11,6],[10,7,11,7],[5,12,6,12],[5,13,6,13],[32,12,32,13],[31,12,31,13],[29,12,29,13],[28,12,28,13],[26,12,26,13],[25,12,25,13],[10,52,11,52],[10,49,11,49],[10,2,11,2],[10,3,11,3],[12,1,12,7],[13,1,13,7],[10,9,11,9],[10,48,11,48],[10,10,11,10],[10,43,10,47],[10,11,11,11],[10,14,11,14],[10,40,11,40],[10,32,11,32],[10,33,10,37],[32,10,32,11],[25,10,25,11],[26,10,26,11],[31,10,31,11],[28,10,28,11],[29,10,29,11],[5,11,6,11],[10,54,11,54],[10,51,11,51],[10,24,11,24],[10,50,11,50],[5,19,6,19],[5,14,6,14],[5,15,6,15],[5,16,6,16],[5,17,6,17],[5,1,6,1],[5,2,6,2],[5,4,6,4],[5,5,5,6],[5,3,6,3]]}
[]
["95B8996E-A92E-40F2-8A9B-251AB1F004D4",null,{"$f":"'Исходные данные'!lotNumber","v":"2000350438 (680-20-КС(ТЗ))"},null,null,null,null,null,null,null,null,null,null,null,null,null,null,null,null,null,null,null,null,null,null,null,null,"Ценообразующие",null,null,null,null,null,null,null,null,null,null,null,null,null,null,null,null,null,null,null,null,null,null,"5.50"]
[null,null,"Реестр стоимости основных материалов и оборудования",null,null,null,null,null,null,null,null,null,null,null,null,null,null,null,null,null,null,null,null,null,null,null,null,"Минимум",0.8]
[null,null,{"$f":"'Исходные данные'!D19","v":"Строительство объектов энергетики Правдинского региона"},null,null,null,null,null,null,null,null,null,null,null,null,null,null,null,null,null,null,null,null,null,null,null,null,"Максимум",0.8]
[]
[null,"№ п/п","Тех. номер объекта","Наименование объекта","Индекс перехода","% Транс. расх. Авто",null,"% Загот. склад. расх.",null,null,"Сумма Заказчика","Сумма заказчика РВ","Сумма подрядчика","Сумма Подрядчика РВ","Сумма ЦО подрядчик","Доля ЦО в чистых МТР подрядчик","Сумма не ЦО подрядчик","Сумма чистые подрядчик","Сумма перенесенные МТР в ПП","Сумма ЦО в чистых МТР подрядчик"]
[null,null,null,null,null,"Рыночные (Ц)","ССЦ (В)","Материалы","Металоконстр.","Оборудование"]
[null,"C10","C11","C12","C13","C14","C15","C16","C17","C18","C19","C20","C21","C22","C23","C24","C25","C26","C27","C28"]
[null,"Итого:"]
[]
[null,"№ п/п","Тех. номер объекта","Наименование объекта","№ ЛСР","Шифр ресурсов | Код ФСНБ1","Наименование материалов | Наименование материала/оборудования","Ед. изм.","Количество","Цена за ед. | Сметная цена за ед.изм. в руб., \nбез НДС в базовом уровне цен","Сумма, руб.","Поставщик | Заказчик/Подрядчик","Цена за единицу заказчика, руб.","Сумма заказчика, руб.","Вид МТР | Материалы / Оборудование / Металлоконструкции","Примечание","Наименование МТР входящих в состав комплектной поставки2","Класс груза","Масса, тн",null,"Цена определена на основании (с указанием номера и даты обосновывающего документа) 3:",null,null,null,"Наименование поставщика и его месторасположение","Наименование изготовителя \nи его месторасположение","Расчет отпускной цены",null,"Отпускная цена за ед.изм. в руб., \nбез НДС в текущем уровне цен","Ценообразующие | Вспомогательные","Дата установления цены","Базис поставки \n(в соответствии с Инкотермс-2010)","Наименование ст. отправления","Транспортные расходы, \nна ед. изм., руб. без НДС",null,null,null,null,"Страхование,  \nна ед. изм., в руб., без НДС","Тара, упаковка, реквизит4, \nна ед. изм., в руб., без НДС","Снабженческо-сбытовая надбавка 5, \nна ед. изм., в руб., без НДС ","Таможенные расходы, \nна ед. изм., в руб., без НДС","Комиссионные и агентские вознаграждения, на ед. изм., в руб., без НДС","Дополнительные расходы \nсвязанные с поставкой оборудования",null,null,null,null,"Заготовительно-складские расходы, \nна ед. изм., в руб., без НДС8","%","ИТОГО , \nза ед. изм., в руб., без НДС \nв текущем уровне цен","ВСЕГО, \nв руб., без НДС","Справочно ВСЕГО по материалу, \nв руб., без НДС","Справочно ВСЕГО % по материалу ","№ страницы\n обосновывающего документа","Индикатор отношения текущей цены \nк уровню цен базового периода","Справочно: по данным \nРегионального ЦЦС9",null,"Примечание УЦП"]
[null,null,null,null,null,null,null,null,null,null,null,null,null,null,null,null,null,null,"масса за ед.изм (тн)","брутто","Аналог","Сметная цена на перевозку 1 тн груза в базисном уровне цен","Тендерная документация","Прайс-лист, коммерческое предложение, счет-фактура",null,null,"Индекс перехода стоимости  \nМТР в текущий уровень цен  ","Отпускная цена ",null,null,null,null,null,"ж/д","авто","%","авиа","Водный транспорт",null,null,null,null,null,"Комплектация оборудования, \n в руб.,  на ед. изм., без НДС6","Комплект запасных частей оборудования, \nна ед. изм., в руб., без НДС6","Шеф монтаж, \nна ед. изм., в руб.,  без НДС","Продление гарантии,  \nна ед. изм., в руб., без НДС","Прочие расходы, \nна ед. изм., в руб.,  без НДС7",null,null,null,null,null,null,null,null,"Сметная цена за ед.изм. в руб., без НДС в уровне цен на дату разработки ССР","Сметная цена за ед.изм. в руб., без НДС в уровне цен на дату заполнения опросного листа"]
[null,"Подрядчик"]
[null,"Заказчик"]
[null,"C10","C66","C67","C11","C12","C13","C14","C15","C16","C17","C18","C62","C63","C19","C64","C20","C21","C22","C23","C24","C25","C26","C27","C28","C29","C30","C31","C32","C65","C33","C34","C35","C36","C38","C39","C40","C42","C44","C45","C46","C47","C48","C49","C50","C51","C52","C53","C54","C55","C56","C57","C68","C69","C58","C59","C60","C61","C70"]
[]
[null,null,"Примечание:"]
[null,null,"1."]
[null,null,"2."]
[null,null,"3."]
[null,null,"4."]
[null,null,"5."]
[null,null,"6."]
[null,null,"7."]
[]
[null,null,null,null,null,null,null,null,{"$f":"'Исходные данные'!executor","v":"Ответственный исполнитель"},null,{"$f":"'Исходные данные'!executorPosition","v":"Вед. Специалист ОСОЭ УКС"},null,{"$f":"'Исходные данные'!executorFio","v":"Волостников Н.А."}]
[null,null,null,null,null,null,null,null,null,null,"должность",null,"Ф.И.О."]
[]
[null,null,null,null,null,null,null,null,{"$f":"'Исходные данные'!executor4","v":"Ответственный исполнитель ОСП"},null,{"$f":"'Исходные данные'!executor4Position","v":"Главный специалист"},null,{"$f":"'Исходные данные'!executor4Fio","v":"Еременко С.В."}]
[null,null,null,null,null,null,null,null,null,null,"должность",null,"Ф.И.О."]
[]
[null,null,null,null,null,null,null,null,{"$f":"'Исходные данные'!executor3","v":"Ответственный исполнитель ОЦП по КВ ТМЦ Подрядчика"},null,{"$f":"'Исходные данные'!executor3Position","v":"Главный специалист"},null,{"$f":"'Исходные данные'!executor3Fio","v":"Федотов Е.А."}]
[null,null,null,null,null,null,null,null,null,null,"должность",null,"Ф.И.О."]

{"sheet":"ВМП по лоту","index":24,"n_rows":342,"n_cols":45,"rows_kept":342,"cut":false,"hidden":false,"merged":[[4,3,4,9],[9,1,10,1],[9,2,10,2],[9,3,10,3],[9,4,10,4],[9,5,10,5],[9,6,10,6],[25,1,25,5],[9,33,9,37],[9,38,10,38],[9,39,10,39],[9,40,10,40],[9,24,9,27],[9,28,10,28],[9,29,10,29],[9,30,10,30],[9,31,10,31],[9,32,10,32],[9,17,10,17],[9,18,10,18],[9,20,10,20],[9,21,10,21],[9,22,10,22],[13,1,13,44],[14,1,14,5],[15,1,15,5],[24,1,24,5],[9,41,10,41],[9,42,10,42],[9,23,10,23],[9,7,10,7],[9,8,10,8],[9,9,9,10],[9,11,10,11],[9,12,9,15],[9,16,10,16],[9,43,9,44],[304,1,304,5],[49,1,49,5],[50,1,50,5],[51,1,51,5],[52,1,52,5],[53,1,53,5],[54,1,54,5],[299,1,299,5],[300,1,300,5],[301,1,301,5],[302,1,302,5],[303,1,303,5],[305,1,305,5],[306,1,306,5],[326,1,326,5],[327,1,327,5],[328,1,328,5],[329,1,329,5],[330,1,330,5],[331,1,331,5],[332,1,332,5]]}
[]
[]
["95B8996E-A92E-40F2-8A9B-251AB1F004D4"]
["8F193146-8A78-4229-9809-46BC8B1F2ABB",null,null,null,null,"Расчет стоимости по МТР Подрядчика"]
[null,null,null,{"$f":"'Исходные данные'!D19","v":"Строительство объектов энергетики Правдинского региона"}]
[null,null,null,"Шифр проекта","1980615/0880Д"]
[null,null,null,"Разработчик проекта","ООО «РН-УфаНИПИнефть»",null,null,null,null,null,null,null,null,null,null,null,null,null,null,null,null,null,null,null,null,null,null,null,null,null,null,null,null,null,null,null,null,null,null,null,null,null,null,null,"2000350438 (680-20-КС(ТЗ))"]
[null,null,null,"Заказчик","ООО \"РН-Юганскнефтегаз\""]
[]
[null,"№ п/п","Наименование объекта","№ ЛСР","Шифр ресурсов | Код ФСНБ1","Наименование материалов | Наименование материала/оборудования","Наименование МТР входящих в состав комплектной поставки2","Класс груза","Ед. изм.","Масса, тн",null,"Количество","Цена определена на основании (с указанием номера и даты обосновывающего документа) 3:",null,null,null,"Наименование поставщика и его месторасположение","Наименование изготовителя \nи его месторасположение","Цена за ед. | Сметная цена за ед.изм. в руб., \nбез НДС в базовом уровне цен","Расчет отпускной цены","Отпускная цена за ед.изм. в руб., \nбез НДС в текущем уровне цен","Дата установления цены","Базис поставки \n(в соответствии с Инкотермс-2010)","Наименование ст. отправления","Транспортные расходы, \nна ед. изм., руб. без НДС",null,null,null,"Страхование,  \nна ед. изм., в руб., без НДС","Тара, упаковка, реквизит4, \nна ед. изм., в руб., без НДС","Снабженческо-сбытовая надбавка 5, \nна ед. изм., в руб., без НДС ","Таможенные расходы, \nна ед. изм., в руб., без НДС","Комиссионные и агентские вознаграждения, на ед. изм., в руб., без НДС","Дополнительные расходы \nсвязанные с поставкой оборудования",null,null,null,null,"Заготовительно-складские расходы, \nна ед. изм., в руб., без НДС8","ИТОГО , \nза ед. изм., в руб., без НДС \nв текущем уровне цен","ВСЕГО, \nв руб., без НДС","№ страницы\n обосновывающего документа","Индикатор отношения текущей цены \nк уровню цен базового периода","Справочно: по данным \nРегионального ЦЦС9"]
[null,null,null,null,null,null,null,null,null,"масса за ед.изм (тн)","брутто",null,"Аналог","Сметная цена на перевозку 1 тн груза в базисном уровне цен","Тендерная документация","Прайс-лист, коммерческое предложение, счет-фактура",null,null,null,"Индекс перехода стоимости МТР в текущий уровень цен  ",null,null,null,null,"ж/д","авто","авиа","Водный транспорт",null,null,null,null,null,"Комплектация оборудования, \n в руб.,  на ед. изм., без НДС6","Комплект запасных частей оборудования, \nна ед. изм., в руб., без НДС6","Шеф монтаж, \nна ед. изм., в руб.,  без НДС","Продление гарантии,  \nна ед. изм., в руб., без НДС","Прочие расходы, \nна ед. изм., в руб.,  без НДС7",null,null,null,null,null,"Сметная цена за ед.изм. в руб., без НДС в уровне цен на дату разработки ССР","Сметная цена за ед.изм. в руб., без НДС в уровне цен на дату заполнения опросного листа"]
[null,1,2,3,4,5,6,7,8,9,10,11,12,13,14,15,16,17,18,19,20,21,22,23,24,25,26,27,28,29,30,31,32,33,34,35,36,37,38,39,40,41,42,43,44]
[null,"C10","C67","C11","C12","C13","C20","C21","C14","C22","C23","C15","C24","C25","C26","C27","C28","C29","C16","C30","C32","C33","C34","C35","C36","C38","C40","C42","C44","C45","C46","C47","C48","C49","C50","C51","C52","C53","C54","C56","C57","C58","C59","C60","C61"]
[]
[null,"Раздел I. Ценообразующие материалы"]
["main_materials","Материалы "]
[null,1,null,null,"102-0008","Лесоматериалы круглые хвойных пород для строительства диаметром 14-24 см, длиной 3-6,5 м",null,null,"м3",null,null,{"$f":"SUM(L18:L24)","v":3528.2378435999995},null,null,null,null,null,null,null,null,null,null,null,null,null,null,null,null,null,null,null,null,null,null,null,null,null,null,null,null,{"$f":"SUM(AO18:AO24)","v":0}]
[null,1,"ВЛ 6 кВ на куст 3129.1 (габ.110 кВ) Приразломное м/р. Правдинский (КС00091309)","ЛС 08-04-01-02","102-0008","Лесоматериалы круглые хвойных пород для строительства диаметром 14-24 см, длиной 3-6,5 м","-",null,"м3",null,"-",1281.9166154,"-",null,"-","-",null,"-",699.42,null,null,"-","-","-",null,0,null,null,"-","-","-","-","-","-","-","-","-","-",0,{"$f":"ROUND(U18+Y18+Z18+AA18+AB18+AM18,2)","v":0},{"$f":"ROUND(L18*AN18,2)","v":0},"-","-","-","-"]
[null,2,"ВЛ 6 кВ на куст 3129.2 (габ. 6 кВ) Приразломное м/р. Правдинский (КС00091313)","ЛС 08-04-02-01","102-0008","Лесоматериалы круглые хвойных пород для строительства диаметром 14-24 см, длиной 3-6,5 м","-",null,"м3",null,"-",699.67384619999996,"-",null,"-","-",null,"-",699.42,null,null,"-","-","-",null,0,null,null,"-","-","-","-","-","-","-","-","-","-",0,0,0,"-","-","-","-"]
[null,3,"ВЛ 6 кВ на куст 3129.1 (габ.110 кВ) Приразломное м/р. Правдинский (КС00091309)","ЛС 08-04-01-03","102-0008","Лесоматериалы круглые хвойных пород для строительства диаметром 14-24 см, длиной 3-6,5 м","-",null,"м3",null,"-",976.5,"-",null,"-","-",null,"-",699.42,null,null,"-","-","-",null,0,null,null,"-","-","-","-","-","-","-","-","-","-",0,0,0,"-","-","-","-"]
[null,4,"ВЛ 6 кВ на куст 3129.1 (габ.110 кВ) Приразломное м/р. Правдинский (КС00091309)","ЛС 08-04-01-04","102-0008","Лесоматериалы круглые хвойных пород для строительства диаметром 14-24 см, длиной 3-6,5 м","-",null,"м3",null,"-",569.625,"-",null,"-","-",null,"-",699.42,null,null,"-","-","-",null,0,null,null,"-","-","-","-","-","-","-","-","-","-",0,0,0,"-","-","-","-"]
[null,5,"ВЛ 6 кВ на куст 3129.1 (габ.110 кВ) Приразломное м/р. Правдинский (КС00091309)","ЛС 04-01-01","102-0008","Лесоматериалы круглые хвойных пород для строительства диаметром 14-24 см, длиной 3-6,5 м","-",null,"м3",null,"-",0.37580000000000002,"-",null,"-","-",null,"-",699.42,null,null,"-","-","-",null,0,null,null,"-","-","-","-","-","-","-","-","-","-",0,0,0,"-","-","-","-"]
[null,6,"ВЛ 6 кВ на куст 3129.2 (габ. 6 кВ) Приразломное м/р. Правдинский (КС00091313)","ЛС 04-02-01","102-0008","Лесоматериалы круглые хвойных пород для строительства диаметром 14-24 см, длиной 3-6,5 м","-",null,"м3",null,"-",0.14208599999999999,"-",null,"-","-",null,"-",699.42,null,null,"-","-","-",null,0,null,null,"-","-","-","-","-","-","-","-","-","-",0,0,0,"-","-","-","-"]
[null,7,"ВЛ 6 кВ на куст 3129.1 (габ.110 кВ) Приразломное м/р. Правдинский (КС00091309)","ЛС 04-01-02","102-0008","Лесоматериалы круглые хвойных пород для строительства диаметром 14-24 см, длиной 3-6,5 м","-",null,"м3",null,"-",4.496E-3,"-",null,"-","-",null,"-",699.42,null,null,"-","-","-",null,0,null,null,"-","-","-","-","-","-","-","-","-","-",0,0,0,"-","-","-","-"]
[null,"Итого Материалы",null,null,null,null,null,null,null,null,null,null,null,null,null,null,null,null,null,null,null,null,null,null,null,null,null,null,null,null,null,null,null,null,null,null,null,null,null,null,{"$f":"AO17","v":0}]
["main_metal","Металлоконструкции"]
[null,1,null,null,"110-0179","Конструкции стальные порталов ОРУ, сталь 345-3, неогрунтовано",null,null,"т",null,null,{"$f":"SUM(L28:L29)","v":17.306060000000002},null,null,null,null,null,null,null,null,null,null,null,null,null,null,null,null,null,null,null,null,null,null,null,null,null,null,null,null,{"$f":"SUM(AO28:AO29)","v":0}]
[null,1,"ВЛ 6 кВ на куст 3129.2 (габ. 6 кВ) Приразломное м/р. Правдинский (КС00091313)","ЛС 04-02-01","110-0179","Конструкции стальные порталов ОРУ, сталь 345-3, неогрунтовано","-",null,"т",null,"-",12.947100000000001,"-",null,"-","-",null,"-",15564.36,null,null,"-","-","-",null,{"$f":"ROUND((U28+AM28)*0.0659,2)","v":0},null,null,"-","-","-","-","-","-","-","-","-","-",{"$f":"ROUND(U28*0.0075,2)","v":0},{"$f":"ROUND(U28+Y28+Z28+AA28+AB28+AM28,2)","v":0},{"$f":"ROUND(L28*AN28,2)","v":0},"-","-","-","-"]
[null,2,"ВЛ 6 кВ на куст 3129.1 (габ.110 кВ) Приразломное м/р. Правдинский (КС00091309)","ЛС 04-01-01","110-0179","Конструкции стальные порталов ОРУ, сталь 345-3, неогрунтовано","-",null,"т",null,"-",4.3589599999999997,"-",null,"-","-",null,"-",15564.36,null,null,"-","-","-",null,{"$f":"ROUND((U29+AM29)*0.0659,2)","v":0},null,null,"-","-","-","-","-","-","-","-","-","-",{"$f":"ROUND(U29*0.0075,2)","v":0},{"$f":"ROUND(U29+Y29+Z29+AA29+AB29+AM29,2)","v":0},{"$f":"ROUND(L29*AN29,2)","v":0},"-","-","-","-"]
[null,2,null,null,"201-0764","Отдельные конструктивные элементы зданий и сооружений с преобладанием гнутосварных профилей и круглых труб, средняя масса сборочной единицы от 0,1 до 0,5 т, сталь 345-3, неогрунтовано",null,null,"т",null,null,{"$f":"SUM(L31:L32)","v":2.222},null,null,null,null,null,null,null,null,null,null,null,null,null,null,null,null,null,null,null,null,null,null,null,null,null,null,null,null,{"$f":"SUM(AO31:AO32)","v":0}]
[null,1,"ВЛ 6 кВ на куст 3129.2 (габ. 6 кВ) Приразломное м/р. Правдинский (КС00091313)","ЛС 04-02-01","201-0764","Отдельные конструктивные элементы зданий и сооружений с преобладанием гнутосварных профилей и круглых труб, средняя масса сборочной единицы от 0,1 до 0,5 т, сталь 345-3, неогрунтовано","-",null,"т",null,"-",1.333,"-",null,"-","-",null,"-",19476.22,null,null,"-","-","-",null,{"$f":"ROUND((U31+AM31)*0.0659,2)","v":0},null,null,"-","-","-","-","-","-","-","-","-","-",{"$f":"ROUND(U31*0.0075,2)","v":0},{"$f":"ROUND(U31+Y31+Z31+AA31+AB31+AM31,2)","v":0},{"$f":"ROUND(L31*AN31,2)","v":0},"-","-","-","-"]
[null,2,"ВЛ 6 кВ на куст 3129.1 (габ.110 кВ) Приразломное м/р. Правдинский (КС00091309)","ЛС 04-01-01","201-0764","Отдельные конструктивные элементы зданий и сооружений с преобладанием гнутосварных профилей и круглых труб, средняя масса сборочной единицы от 0,1 до 0,5 т, сталь 345-3, неогрунтовано","-",null,"т",null,"-",0.88900000000000001,"-",null,"-","-",null,"-",19476.22,null,null,"-","-","-",null,{"$f":"ROUND((U32+AM32)*0.0659,2)","v":0},null,null,"-","-","-","-","-","-","-","-","-","-",{"$f":"ROUND(U32*0.0075,2)","v":0},{"$f":"ROUND(U32+Y32+Z32+AA32+AB32+AM32,2)","v":0},{"$f":"ROUND(L32*AN32,2)","v":0},"-","-","-","-"]
[null,3,null,null,"201-0755","Отдельные конструктивные элементы зданий и сооружений с преобладанием горячекатаных профилей, средняя масса сборочной единицы до 0,1 т, сталь 345-3, неогрунтовано",null,null,"т",null,null,{"$f":"SUM(L34)","v":0.76200000000000001},null,null,null,null,null,null,null,null,null,null,null,null,null,null,null,null,null,null,null,null,null,null,null,null,null,null,null,null,{"$f":"SUM(AO34)","v":0}]
[null,1,"ВЛ 6 кВ на куст 3129.1 (габ.110 кВ) Приразломное м/р. Правдинский (КС00091309)","ЛС 04-01-02","201-0755","Отдельные конструктивные элементы зданий и сооружений с преобладанием горячекатаных профилей, средняя масса сборочной единицы до 0,1 т, сталь 345-3, неогрунтовано","-",null,"т",null,"-",0.76200000000000001,"-",null,"-","-",null,"-",14938.94,null,null,"-","-","-",null,{"$f":"ROUND((U34+AM34)*0.0659,2)","v":0},null,null,"-","-","-","-","-","-","-","-","-","-",{"$f":"ROUND(U34*0.0075,2)","v":0},{"$f":"ROUND(U34+Y34+Z34+AA34+AB34+AM34,2)","v":0},{"$f":"ROUND(L34*AN34,2)","v":0},"-","-","-","-"]
[null,4,null,null,"201-0777","Конструктивные элементы вспомогательного назначения с преобладанием профильного проката собираемые из двух и более деталей, с отверстиями и без отверстий, соединяемые на сварке, сталь 345-3, неогрунтовано",null,null,"т",null,null,{"$f":"SUM(L36:L37)","v":0.3},null,null,null,null,null,null,null,null,null,null,null,null,null,null,null,null,null,null,null,null,null,null,null,null,null,null,null,null,{"$f":"SUM(AO36:AO37)","v":0}]
[null,1,"ВЛ 6 кВ на куст 3129.2 (габ. 6 кВ) Приразломное м/р. Правдинский (КС00091313)","ЛС 04-02-01","201-0777","Конструктивные элементы вспомогательного назначения с преобладанием профильного проката собираемые из двух и более деталей, с отверстиями и без отверстий, соединяемые на сварке, сталь 345-3, неогрунтовано","-",null,"т",null,"-",0.223,"-",null,"-","-",null,"-",18618.060000000001,null,null,"-","-","-",null,{"$f":"ROUND((U36+AM36)*0.0659,2)","v":0},null,null,"-","-","-","-","-","-","-","-","-","-",{"$f":"ROUND(U36*0.0075,2)","v":0},{"$f":"ROUND(U36+Y36+Z36+AA36+AB36+AM36,2)","v":0},{"$f":"ROUND(L36*AN36,2)","v":0},"-","-","-","-"]
[null,2,"ВЛ 6 кВ на куст 3129.1 (габ.110 кВ) Приразломное м/р. Правдинский (КС00091309)","ЛС 04-01-01","201-0777","Конструктивные элементы вспомогательного назначения с преобладанием профильного проката собираемые из двух и более деталей, с отверстиями и без отверстий, соединяемые на сварке, сталь 345-3, неогрунтовано","-",null,"т",null,"-",7.6999999999999999E-2,"-",null,"-","-",null,"-",18618.060000000001,null,null,"-","-","-",null,{"$f":"ROUND((U37+AM37)*0.0659,2)","v":0},null,null,"-","-","-","-","-","-","-","-","-","-",{"$f":"ROUND(U37*0.0075,2)","v":0},{"$f":"ROUND(U37+Y37+Z37+AA37+AB37+AM37,2)","v":0},{"$f":"ROUND(L37*AN37,2)","v":0},"-","-","-","-"]
[null,5,null,null,"201-0772","Конструктивные элементы вспомогательного назначения массой не более 50 кг с преобладанием толстолистовой стали без отверстий и сборосварочных операций, сталь 345-3, неогрунтовано",null,null,"т",null,null,{"$f":"SUM(L39)","v":0.18},null,null,null,null,null,null,null,null,null,null,null,null,null,null,null,null,null,null,null,null,null,null,null,null,null,null,null,null,{"$f":"SUM(AO39)","v":0}]
[null,1,"ВЛ 6 кВ на куст 3129.1 (габ.110 кВ) Приразломное м/р. Правдинский (КС00091309)","ЛС 04-01-02","201-0772","Конструктивные элементы вспомогательного назначения массой не более 50 кг с преобладанием толстолистовой стали без отверстий и сборосварочных операций, сталь 345-3, неогрунтовано","-",null,"т",null,"-",0.18,"-",null,"-","-",null,"-",12140.21,null,null,"-","-","-",null,{"$f":"ROUND((U39+AM39)*0.0659,2)","v":0},null,null,"-","-","-","-","-","-","-","-","-","-",{"$f":"ROUND(U39*0.0075,2)","v":0},{"$f":"ROUND(U39+Y39+Z39+AA39+AB39+AM39,2)","v":0},{"$f":"ROUND(L39*AN39,2)","v":0},"-","-","-","-"]
[null,6,null,null,"201-0774","Конструктивные элементы вспомогательного назначения массой не более 50 кг с преобладанием толстолистовой стали собираемые из двух и более деталей, с отверстиями и без отверстий, соединяемые на сварке, С345-3, неогрунтовано",null,null,"т",null,null,{"$f":"SUM(L41:L43)","v":0.17529649999999999},null,null,null,null,null,null,null,null,null,null,null,null,null,null,null,null,null,null,null,null,null,null,null,null,null,null,null,null,{"$f":"SUM(AO41:AO43)","v":0}]
[null,1,"ВЛ 6 кВ на куст 3129.1 (габ.110 кВ) Приразломное м/р. Правдинский (КС00091309)","ЛС 04-01-01","201-0774","Конструктивные элементы вспомогательного назначения массой не более 50 кг с преобладанием толстолистовой стали собираемые из двух и более деталей, с отверстиями и без отверстий, соединяемые на сварке, С345-3, неогрунтовано","-",null,"т",null,"-",0.1466325,"-",null,"-","-",null,"-",20908.8,null,null,"-","-","-",null,{"$f":"ROUND((U41+AM41)*0.0659,2)","v":0},null,null,"-","-","-","-","-","-","-","-","-","-",{"$f":"ROUND(U41*0.0075,2)","v":0},{"$f":"ROUND(U41+Y41+Z41+AA41+AB41+AM41,2)","v":0},{"$f":"ROUND(L41*AN41,2)","v":0},"-","-","-","-"]
[null,2,"ВЛ 6 кВ на куст 3129.2 (габ. 6 кВ) Приразломное м/р. Правдинский (КС00091313)","ЛС 04-02-01","201-0774","Конструктивные элементы вспомогательного назначения массой не более 50 кг с преобладанием толстолистовой стали собираемые из двух и более деталей, с отверстиями и без отверстий, соединяемые на сварке, С345-3, неогрунтовано","-",null,"т",null,"-",2.8101999999999999E-2,"-",null,"-","-",null,"-",20908.8,null,null,"-","-","-",null,{"$f":"ROUND((U42+AM42)*0.0659,2)","v":0},null,null,"-","-","-","-","-","-","-","-","-","-",{"$f":"ROUND(U42*0.0075,2)","v":0},{"$f":"ROUND(U42+Y42+Z42+AA42+AB42+AM42,2)","v":0},{"$f":"ROUND(L42*AN42,2)","v":0},"-","-","-","-"]
[null,3,"ВЛ 6 кВ на куст 3129.1 (габ.110 кВ) Приразломное м/р. Правдинский (КС00091309)","ЛС 04-01-02","201-0774","Конструктивные элементы вспомогательного назначения массой не более 50 кг с преобладанием толстолистовой стали собираемые из двух и более деталей, с отверстиями и без отверстий, соединяемые на сварке, С345-3, неогрунтовано","-",null,"т",null,"-",5.62E-4,"-",null,"-","-",null,"-",20908.8,null,null,"-","-","-",null,{"$f":"ROUND((U43+AM43)*0.0659,2)","v":0},null,null,"-","-","-","-","-","-","-","-","-","-",{"$f":"ROUND(U43*0.0075,2)","v":0},{"$f":"ROUND(U43+Y43+Z43+AA43+AB43+AM43,2)","v":0},{"$f":"ROUND(L43*AN43,2)","v":0},"-","-","-","-"]
[null,7,null,null,"201-0763","Отдельные конструктивные элементы зданий и сооружений с преобладанием гнутосварных профилей и круглых труб, средняя масса сборочной единицы до 0,1 т, сталь 345-3, неогрунтовано",null,null,"т",null,null,{"$f":"SUM(L45)","v":0.14000000000000001},null,null,null,null,null,null,null,null,null,null,null,null,null,null,null,null,null,null,null,null,null,null,null,null,null,null,null,null,{"$f":"SUM(AO45)","v":0}]
[null,1,"ВЛ 6 кВ на куст 3129.1 (габ.110 кВ) Приразломное м/р. Правдинский (КС00091309)","ЛС 04-01-02","201-0763","Отдельные конструктивные элементы зданий и сооружений с преобладанием гнутосварных профилей и круглых труб, средняя масса сборочной единицы до 0,1 т, сталь 345-3, неогрунтовано","-",null,"т",null,"-",0.14000000000000001,"-",null,"-","-",null,"-",20860.75,null,null,"-","-","-",null,{"$f":"ROUND((U45+AM45)*0.0659,2)","v":0},null,null,"-","-","-","-","-","-","-","-","-","-",{"$f":"ROUND(U45*0.0075,2)","v":0},{"$f":"ROUND(U45+Y45+Z45+AA45+AB45+AM45,2)","v":0},{"$f":"ROUND(L45*AN45,2)","v":0},"-","-","-","-"]
[null,8,null,null,"201-0756","Отдельные конструктивные элементы зданий и сооружений с преобладанием горячекатаных профилей, средняя масса сборочной единицы от 0,1 до 0,5 т, С345-3, неогрунтовано",null,null,"т",null,null,{"$f":"SUM(L47:L49)","v":1.3538000000000001E-3},null,null,null,null,null,null,null,null,null,null,null,null,null,null,null,null,null,null,null,null,null,null,null,null,null,null,null,null,{"$f":"SUM(AO47:AO49)","v":0}]
[null,1,"ВЛ 6 кВ на куст 3129.1 (габ.110 кВ) Приразломное м/р. Правдинский (КС00091309)","ЛС 04-01-02","201-0756","Отдельные конструктивные элементы зданий и сооружений с преобладанием горячекатаных профилей, средняя масса сборочной единицы от 0,1 до 0,5 т, С345-3, неогрунтовано","-",null,"т",null,"-",8.5610000000000005E-4,"-",null,"-","-",null,"-",14293.92,null,null,"-","-","-",null,{"$f":"ROUND((U47+AM47)*0.0659,2)","v":0},null,null,"-","-","-","-","-","-","-","-","-","-",{"$f":"ROUND(U47*0.0075,2)","v":0},{"$f":"ROUND(U47+Y47+Z47+AA47+AB47+AM47,2)","v":0},{"$f":"ROUND(L47*AN47,2)","v":0},"-","-","-","-"]
[null,2,"ВЛ 6 кВ на куст 3129.2 (габ. 6 кВ) Приразломное м/р. Правдинский (КС00091313)","ЛС 04-02-01","201-0756","Отдельные конструктивные элементы зданий и сооружений с преобладанием горячекатаных профилей, средняя масса сборочной единицы от 0,1 до 0,5 т, С345-3, неогрунтовано","-",null,"т",null,"-",2.9859999999999999E-4,"-",null,"-","-",null,"-",14293.92,null,null,"-","-","-",null,{"$f":"ROUND((U48+AM48)*0.0659,2)","v":0},null,null,"-","-","-","-","-","-","-","-","-","-",{"$f":"ROUND(U48*0.0075,2)","v":0},{"$f":"ROUND(U48+Y48+Z48+AA48+AB48+AM48,2)","v":0},{"$f":"ROUND(L48*AN48,2)","v":0},"-","-","-","-"]
[null,3,"ВЛ 6 кВ на куст 3129.1 (габ.110 кВ) Приразломное м/р. Правдинский (КС00091309)","ЛС 04-01-01","201-0756","Отдельные конструктивные элементы зданий и сооружений с преобладанием горячекатаных профилей, средняя масса сборочной единицы от 0,1 до 0,5 т, С345-3, неогрунтовано","-",null,"т",null,"-",1.9909999999999999E-4,"-",null,"-","-",null,"-",14293.92,null,null,"-","-","-",null,{"$f":"ROUND((U49+AM49)*0.0659,2)","v":0},null,null,"-","-","-","-","-","-","-","-","-","-",{"$f":"ROUND(U49*0.0075,2)","v":0},{"$f":"ROUND(U49+Y49+Z49+AA49+AB49+AM49,2)","v":0},{"$f":"ROUND(L49*AN49,2)","v":0},"-","-","-","-"]
[null,"Итого Металлоконструкции",null,null,null,null,null,null,null,null,null,null,null,null,null,null,null,null,null,null,null,null,null,null,null,null,null,null,null,null,null,null,null,null,null,null,null,null,null,null,{"$f":"AO27+AO30+AO33+AO35+AO38+AO40+AO44+AO46","v":0}]
["main_equipment","Оборудование"]
[null,"Итого Оборудование"]
[null,"Итого по Разделу I. Ценообразующие материалы",null,null,null,null,null,null,null,null,null,null,null,null,null,null,null,null,null,null,null,null,null,null,null,null,null,null,null,null,null,null,null,null,null,null,null,null,null,null,{"$f":"AO50+AO52+AO25","v":0}]
[null,"Раздел II. Вспомогательные материалы"]
["other_materials","Материалы "]
[null,1,null,null,"113-0240","Эмаль ХС-759 белая",null,null,"т",null,null,{"$f":"SUM(L57:L59)","v":2.2397960000000001},null,null,null,null,null,null,null,null,null,null,null,null,null,null,null,null,null,null,null,null,null,null,null,null,null,null,null,null,{"$f":"SUM(AO57:AO59)","v":0}]
[null,1,"ВЛ 6 кВ на куст 3129.1 (габ.110 кВ) Приразломное м/р. Правдинский (КС00091309)","ЛС 04-01-01","113-0240","Эмаль ХС-759 белая","-",null,"т",null,"-",1.7733840000000001,"-",null,"-","-",null,"-",36209.300000000003,null,null,"-","-","-",null,{"$f":"ROUND((U57+AM57)*0.0659,2)","v":0},null,null,"-","-","-","-","-","-","-","-","-","-",{"$f":"ROUND(U57*0.02,2)","v":0},{"$f":"ROUND(U57+Y57+Z57+AA57+AB57+AM57,2)","v":0},{"$f":"ROUND(L57*AN57,2)","v":0},"-","-","-","-"]
[null,2,"ВЛ 6 кВ на куст 3129.2 (габ. 6 кВ) Приразломное м/р. Правдинский (КС00091313)","ЛС 04-02-01","113-0240","Эмаль ХС-759 белая","-",null,"т",null,"-",0.45227600000000001,"-",null,"-","-",null,"-",36209.300000000003,null,null,"-","-","-",null,{"$f":"ROUND((U58+AM58)*0.0659,2)","v":0},null,null,"-","-","-","-","-","-","-","-","-","-",{"$f":"ROUND(U58*0.02,2)","v":0},{"$f":"ROUND(U58+Y58+Z58+AA58+AB58+AM58,2)","v":0},{"$f":"ROUND(L58*AN58,2)","v":0},"-","-","-","-"]
[null,3,"ВЛ 6 кВ на куст 3129.1 (габ.110 кВ) Приразломное м/р. Правдинский (КС00091309)","ЛС 04-01-02","113-0240","Эмаль ХС-759 белая","-",null,"т",null,"-",1.4135999999999999E-2,"-",null,"-","-",null,"-",36209.300000000003,null,null,"-","-","-",null,{"$f":"ROUND((U59+AM59)*0.0659,2)","v":0},null,null,"-","-","-","-","-","-","-","-","-","-",{"$f":"ROUND(U59*0.02,2)","v":0},{"$f":"ROUND(U59+Y59+Z59+AA59+AB59+AM59,2)","v":0},{"$f":"ROUND(L59*AN59,2)","v":0},"-","-","-","-"]
[null,2,null,null,"101-1305","Портландцемент общестроительного назначения бездобавочный марки 400",null,null,"т",null,null,{"$f":"SUM(L61:L63)","v":30.905999999999999},null,null,null,null,null,null,null,null,null,null,null,null,null,null,null,null,null,null,null,null,null,null,null,null,null,null,null,null,{"$f":"SUM(AO61:AO63)","v":0}]
[null,1,"ВЛ 6 кВ на куст 3129.1 (габ.110 кВ) Приразломное м/р. Правдинский (КС00091309)","ЛС 04-01-01","101-1305","Портландцемент общестроительного назначения бездобавочный марки 400","-",null,"т",null,"-",27.224,"-",null,"-","-",null,"-",545.51,null,null,"-","-","-",null,{"$f":"ROUND((U61+AM61)*0.0659,2)","v":0},null,null,"-","-","-","-","-","-","-","-","-","-",{"$f":"ROUND(U61*0.02,2)","v":0},{"$f":"ROUND(U61+Y61+Z61+AA61+AB61+AM61,2)","v":0},{"$f":"ROUND(L61*AN61,2)","v":0},"-","-","-","-"]
[null,2,"ВЛ 6 кВ на куст 3129.2 (габ. 6 кВ) Приразломное м/р. Правдинский (КС00091313)","ЛС 04-02-01","101-1305","Портландцемент общестроительного назначения бездобавочный марки 400","-",null,"т",null,"-",3.5840000000000001,"-",null,"-","-",null,"-",545.51,null,null,"-","-","-",null,{"$f":"ROUND((U62+AM62)*0.0659,2)","v":0},null,null,"-","-","-","-","-","-","-","-","-","-",{"$f":"ROUND(U62*0.02,2)","v":0},{"$f":"ROUND(U62+Y62+Z62+AA62+AB62+AM62,2)","v":0},{"$f":"ROUND(L62*AN62,2)","v":0},"-","-","-","-"]
[null,3,"ВЛ 6 кВ на куст 3129.1 (габ.110 кВ) Приразломное м/р. Правдинский (КС00091309)","ЛС 04-01-02","101-1305","Портландцемент общестроительного назначения бездобавочный марки 400","-",null,"т",null,"-",9.8000000000000004E-2,"-",null,"-","-",null,"-",545.51,null,null,"-","-","-",null,{"$f":"ROUND((U63+AM63)*0.0659,2)","v":0},null,null,"-","-","-","-","-","-","-","-","-","-",{"$f":"ROUND(U63*0.02,2)","v":0},{"$f":"ROUND(U63+Y63+Z63+AA63+AB63+AM63,2)","v":0},{"$f":"ROUND(L63*AN63,2)","v":0},"-","-","-","-"]
[null,3,null,null,"Цена завода","Гаситель вибрации ГВП-1,6-11-400, цена 956,2:4,03.1,13",null,null,"шт.",null,null,{"$f":"SUM(L65)","v":135},null,null,null,null,null,null,null,null,null,null,null,null,null,null,null,null,null,null,null,null,null,null,null,null,null,null,null,null,{"$f":"SUM(AO65)","v":0}]
[null,1,"ВЛ 6 кВ на куст 3129.1 (габ.110 кВ) Приразломное м/р. Правдинский (КС00091309)","ЛС 04-01-01","Цена завода","Гаситель вибрации ГВП-1,6-11-400, цена 956,2:4,03.1,13","-",null,"шт.",null,"-",135,"-",null,"-","-",null,"-",268.12,{"$f":"НМЦ!$K$227","v":0},{"$f":"ROUND(S65*T65,2)","v":0},"-","-","-",null,0,null,null,"-","-","-","-","-","-","-","-","-","-",0,{"$f":"ROUND(U65+Y65+Z65+AA65+AB65+AM65,2)","v":0},{"$f":"ROUND(L65*AN65,2)","v":0},"-","-","-","-"]
[null,4,null,null,"509-8110","Трос грозозащитный. МЗ-9,2-ОЖ-Н-Р",null,null,"т",null,null,{"$f":"SUM(L67)","v":1.1000000000000001},null,null,null,null,null,null,null,null,null,null,null,null,null,null,null,null,null,null,null,null,null,null,null,null,null,null,null,null,{"$f":"SUM(AO67)","v":0}]
[null,1,"ВЛ 6 кВ на куст 3129.1 (габ.110 кВ) Приразломное м/р. Правдинский (КС00091309)","ЛС 04-01-01","509-8110","Трос грозозащитный. МЗ-9,2-ОЖ-Н-Р","-",null,"т",null,"-",1.1000000000000001,"-",null,"-","-",null,"-",18075.88,{"$f":"НМЦ!$K$227","v":0},{"$f":"ROUND(S67*T67,2)","v":0},"-","-","-",null,{"$f":"ROUND((U67+AM67)*0.0569,2)","v":0},null,null,"-","-","-","-","-","-","-","-","-","-",0,{"$f":"ROUND(U67+Y67+Z67+AA67+AB67+AM67,2)","v":0},{"$f":"ROUND(L67*AN67,2)","v":0},"-","-","-","-"]
[null,5,null,null,"113-0449","Грунтовка полиуретановая цинконаполненая, композиция ЦИНОТАН",null,null,"кг",null,null,{"$f":"SUM(L69:L71)","v":148.43400000000003},null,null,null,null,null,null,null,null,null,null,null,null,null,null,null,null,null,null,null,null,null,null,null,null,null,null,null,null,{"$f":"SUM(AO69:AO71)","v":0}]
[null,1,"ВЛ 6 кВ на куст 3129.2 (габ. 6 кВ) Приразломное м/р. Правдинский (КС00091313)","ЛС 04-02-01","113-0449","Грунтовка полиуретановая цинконаполненая, композиция ЦИНОТАН","-",null,"кг",null,"-",95.004000000000005,"-",null,"-","-",null,"-",4.1100000000000003,null,null,"-","-","-",null,{"$f":"ROUND((U69+AM69)*0.0659,2)","v":0},null,null,"-","-","-","-","-","-","-","-","-","-",{"$f":"ROUND(U69*0.02,2)","v":0},{"$f":"ROUND(U69+Y69+Z69+AA69+AB69+AM69,2)","v":0},{"$f":"ROUND(L69*AN69,2)","v":0},"-","-","-","-"]
[null,2,"ВЛ 6 кВ на куст 3129.1 (габ.110 кВ) Приразломное м/р. Правдинский (КС00091309)","ЛС 04-01-01","113-0449","Грунтовка полиуретановая цинконаполненая, композиция ЦИНОТАН","-",null,"кг",null,"-",38.493000000000002,"-",null,"-","-",null,"-",4.1100000000000003,null,null,"-","-","-",null,{"$f":"ROUND((U70+AM70)*0.0659,2)","v":0},null,null,"-","-","-","-","-","-","-","-","-","-",{"$f":"ROUND(U70*0.02,2)","v":0},{"$f":"ROUND(U70+Y70+Z70+AA70+AB70+AM70,2)","v":0},{"$f":"ROUND(L70*AN70,2)","v":0},"-","-","-","-"]
[null,3,"ВЛ 6 кВ на куст 3129.1 (габ.110 кВ) Приразломное м/р. Правдинский (КС00091309)","ЛС 04-01-02","113-0449","Грунтовка полиуретановая цинконаполненая, композиция ЦИНОТАН","-",null,"кг",null,"-",14.936999999999999,"-",null,"-","-",null,"-",4.1100000000000003,null,null,"-","-","-",null,{"$f":"ROUND((U71+AM71)*0.0659,2)","v":0},null,null,"-","-","-","-","-","-","-","-","-","-",{"$f":"ROUND(U71*0.02,2)","v":0},{"$f":"ROUND(U71+Y71+Z71+AA71+AB71+AM71,2)","v":0},{"$f":"ROUND(L71*AN71,2)","v":0},"-","-","-","-"]
[null,6,null,null,"113-0030","Грунтовка ХС-059 красно-коричневая",null,null,"т",null,null,{"$f":"SUM(L73:L75)","v":0.47153599999999996},null,null,null,null,null,null,null,null,null,null,null,null,null,null,null,null,null,null,null,null,null,null,null,null,null,null,null,null,{"$f":"SUM(AO73:AO75)","v":0}]
[null,1,"ВЛ 6 кВ на куст 3129.1 (габ.110 кВ) Приразломное м/р. Правдинский (КС00091309)","ЛС 04-01-01","113-0030","Грунтовка ХС-059 красно-коричневая","-",null,"т",null,"-",0.37334400000000001,"-",null,"-","-",null,"-",28666.34,{"$f":"НМЦ!$K$227","v":0},{"$f":"ROUND(S73*T73,2)","v":0},"-","-","-",null,{"$f":"ROUND((U73+AM73)*0.0569,2)","v":0},null,null,"-","-","-","-","-","-","-","-","-","-",0,{"$f":"ROUND(U73+Y73+Z73+AA73+AB73+AM73,2)","v":0},{"$f":"ROUND(L73*AN73,2)","v":0},"-","-","-","-"]
[null,2,"ВЛ 6 кВ на куст 3129.2 (габ. 6 кВ) Приразломное м/р. Правдинский (КС00091313)","ЛС 04-02-01","113-0030","Грунтовка ХС-059 красно-коричневая","-",null,"т",null,"-",9.5215999999999995E-2,"-",null,"-","-",null,"-",28666.34,{"$f":"НМЦ!$K$227","v":0},{"$f":"ROUND(S74*T74,2)","v":0},"-","-","-",null,{"$f":"ROUND((U74+AM74)*0.0569,2)","v":0},null,null,"-","-","-","-","-","-","-","-","-","-",0,{"$f":"ROUND(U74+Y74+Z74+AA74+AB74+AM74,2)","v":0},{"$f":"ROUND(L74*AN74,2)","v":0},"-","-","-","-"]
[null,3,"ВЛ 6 кВ на куст 3129.1 (габ.110 кВ) Приразломное м/р. Правдинский (КС00091309)","ЛС 04-01-02","113-0030","Грунтовка ХС-059 красно-коричневая","-",null,"т",null,"-",2.9759999999999999E-3,"-",null,"-","-",null,"-",28666.34,{"$f":"НМЦ!$K$227","v":0},{"$f":"ROUND(S75*T75,2)","v":0},"-","-","-",null,{"$f":"ROUND((U75+AM75)*0.0569,2)","v":0},null,null,"-","-","-","-","-","-","-","-","-","-",0,{"$f":"ROUND(U75+Y75+Z75+AA75+AB75+AM75,2)","v":0},{"$f":"ROUND(L75*AN75,2)","v":0},"-","-","-","-"]
[null,7,null,null,"113-8098","Эмаль полиуретановая защитно-декоративная \"Политон-УР\"",null,null,"кг",null,null,{"$f":"SUM(L77:L79)","v":128.45250000000001},null,null,null,null,null,null,null,null,null,null,null,null,null,null,null,null,null,null,null,null,null,null,null,null,null,null,null,null,{"$f":"SUM(AO77:AO79)","v":0}]
[null,1,"ВЛ 6 кВ на куст 3129.2 (габ. 6 кВ) Приразломное м/р. Правдинский (КС00091313)","ЛС 04-02-01","113-8098","Эмаль полиуретановая защитно-декоративная \"Политон-УР\"","-",null,"кг",null,"-",82.215000000000003,"-",null,"-","-",null,"-",139.38999999999999,null,null,"-","-","-",null,{"$f":"ROUND((U77+AM77)*0.0659,2)","v":0},null,null,"-","-","-","-","-","-","-","-","-","-",{"$f":"ROUND(U77*0.02,2)","v":0},{"$f":"ROUND(U77+Y77+Z77+AA77+AB77+AM77,2)","v":0},{"$f":"ROUND(L77*AN77,2)","v":0},"-","-","-","-"]
[null,2,"ВЛ 6 кВ на куст 3129.1 (габ.110 кВ) Приразломное м/р. Правдинский (КС00091309)","ЛС 04-01-01","113-8098","Эмаль полиуретановая защитно-декоративная \"Политон-УР\"","-",null,"кг",null,"-",33.311250000000001,"-",null,"-","-",null,"-",139.38999999999999,null,null,"-","-","-",null,{"$f":"ROUND((U78+AM78)*0.0659,2)","v":0},null,null,"-","-","-","-","-","-","-","-","-","-",{"$f":"ROUND(U78*0.02,2)","v":0},{"$f":"ROUND(U78+Y78+Z78+AA78+AB78+AM78,2)","v":0},{"$f":"ROUND(L78*AN78,2)","v":0},"-","-","-","-"]
[null,3,"ВЛ 6 кВ на куст 3129.1 (габ.110 кВ) Приразломное м/р. Правдинский (КС00091309)","ЛС 04-01-02","113-8098","Эмаль полиуретановая защитно-декоративная \"Политон-УР\"","-",null,"кг",null,"-",12.92625,"-",null,"-","-",null,"-",139.38999999999999,null,null,"-","-","-",null,{"$f":"ROUND((U79+AM79)*0.0659,2)","v":0},null,null,"-","-","-","-","-","-","-","-","-","-",{"$f":"ROUND(U79*0.02,2)","v":0},{"$f":"ROUND(U79+Y79+Z79+AA79+AB79+AM79,2)","v":0},{"$f":"ROUND(L79*AN79,2)","v":0},"-","-","-","-"]
[null,8,null,null,"Цена завода","Зажим натяжной НБ-2-6",null,null,"шт.",null,null,{"$f":"SUM(L81)","v":86},null,null,null,null,null,null,null,null,null,null,null,null,null,null,null,null,null,null,null,null,null,null,null,null,null,null,null,null,{"$f":"SUM(AO81)","v":0}]
[null,1,"ВЛ 6 кВ на куст 3129.1 (габ.110 кВ) Приразломное м/р. Правдинский (КС00091309)","ЛС 04-01-01","Цена завода","Зажим натяжной НБ-2-6","-",null,"шт.",null,"-",86,"-",null,"-","-",null,"-",149.41,{"$f":"НМЦ!$K$227","v":0},{"$f":"ROUND(S81*T81,2)","v":0},"-","-","-",null,0,null,null,"-","-","-","-","-","-","-","-","-","-",0,{"$f":"ROUND(U81+Y81+Z81+AA81+AB81+AM81,2)","v":0},{"$f":"ROUND(L81*AN81,2)","v":0},"-","-","-","-"]
[null,9,null,null,"101-2467","Растворитель марки Р-4",null,null,"т",null,null,{"$f":"SUM(L83:L85)","v":0.70873999999999993},null,null,null,null,null,null,null,null,null,null,null,null,null,null,null,null,null,null,null,null,null,null,null,null,null,null,null,null,{"$f":"SUM(AO83:AO85)","v":0}]
[null,1,"ВЛ 6 кВ на куст 3129.1 (габ.110 кВ) Приразломное м/р. Правдинский (КС00091309)","ЛС 04-01-01","101-2467","Растворитель марки Р-4","-",null,"т",null,"-",0.5642102,"-",null,"-","-",null,"-",15736.71,{"$f":"НМЦ!$K$227","v":0},{"$f":"ROUND(S83*T83,2)","v":0},"-","-","-",null,{"$f":"ROUND((U83+AM83)*0.0569,2)","v":0},null,null,"-","-","-","-","-","-","-","-","-","-",0,{"$f":"ROUND(U83+Y83+Z83+AA83+AB83+AM83,2)","v":0},{"$f":"ROUND(L83*AN83,2)","v":0},"-","-","-","-"]
[null,2,"ВЛ 6 кВ на куст 3129.2 (габ. 6 кВ) Приразломное м/р. Правдинский (КС00091313)","ЛС 04-02-01","101-2467","Растворитель марки Р-4","-",null,"т",null,"-",0.13952400000000001,"-",null,"-","-",null,"-",15736.71,{"$f":"НМЦ!$K$227","v":0},{"$f":"ROUND(S84*T84,2)","v":0},"-","-","-",null,{"$f":"ROUND((U84+AM84)*0.0569,2)","v":0},null,null,"-","-","-","-","-","-","-","-","-","-",0,{"$f":"ROUND(U84+Y84+Z84+AA84+AB84+AM84,2)","v":0},{"$f":"ROUND(L84*AN84,2)","v":0},"-","-","-","-"]
[null,3,"ВЛ 6 кВ на куст 3129.1 (габ.110 кВ) Приразломное м/р. Правдинский (КС00091309)","ЛС 04-01-02","101-2467","Растворитель марки Р-4","-",null,"т",null,"-",5.0058000000000004E-3,"-",null,"-","-",null,"-",15736.71,{"$f":"НМЦ!$K$227","v":0},{"$f":"ROUND(S85*T85,2)","v":0},"-","-","-",null,{"$f":"ROUND((U85+AM85)*0.0569,2)","v":0},null,null,"-","-","-","-","-","-","-","-","-","-",0,{"$f":"ROUND(U85+Y85+Z85+AA85+AB85+AM85,2)","v":0},{"$f":"ROUND(L85*AN85,2)","v":0},"-","-","-","-"]
[null,10,null,null,"509-0455","Соединитель алюминиевых и сталеалюминиевых проводов (СОАС) 062-3",null,null,"шт.",null,null,{"$f":"SUM(L87:L88)","v":71.774000000000001},null,null,null,null,null,null,null,null,null,null,null,null,null,null,null,null,null,null,null,null,null,null,null,null,null,null,null,null,{"$f":"SUM(AO87:AO88)","v":0}]
[null,1,"ВЛ 6 кВ на куст 3129.2 (габ. 6 кВ) Приразломное м/р. Правдинский (КС00091313)","ЛС 04-02-01","509-0455","Соединитель алюминиевых и сталеалюминиевых проводов (СОАС) 062-3","-",null,"шт.",null,"-",54.366,"-",null,"-","-",null,"-",147.22,{"$f":"НМЦ!$K$227","v":0},{"$f":"ROUND(S87*T87,2)","v":0},"-","-","-",null,{"$f":"ROUND((U87+AM87)*0.0569,2)","v":0},null,null,"-","-","-","-","-","-","-","-","-","-",0,{"$f":"ROUND(U87+Y87+Z87+AA87+AB87+AM87,2)","v":0},{"$f":"ROUND(L87*AN87,2)","v":0},"-","-","-","-"]
[null,2,"ВЛ 6 кВ на куст 3129.1 (габ.110 кВ) Приразломное м/р. Правдинский (КС00091309)","ЛС 04-01-01","509-0455","Соединитель алюминиевых и сталеалюминиевых проводов (СОАС) 062-3","-",null,"шт.",null,"-",17.408000000000001,"-",null,"-","-",null,"-",147.22,{"$f":"НМЦ!$K$227","v":0},{"$f":"ROUND(S88*T88,2)","v":0},"-","-","-",null,{"$f":"ROUND((U88+AM88)*0.0569,2)","v":0},null,null,"-","-","-","-","-","-","-","-","-","-",0,{"$f":"ROUND(U88+Y88+Z88+AA88+AB88+AM88,2)","v":0},{"$f":"ROUND(L88*AN88,2)","v":0},"-","-","-","-"]
[null,11,null,null,"509-2853","Скоба СК-12-1А",null,null,"шт.",null,null,{"$f":"SUM(L90)","v":98},null,null,null,null,null,null,null,null,null,null,null,null,null,null,null,null,null,null,null,null,null,null,null,null,null,null,null,null,{"$f":"SUM(AO90)","v":0}]
[null,1,"ВЛ 6 кВ на куст 3129.1 (габ.110 кВ) Приразломное м/р. Правдинский (КС00091309)","ЛС 04-01-01","509-2853","Скоба СК-12-1А","-",null,"шт.",null,"-",98,"-",null,"-","-",null,"-",91.37,{"$f":"НМЦ!$K$227","v":0},{"$f":"ROUND(S90*T90,2)","v":0},"-","-","-",null,{"$f":"ROUND((U90+AM90)*0.0569,2)","v":0},null,null,"-","-","-","-","-","-","-","-","-","-",0,{"$f":"ROUND(U90+Y90+Z90+AA90+AB90+AM90,2)","v":0},{"$f":"ROUND(L90*AN90,2)","v":0},"-","-","-","-"]
[null,12,null,null,"101-1805","Гвозди строительные",null,null,"т",null,null,{"$f":"SUM(L92:L93)","v":0.51332820000000001},null,null,null,null,null,null,null,null,null,null,null,null,null,null,null,null,null,null,null,null,null,null,null,null,null,null,null,null,{"$f":"SUM(AO92:AO93)","v":0}]
[null,1,"ВЛ 6 кВ на куст 3129.1 (габ.110 кВ) Приразломное м/р. Правдинский (КС00091309)","ЛС 04-01-01","101-1805","Гвозди строительные","-",null,"т",null,"-",0.4640108,"-",null,"-","-",null,"-",12841.36,{"$f":"НМЦ!$K$227","v":0},{"$f":"ROUND(S92*T92,2)","v":0},"-","-","-",null,{"$f":"ROUND((U92+AM92)*0.0569,2)","v":0},null,null,"-","-","-","-","-","-","-","-","-","-",0,{"$f":"ROUND(U92+Y92+Z92+AA92+AB92+AM92,2)","v":0},{"$f":"ROUND(L92*AN92,2)","v":0},"-","-","-","-"]
[null,2,"ВЛ 6 кВ на куст 3129.2 (габ. 6 кВ) Приразломное м/р. Правдинский (КС00091313)","ЛС 04-02-01","101-1805","Гвозди строительные","-",null,"т",null,"-",4.9317399999999997E-2,"-",null,"-","-",null,"-",12841.36,{"$f":"НМЦ!$K$227","v":0},{"$f":"ROUND(S93*T93,2)","v":0},"-","-","-",null,{"$f":"ROUND((U93+AM93)*0.0569,2)","v":0},null,null,"-","-","-","-","-","-","-","-","-","-",0,{"$f":"ROUND(U93+Y93+Z93+AA93+AB93+AM93,2)","v":0},{"$f":"ROUND(L93*AN93,2)","v":0},"-","-","-","-"]
[null,13,null,null,"Цена завода","Зажим натяжной НБ-2-6",null,null,"шт.",null,null,{"$f":"SUM(L95)","v":75},null,null,null,null,null,null,null,null,null,null,null,null,null,null,null,null,null,null,null,null,null,null,null,null,null,null,null,null,{"$f":"SUM(AO95)","v":0}]
[null,1,"ВЛ 6 кВ на куст 3129.2 (габ. 6 кВ) Приразломное м/р. Правдинский (КС00091313)","ЛС 04-02-01","Цена завода","Зажим натяжной НБ-2-6","-",null,"шт.",null,"-",75,"-",null,"-","-",null,"-",90.29,{"$f":"НМЦ!$K$227","v":0},{"$f":"ROUND(S95*T95,2)","v":0},"-","-","-",null,0,null,null,"-","-","-","-","-","-","-","-","-","-",0,{"$f":"ROUND(U95+Y95+Z95+AA95+AB95+AM95,2)","v":0},{"$f":"ROUND(L95*AN95,2)","v":0},"-","-","-","-"]
[null,14,null,null,"101-1513","Электроды диаметром 4 мм Э42",null,null,"т",null,null,{"$f":"SUM(L97:L99)","v":0.5641548999999999},null,null,null,null,null,null,null,null,null,null,null,null,null,null,null,null,null,null,null,null,null,null,null,null,null,null,null,null,{"$f":"SUM(AO97:AO99)","v":0}]
[null,1,"ВЛ 6 кВ на куст 3129.1 (габ.110 кВ) Приразломное м/р. Правдинский (КС00091309)","ЛС 04-01-01","101-1513","Электроды диаметром 4 мм Э42","-",null,"т",null,"-",0.42782609999999999,"-",null,"-","-",null,"-",11058.49,{"$f":"НМЦ!$K$227","v":0},{"$f":"ROUND(S97*T97,2)","v":0},"-","-","-",null,{"$f":"ROUND((U97+AM97)*0.0569,2)","v":0},null,null,"-","-","-","-","-","-","-","-","-","-",0,{"$f":"ROUND(U97+Y97+Z97+AA97+AB97+AM97,2)","v":0},{"$f":"ROUND(L97*AN97,2)","v":0},"-","-","-","-"]
[null,2,"ВЛ 6 кВ на куст 3129.2 (габ. 6 кВ) Приразломное м/р. Правдинский (КС00091313)","ЛС 04-02-01","101-1513","Электроды диаметром 4 мм Э42","-",null,"т",null,"-",0.13402839999999999,"-",null,"-","-",null,"-",11058.49,{"$f":"НМЦ!$K$227","v":0},{"$f":"ROUND(S98*T98,2)","v":0},"-","-","-",null,{"$f":"ROUND((U98+AM98)*0.0569,2)","v":0},null,null,"-","-","-","-","-","-","-","-","-","-",0,{"$f":"ROUND(U98+Y98+Z98+AA98+AB98+AM98,2)","v":0},{"$f":"ROUND(L98*AN98,2)","v":0},"-","-","-","-"]
[null,3,"ВЛ 6 кВ на куст 3129.1 (габ.110 кВ) Приразломное м/р. Правдинский (КС00091309)","ЛС 04-01-02","101-1513","Электроды диаметром 4 мм Э42","-",null,"т",null,"-",2.3004000000000002E-3,"-",null,"-","-",null,"-",11058.49,{"$f":"НМЦ!$K$227","v":0},{"$f":"ROUND(S99*T99,2)","v":0},"-","-","-",null,{"$f":"ROUND((U99+AM99)*0.0569,2)","v":0},null,null,"-","-","-","-","-","-","-","-","-","-",0,{"$f":"ROUND(U99+Y99+Z99+AA99+AB99+AM99,2)","v":0},{"$f":"ROUND(L99*AN99,2)","v":0},"-","-","-","-"]
[null,15,null,null,"113-0250","Эмаль кремнийорганическая КО-88 серебристая термостойкая",null,null,"т",null,null,{"$f":"SUM(L101:L102)","v":0.12548999999999999},null,null,null,null,null,null,null,null,null,null,null,null,null,null,null,null,null,null,null,null,null,null,null,null,null,null,null,null,{"$f":"SUM(AO101:AO102)","v":0}]
[null,1,"ВЛ 6 кВ на куст 3129.1 (габ.110 кВ) Приразломное м/р. Правдинский (КС00091309)","ЛС 04-01-01","113-0250","Эмаль кремнийорганическая КО-88 серебристая термостойкая","-",null,"т",null,"-",7.6770000000000005E-2,"-",null,"-","-",null,"-",113779.3,null,null,"-","-","-",null,{"$f":"ROUND((U101+AM101)*0.0659,2)","v":0},null,null,"-","-","-","-","-","-","-","-","-","-",{"$f":"ROUND(U101*0.02,2)","v":0},{"$f":"ROUND(U101+Y101+Z101+AA101+AB101+AM101,2)","v":0},{"$f":"ROUND(L101*AN101,2)","v":0},"-","-","-","-"]
[null,2,"ВЛ 6 кВ на куст 3129.2 (габ. 6 кВ) Приразломное м/р. Правдинский (КС00091313)","ЛС 04-02-01","113-0250","Эмаль кремнийорганическая КО-88 серебристая термостойкая","-",null,"т",null,"-",4.8719999999999999E-2,"-",null,"-","-",null,"-",113779.3,null,null,"-","-","-",null,{"$f":"ROUND((U102+AM102)*0.0659,2)","v":0},null,null,"-","-","-","-","-","-","-","-","-","-",{"$f":"ROUND(U102*0.02,2)","v":0},{"$f":"ROUND(U102+Y102+Z102+AA102+AB102+AM102,2)","v":0},{"$f":"ROUND(L102*AN102,2)","v":0},"-","-","-","-"]
[null,16,null,null,"509-1772","Ушко двухлапчатое У2-7-16, У2К-7-16",null,null,"шт.",null,null,{"$f":"SUM(L104)","v":49},null,null,null,null,null,null,null,null,null,null,null,null,null,null,null,null,null,null,null,null,null,null,null,null,null,null,null,null,{"$f":"SUM(AO104)","v":0}]
[null,1,"ВЛ 6 кВ на куст 3129.1 (габ.110 кВ) Приразломное м/р. Правдинский (КС00091309)","ЛС 04-01-01","509-1772","Ушко двухлапчатое У2-7-16, У2К-7-16","-",null,"шт.",null,"-",49,"-",null,"-","-",null,"-",103.7,{"$f":"НМЦ!$K$227","v":0},{"$f":"ROUND(S104*T104,2)","v":0},"-","-","-",null,{"$f":"ROUND((U104+AM104)*0.0569,2)","v":0},null,null,"-","-","-","-","-","-","-","-","-","-",0,{"$f":"ROUND(U104+Y104+Z104+AA104+AB104+AM104,2)","v":0},{"$f":"ROUND(L104*AN104,2)","v":0},"-","-","-","-"]
[null,17,null,null,"Цена завода","Гаситель вибрации ГВП-0,8-9,1-350, цена 662:4,03.1,13",null,null,"шт.",null,null,{"$f":"SUM(L106)","v":23},null,null,null,null,null,null,null,null,null,null,null,null,null,null,null,null,null,null,null,null,null,null,null,null,null,null,null,null,{"$f":"SUM(AO106)","v":0}]
[null,1,"ВЛ 6 кВ на куст 3129.1 (габ.110 кВ) Приразломное м/р. Правдинский (КС00091309)","ЛС 04-01-01","Цена завода","Гаситель вибрации ГВП-0,8-9,1-350, цена 662:4,03.1,13","-",null,"шт.",null,"-",23,"-",null,"-","-",null,"-",185.68,{"$f":"НМЦ!$K$227","v":0},{"$f":"ROUND(S106*T106,2)","v":0},"-","-","-",null,0,null,null,"-","-","-","-","-","-","-","-","-","-",0,{"$f":"ROUND(U106+Y106+Z106+AA106+AB106+AM106,2)","v":0},{"$f":"ROUND(L106*AN106,2)","v":0},"-","-","-","-"]
[null,18,null,null,"509-1771","Ушко однолапчатое У1-7-16, У1К-7-16",null,null,"шт.",null,null,{"$f":"SUM(L108)","v":58},null,null,null,null,null,null,null,null,null,null,null,null,null,null,null,null,null,null,null,null,null,null,null,null,null,null,null,null,{"$f":"SUM(AO108)","v":0}]
[null,1,"ВЛ 6 кВ на куст 3129.1 (габ.110 кВ) Приразломное м/р. Правдинский (КС00091309)","ЛС 04-01-01","509-1771","Ушко однолапчатое У1-7-16, У1К-7-16","-",null,"шт.",null,"-",58,"-",null,"-","-",null,"-",65.680000000000007,{"$f":"НМЦ!$K$227","v":0},{"$f":"ROUND(S108*T108,2)","v":0},"-","-","-",null,{"$f":"ROUND((U108+AM108)*0.0569,2)","v":0},null,null,"-","-","-","-","-","-","-","-","-","-",0,{"$f":"ROUND(U108+Y108+Z108+AA108+AB108+AM108,2)","v":0},{"$f":"ROUND(L108*AN108,2)","v":0},"-","-","-","-"]
[null,19,null,null,"101-1518","Электроды диаметром 4 мм Э50А",null,null,"т",null,null,{"$f":"SUM(L110:L111)","v":0.29520000000000002},null,null,null,null,null,null,null,null,null,null,null,null,null,null,null,null,null,null,null,null,null,null,null,null,null,null,null,null,{"$f":"SUM(AO110:AO111)","v":0}]
[null,1,"ВЛ 6 кВ на куст 3129.1 (габ.110 кВ) Приразломное м/р. Правдинский (КС00091309)","ЛС 04-01-01","101-1518","Электроды диаметром 4 мм Э50А","-",null,"т",null,"-",0.23760000000000001,"-",null,"-","-",null,"-",12322.45,{"$f":"НМЦ!$K$227","v":0},{"$f":"ROUND(S110*T110,2)","v":0},"-","-","-",null,{"$f":"ROUND((U110+AM110)*0.0569,2)","v":0},null,null,"-","-","-","-","-","-","-","-","-","-",0,{"$f":"ROUND(U110+Y110+Z110+AA110+AB110+AM110,2)","v":0},{"$f":"ROUND(L110*AN110,2)","v":0},"-","-","-","-"]
[null,2,"ВЛ 6 кВ на куст 3129.2 (габ. 6 кВ) Приразломное м/р. Правдинский (КС00091313)","ЛС 04-02-01","101-1518","Электроды диаметром 4 мм Э50А","-",null,"т",null,"-",5.7599999999999998E-2,"-",null,"-","-",null,"-",12322.45,{"$f":"НМЦ!$K$227","v":0},{"$f":"ROUND(S111*T111,2)","v":0},"-","-","-",null,{"$f":"ROUND((U111+AM111)*0.0569,2)","v":0},null,null,"-","-","-","-","-","-","-","-","-","-",0,{"$f":"ROUND(U111+Y111+Z111+AA111+AB111+AM111,2)","v":0},{"$f":"ROUND(L111*AN111,2)","v":0},"-","-","-","-"]
[null,20,null,null,"Прайс-лист","Короб глухой металлический с крышкой 100х200х2000,цена 592,46:4,05.1,13",null,null,"шт.",null,null,{"$f":"SUM(L113)","v":23},null,null,null,null,null,null,null,null,null,null,null,null,null,null,null,null,null,null,null,null,null,null,null,null,null,null,null,null,{"$f":"SUM(AO113)","v":0}]
[null,1,"ВЛ 6 кВ на куст 3129.1 (габ.110 кВ) Приразломное м/р. Правдинский (КС00091309)","ЛС 04-01-02","Прайс-лист","Короб глухой металлический с крышкой 100х200х2000,цена 592,46:4,05.1,13","-",null,"шт.",null,"-",23,"-",null,"-","-",null,"-",165.3,{"$f":"НМЦ!$K$227","v":0},{"$f":"ROUND(S113*T113,2)","v":0},"-","-","-",null,0,null,null,"-","-","-","-","-","-","-","-","-","-",0,{"$f":"ROUND(U113+Y113+Z113+AA113+AB113+AM113,2)","v":0},{"$f":"ROUND(L113*AN113,2)","v":0},"-","-","-","-"]
[null,21,null,null,"Цена завода","Звено промежуточное трехлапчатое ПРТ-7-1",null,null,"шт.",null,null,{"$f":"SUM(L115:L116)","v":112},null,null,null,null,null,null,null,null,null,null,null,null,null,null,null,null,null,null,null,null,null,null,null,null,null,null,null,null,{"$f":"SUM(AO115:AO116)","v":0}]
[null,1,"ВЛ 6 кВ на куст 3129.2 (габ. 6 кВ) Приразломное м/р. Правдинский (КС00091313)","ЛС 04-02-01","Цена завода","Звено промежуточное трехлапчатое ПРТ-7-1","-",null,"шт.",null,"-",75,"-",null,"-","-",null,"-",32.869999999999997,{"$f":"НМЦ!$K$227","v":0},{"$f":"ROUND(S115*T115,2)","v":0},"-","-","-",null,0,null,null,"-","-","-","-","-","-","-","-","-","-",0,{"$f":"ROUND(U115+Y115+Z115+AA115+AB115+AM115,2)","v":0},{"$f":"ROUND(L115*AN115,2)","v":0},"-","-","-","-"]
[null,2,"ВЛ 6 кВ на куст 3129.1 (габ.110 кВ) Приразломное м/р. Правдинский (КС00091309)","ЛС 04-01-01","Цена завода","Звено промежуточное трехлапчатое ПРТ-7-1","-",null,"шт.",null,"-",37,"-",null,"-","-",null,"-",32.869999999999997,{"$f":"НМЦ!$K$227","v":0},{"$f":"ROUND(S116*T116,2)","v":0},"-","-","-",null,0,null,null,"-","-","-","-","-","-","-","-","-","-",0,{"$f":"ROUND(U116+Y116+Z116+AA116+AB116+AM116,2)","v":0},{"$f":"ROUND(L116*AN116,2)","v":0},"-","-","-","-"]
[null,22,null,null,"101-2557","Патроны термитные со спичками",null,null,"комплект",null,null,{"$f":"SUM(L118)","v":42},null,null,null,null,null,null,null,null,null,null,null,null,null,null,null,null,null,null,null,null,null,null,null,null,null,null,null,null,{"$f":"SUM(AO118)","v":0}]
[null,1,"ВЛ 6 кВ на куст 3129.1 (габ.110 кВ) Приразломное м/р. Правдинский (КС00091309)","ЛС 04-01-01","101-2557","Патроны термитные со спичками","-",null,"комплект",null,"-",42,"-",null,"-","-",null,"-",76.77,{"$f":"НМЦ!$K$227","v":0},{"$f":"ROUND(S118*T118,2)","v":0},"-","-","-",null,{"$f":"ROUND((U118+AM118)*0.0569,2)","v":0},null,null,"-","-","-","-","-","-","-","-","-","-",0,{"$f":"ROUND(U118+Y118+Z118+AA118+AB118+AM118,2)","v":0},{"$f":"ROUND(L118*AN118,2)","v":0},"-","-","-","-"]
[null,23,null,null,"Прайс-лист","Муфта концевая термоусаживаемая 10кВ для одножильного кабеля из сшитого полиэтилена наружной установки РОLT-12D/1XО-L12А, цена 6730:3,97.1,13:1,18",null,null,"комплект",null,null,{"$f":"SUM(L120)","v":2},null,null,null,null,null,null,null,null,null,null,null,null,null,null,null,null,null,null,null,null,null,null,null,null,null,null,null,null,{"$f":"SUM(AO120)","v":0}]
[null,1,"ВЛ 6 кВ на куст 3129.1 (габ.110 кВ) Приразломное м/р. Правдинский (КС00091309)","ЛС 04-01-02","Прайс-лист","Муфта концевая термоусаживаемая 10кВ для одножильного кабеля из сшитого полиэтилена наружной установки РОLT-12D/1XО-L12А, цена 6730:3,97.1,13:1,18","-",null,"комплект",null,"-",2,"-",null,"-","-",null,"-",1623.38,{"$f":"НМЦ!$K$227","v":0},{"$f":"ROUND(S120*T120,2)","v":0},"-","-","-",null,0,null,null,"-","-","-","-","-","-","-","-","-","-",0,{"$f":"ROUND(U120+Y120+Z120+AA120+AB120+AM120,2)","v":0},{"$f":"ROUND(L120*AN120,2)","v":0},"-","-","-","-"]
[null,24,null,null,"509-1768","Скоба СК-7-1А",null,null,"шт.",null,null,{"$f":"SUM(L122)","v":54},null,null,null,null,null,null,null,null,null,null,null,null,null,null,null,null,null,null,null,null,null,null,null,null,null,null,null,null,{"$f":"SUM(AO122)","v":0}]
[null,1,"ВЛ 6 кВ на куст 3129.1 (габ.110 кВ) Приразломное м/р. Правдинский (КС00091309)","ЛС 04-01-01","509-1768","Скоба СК-7-1А","-",null,"шт.",null,"-",54,"-",null,"-","-",null,"-",46.9,{"$f":"НМЦ!$K$227","v":0},{"$f":"ROUND(S122*T122,2)","v":0},"-","-","-",null,{"$f":"ROUND((U122+AM122)*0.0569,2)","v":0},null,null,"-","-","-","-","-","-","-","-","-","-",0,{"$f":"ROUND(U122+Y122+Z122+AA122+AB122+AM122,2)","v":0},{"$f":"ROUND(L122*AN122,2)","v":0},"-","-","-","-"]
[null,25,null,null,"101-1522","Электроды диаметром 5 мм Э42А",null,null,"т",null,null,{"$f":"SUM(L124:L126)","v":0.22777239999999999},null,null,null,null,null,null,null,null,null,null,null,null,null,null,null,null,null,null,null,null,null,null,null,null,null,null,null,null,{"$f":"SUM(AO124:AO126)","v":0}]
[null,1,"ВЛ 6 кВ на куст 3129.1 (габ.110 кВ) Приразломное м/р. Правдинский (КС00091309)","ЛС 04-01-01","101-1522","Электроды диаметром 5 мм Э42А","-",null,"т",null,"-",0.1807397,"-",null,"-","-",null,"-",11108.9,{"$f":"НМЦ!$K$227","v":0},{"$f":"ROUND(S124*T124,2)","v":0},"-","-","-",null,{"$f":"ROUND((U124+AM124)*0.0569,2)","v":0},null,null,"-","-","-","-","-","-","-","-","-","-",0,{"$f":"ROUND(U124+Y124+Z124+AA124+AB124+AM124,2)","v":0},{"$f":"ROUND(L124*AN124,2)","v":0},"-","-","-","-"]
[null,2,"ВЛ 6 кВ на куст 3129.2 (габ. 6 кВ) Приразломное м/р. Правдинский (КС00091313)","ЛС 04-02-01","101-1522","Электроды диаметром 5 мм Э42А","-",null,"т",null,"-",4.5402900000000003E-2,"-",null,"-","-",null,"-",11108.9,{"$f":"НМЦ!$K$227","v":0},{"$f":"ROUND(S125*T125,2)","v":0},"-","-","-",null,{"$f":"ROUND((U125+AM125)*0.0569,2)","v":0},null,null,"-","-","-","-","-","-","-","-","-","-",0,{"$f":"ROUND(U125+Y125+Z125+AA125+AB125+AM125,2)","v":0},{"$f":"ROUND(L125*AN125,2)","v":0},"-","-","-","-"]
[null,3,"ВЛ 6 кВ на куст 3129.1 (габ.110 кВ) Приразломное м/р. Правдинский (КС00091309)","ЛС 04-01-02","101-1522","Электроды диаметром 5 мм Э42А","-",null,"т",null,"-",1.6298E-3,"-",null,"-","-",null,"-",11108.9,{"$f":"НМЦ!$K$227","v":0},{"$f":"ROUND(S126*T126,2)","v":0},"-","-","-",null,{"$f":"ROUND((U126+AM126)*0.0569,2)","v":0},null,null,"-","-","-","-","-","-","-","-","-","-",0,{"$f":"ROUND(U126+Y126+Z126+AA126+AB126+AM126,2)","v":0},{"$f":"ROUND(L126*AN126,2)","v":0},"-","-","-","-"]
[null,26,null,null,"Цена завода","Узел крепления КГП-7-2Б, цена 187,98:4,03.1,13",null,null,"шт.",null,null,{"$f":"SUM(L128)","v":50},null,null,null,null,null,null,null,null,null,null,null,null,null,null,null,null,null,null,null,null,null,null,null,null,null,null,null,null,{"$f":"SUM(AO128)","v":0}]
[null,1,"ВЛ 6 кВ на куст 3129.1 (габ.110 кВ) Приразломное м/р. Правдинский (КС00091309)","ЛС 04-01-01","Цена завода","Узел крепления КГП-7-2Б, цена 187,98:4,03.1,13","-",null,"шт.",null,"-",50,"-",null,"-","-",null,"-",52.71,{"$f":"НМЦ!$K$227","v":0},{"$f":"ROUND(S128*T128,2)","v":0},"-","-","-",null,0,null,null,"-","-","-","-","-","-","-","-","-","-",0,{"$f":"ROUND(U128+Y128+Z128+AA128+AB128+AM128,2)","v":0},{"$f":"ROUND(L128*AN128,2)","v":0},"-","-","-","-"]
[null,27,null,null,"509-1771","Ушко однолапчатое У1-7-16",null,null,"шт.",null,null,{"$f":"SUM(L130)","v":37},null,null,null,null,null,null,null,null,null,null,null,null,null,null,null,null,null,null,null,null,null,null,null,null,null,null,null,null,{"$f":"SUM(AO130)","v":0}]
[null,1,"ВЛ 6 кВ на куст 3129.1 (габ.110 кВ) Приразломное м/р. Правдинский (КС00091309)","ЛС 04-01-01","509-1771","Ушко однолапчатое У1-7-16","-",null,"шт.",null,"-",37,"-",null,"-","-",null,"-",65.680000000000007,{"$f":"НМЦ!$K$227","v":0},{"$f":"ROUND(S130*T130,2)","v":0},"-","-","-",null,{"$f":"ROUND((U130+AM130)*0.0569,2)","v":0},null,null,"-","-","-","-","-","-","-","-","-","-",0,{"$f":"ROUND(U130+Y130+Z130+AA130+AB130+AM130,2)","v":0},{"$f":"ROUND(L130*AN130,2)","v":0},"-","-","-","-"]
[null,28,null,null,"110-0322","Звено промежуточное прямое ПР-7-6",null,null,"шт.",null,null,{"$f":"SUM(L132)","v":49},null,null,null,null,null,null,null,null,null,null,null,null,null,null,null,null,null,null,null,null,null,null,null,null,null,null,null,null,{"$f":"SUM(AO132)","v":0}]
[null,1,"ВЛ 6 кВ на куст 3129.1 (габ.110 кВ) Приразломное м/р. Правдинский (КС00091309)","ЛС 04-01-01","110-0322","Звено промежуточное прямое ПР-7-6","-",null,"шт.",null,"-",49,"-",null,"-","-",null,"-",45.17,{"$f":"НМЦ!$K$227","v":0},{"$f":"ROUND(S132*T132,2)","v":0},"-","-","-",null,{"$f":"ROUND((U132+AM132)*0.0569,2)","v":0},null,null,"-","-","-","-","-","-","-","-","-","-",0,{"$f":"ROUND(U132+Y132+Z132+AA132+AB132+AM132,2)","v":0},{"$f":"ROUND(L132*AN132,2)","v":0},"-","-","-","-"]
[null,29,null,null,"Прайс-лист","Муфта концевая термоусаживаемая 10кВ для одножильного кабеля из сшитого полиэтилена внутренней установки РОLT-12D/1XI-L12А, цена 4730:3,97.1,13:1,18",null,null,"комплект",null,null,{"$f":"SUM(L134)","v":2},null,null,null,null,null,null,null,null,null,null,null,null,null,null,null,null,null,null,null,null,null,null,null,null,null,null,null,null,{"$f":"SUM(AO134)","v":0}]
[null,1,"ВЛ 6 кВ на куст 3129.1 (габ.110 кВ) Приразломное м/р. Правдинский (КС00091309)","ЛС 04-01-02","Прайс-лист","Муфта концевая термоусаживаемая 10кВ для одножильного кабеля из сшитого полиэтилена внутренней установки РОLT-12D/1XI-L12А, цена 4730:3,97.1,13:1,18","-",null,"комплект",null,"-",2,"-",null,"-","-",null,"-",1140.95,{"$f":"НМЦ!$K$227","v":0},{"$f":"ROUND(S134*T134,2)","v":0},"-","-","-",null,0,null,null,"-","-","-","-","-","-","-","-","-","-",0,{"$f":"ROUND(U134+Y134+Z134+AA134+AB134+AM134,2)","v":0},{"$f":"ROUND(L134*AN134,2)","v":0},"-","-","-","-"]
[null,30,null,null,"102-0020","Лесоматериалы круглые березовые и мягких лиственных пород для строительства длиной 4-6,5 м, диаметром 12-24 см",null,null,"м3",null,null,{"$f":"SUM(L136)","v":4.1399999999999997},null,null,null,null,null,null,null,null,null,null,null,null,null,null,null,null,null,null,null,null,null,null,null,null,null,null,null,null,{"$f":"SUM(AO136)","v":0}]
[null,1,"ВЛ 6 кВ на куст 3129.1 (габ.110 кВ) Приразломное м/р. Правдинский (КС00091309)","ЛС 04-01-01","102-0020","Лесоматериалы круглые березовые и мягких лиственных пород для строительства длиной 4-6,5 м, диаметром 12-24 см","-",null,"м3",null,"-",4.1399999999999997,"-",null,"-","-",null,"-",490.37,null,null,"-","-","-",null,0,null,null,"-","-","-","-","-","-","-","-","-","-",0,{"$f":"ROUND(U136+Y136+Z136+AA136+AB136+AM136,2)","v":0},{"$f":"ROUND(L136*AN136,2)","v":0},"-","-","-","-"]
[null,31,null,null,"506-0853","Проволока из алюминия диаметром 3 мм",null,null,"т",null,null,{"$f":"SUM(L138:L139)","v":4.2220000000000001E-2},null,null,null,null,null,null,null,null,null,null,null,null,null,null,null,null,null,null,null,null,null,null,null,null,null,null,null,null,{"$f":"SUM(AO138:AO139)","v":0}]
[null,1,"ВЛ 6 кВ на куст 3129.2 (габ. 6 кВ) Приразломное м/р. Правдинский (КС00091313)","ЛС 04-02-01","506-0853","Проволока из алюминия диаметром 3 мм","-",null,"т",null,"-",3.1980000000000001E-2,"-",null,"-","-",null,"-",48459.13,{"$f":"НМЦ!$K$227","v":0},{"$f":"ROUND(S138*T138,2)","v":0},"-","-","-",null,{"$f":"ROUND((U138+AM138)*0.0569,2)","v":0},null,null,"-","-","-","-","-","-","-","-","-","-",0,{"$f":"ROUND(U138+Y138+Z138+AA138+AB138+AM138,2)","v":0},{"$f":"ROUND(L138*AN138,2)","v":0},"-","-","-","-"]
[null,2,"ВЛ 6 кВ на куст 3129.1 (габ.110 кВ) Приразломное м/р. Правдинский (КС00091309)","ЛС 04-01-01","506-0853","Проволока из алюминия диаметром 3 мм","-",null,"т",null,"-",1.0240000000000001E-2,"-",null,"-","-",null,"-",48459.13,{"$f":"НМЦ!$K$227","v":0},{"$f":"ROUND(S139*T139,2)","v":0},"-","-","-",null,{"$f":"ROUND((U139+AM139)*0.0569,2)","v":0},null,null,"-","-","-","-","-","-","-","-","-","-",0,{"$f":"ROUND(U139+Y139+Z139+AA139+AB139+AM139,2)","v":0},{"$f":"ROUND(L139*AN139,2)","v":0},"-","-","-","-"]
[null,32,null,null,"Цена завода","Ушко однолапчатое У1-7-16, цена 101,11:4,03.1,13",null,null,"шт.",null,null,{"$f":"SUM(L141)","v":75},null,null,null,null,null,null,null,null,null,null,null,null,null,null,null,null,null,null,null,null,null,null,null,null,null,null,null,null,{"$f":"SUM(AO141)","v":0}]
[null,1,"ВЛ 6 кВ на куст 3129.2 (габ. 6 кВ) Приразломное м/р. Правдинский (КС00091313)","ЛС 04-02-01","Цена завода","Ушко однолапчатое У1-7-16, цена 101,11:4,03.1,13","-",null,"шт.",null,"-",75,"-",null,"-","-",null,"-",28.35,{"$f":"НМЦ!$K$227","v":0},{"$f":"ROUND(S141*T141,2)","v":0},"-","-","-",null,0,null,null,"-","-","-","-","-","-","-","-","-","-",0,{"$f":"ROUND(U141+Y141+Z141+AA141+AB141+AM141,2)","v":0},{"$f":"ROUND(L141*AN141,2)","v":0},"-","-","-","-"]
[null,33,null,null,"101-1619","Сталь круглая углеродистая обыкновенного качества марки ВСт3пс5-1 диаметром 18 мм . Круг В18 ГОСТ 2590-2006",null,null,"т",null,null,{"$f":"SUM(L143)","v":0.28771200000000002},null,null,null,null,null,null,null,null,null,null,null,null,null,null,null,null,null,null,null,null,null,null,null,null,null,null,null,null,{"$f":"SUM(AO143)","v":0}]
[null,1,"ВЛ 6 кВ на куст 3129.1 (габ.110 кВ) Приразломное м/р. Правдинский (КС00091309)","ЛС 04-01-01","101-1619","Сталь круглая углеродистая обыкновенного качества марки ВСт3пс5-1 диаметром 18 мм . Круг В18 ГОСТ 2590-2006","-",null,"т",null,"-",0.28771200000000002,"-",null,"-","-",null,"-",6376.37,{"$f":"НМЦ!$K$227","v":0},{"$f":"ROUND(S143*T143,2)","v":0},"-","-","-",null,{"$f":"ROUND((U143+AM143)*0.0569,2)","v":0},null,null,"-","-","-","-","-","-","-","-","-","-",0,{"$f":"ROUND(U143+Y143+Z143+AA143+AB143+AM143,2)","v":0},{"$f":"ROUND(L143*AN143,2)","v":0},"-","-","-","-"]
[null,34,null,null,"101-1547","Эмаль кремнийорганическая КО-174 разных цветов",null,null,"т",null,null,{"$f":"SUM(L145)","v":8.5120000000000001E-2},null,null,null,null,null,null,null,null,null,null,null,null,null,null,null,null,null,null,null,null,null,null,null,null,null,null,null,null,{"$f":"SUM(AO145)","v":0}]
[null,1,"ВЛ 6 кВ на куст 3129.1 (габ.110 кВ) Приразломное м/р. Правдинский (КС00091309)","ЛС 04-01-01","101-1547","Эмаль кремнийорганическая КО-174 разных цветов","-",null,"т",null,"-",8.5120000000000001E-2,"-",null,"-","-",null,"-",41381.26,null,null,"-","-","-",null,{"$f":"ROUND((U145+AM145)*0.0659,2)","v":0},null,null,"-","-","-","-","-","-","-","-","-","-",{"$f":"ROUND(U145*0.02,2)","v":0},{"$f":"ROUND(U145+Y145+Z145+AA145+AB145+AM145,2)","v":0},{"$f":"ROUND(L145*AN145,2)","v":0},"-","-","-","-"]
[null,35,null,null,"Цена завода","Зажим поддерживающий ПГН-3-5, цена 146,37:4,03.1,13",null,null,"шт.",null,null,{"$f":"SUM(L147)","v":43},null,null,null,null,null,null,null,null,null,null,null,null,null,null,null,null,null,null,null,null,null,null,null,null,null,null,null,null,{"$f":"SUM(AO147)","v":0}]
[null,1,"ВЛ 6 кВ на куст 3129.1 (габ.110 кВ) Приразломное м/р. Правдинский (КС00091309)","ЛС 04-01-01","Цена завода","Зажим поддерживающий ПГН-3-5, цена 146,37:4,03.1,13","-",null,"шт.",null,"-",43,"-",null,"-","-",null,"-",41.04,{"$f":"НМЦ!$K$227","v":0},{"$f":"ROUND(S147*T147,2)","v":0},"-","-","-",null,0,null,null,"-","-","-","-","-","-","-","-","-","-",0,{"$f":"ROUND(U147+Y147+Z147+AA147+AB147+AM147,2)","v":0},{"$f":"ROUND(L147*AN147,2)","v":0},"-","-","-","-"]
[null,36,null,null,"Цена завода","Скоба СК-7-1А, цена 72,49:4,03.1,13",null,null,"шт.",null,null,{"$f":"SUM(L149)","v":75},null,null,null,null,null,null,null,null,null,null,null,null,null,null,null,null,null,null,null,null,null,null,null,null,null,null,null,null,{"$f":"SUM(AO149)","v":0}]
[null,1,"ВЛ 6 кВ на куст 3129.2 (габ. 6 кВ) Приразломное м/р. Правдинский (КС00091313)","ЛС 04-02-01","Цена завода","Скоба СК-7-1А, цена 72,49:4,03.1,13","-",null,"шт.",null,"-",75,"-",null,"-","-",null,"-",20.329999999999998,{"$f":"НМЦ!$K$227","v":0},{"$f":"ROUND(S149*T149,2)","v":0},"-","-","-",null,0,null,null,"-","-","-","-","-","-","-","-","-","-",0,{"$f":"ROUND(U149+Y149+Z149+AA149+AB149+AM149,2)","v":0},{"$f":"ROUND(L149*AN149,2)","v":0},"-","-","-","-"]
[null,37,null,null,"102-0024","Бруски обрезные хвойных пород длиной 4-6,5 м, шириной 75-150 мм, толщиной 40-75 мм, II сорта",null,null,"м3",null,null,{"$f":"SUM(L151:L152)","v":0.73659999999999992},null,null,null,null,null,null,null,null,null,null,null,null,null,null,null,null,null,null,null,null,null,null,null,null,null,null,null,null,{"$f":"SUM(AO151:AO152)","v":0}]
[null,1,"ВЛ 6 кВ на куст 3129.1 (габ.110 кВ) Приразломное м/р. Правдинский (КС00091309)","ЛС 04-01-01","102-0024","Бруски обрезные хвойных пород длиной 4-6,5 м, шириной 75-150 мм, толщиной 40-75 мм, II сорта","-",null,"м3",null,"-",0.69599999999999995,"-",null,"-","-",null,"-",1948.74,{"$f":"НМЦ!$K$227","v":0},{"$f":"ROUND(S151*T151,2)","v":0},"-","-","-",null,{"$f":"ROUND((U151+AM151)*0.0569,2)","v":0},null,null,"-","-","-","-","-","-","-","-","-","-",0,{"$f":"ROUND(U151+Y151+Z151+AA151+AB151+AM151,2)","v":0},{"$f":"ROUND(L151*AN151,2)","v":0},"-","-","-","-"]
[null,2,"ВЛ 6 кВ на куст 3129.2 (габ. 6 кВ) Приразломное м/р. Правдинский (КС00091313)","ЛС 04-02-01","102-0024","Бруски обрезные хвойных пород длиной 4-6,5 м, шириной 75-150 мм, толщиной 40-75 мм, II сорта","-",null,"м3",null,"-",4.0599999999999997E-2,"-",null,"-","-",null,"-",1948.74,{"$f":"НМЦ!$K$227","v":0},{"$f":"ROUND(S152*T152,2)","v":0},"-","-","-",null,{"$f":"ROUND((U152+AM152)*0.0569,2)","v":0},null,null,"-","-","-","-","-","-","-","-","-","-",0,{"$f":"ROUND(U152+Y152+Z152+AA152+AB152+AM152,2)","v":0},{"$f":"ROUND(L152*AN152,2)","v":0},"-","-","-","-"]
[null,38,null,null,"Цена завода","Зажим аппаратный А2А-120-2АТ(П), цена 104,99:4,03.1,13",null,null,"шт.",null,null,{"$f":"SUM(L154)","v":48},null,null,null,null,null,null,null,null,null,null,null,null,null,null,null,null,null,null,null,null,null,null,null,null,null,null,null,null,{"$f":"SUM(AO154)","v":0}]
[null,1,"ВЛ 6 кВ на куст 3129.1 (габ.110 кВ) Приразломное м/р. Правдинский (КС00091309)","ЛС 04-01-01","Цена завода","Зажим аппаратный А2А-120-2АТ(П), цена 104,99:4,03.1,13","-",null,"шт.",null,"-",48,"-",null,"-","-",null,"-",29.44,{"$f":"НМЦ!$K$227","v":0},{"$f":"ROUND(S154*T154,2)","v":0},"-","-","-",null,0,null,null,"-","-","-","-","-","-","-","-","-","-",0,{"$f":"ROUND(U154+Y154+Z154+AA154+AB154+AM154,2)","v":0},{"$f":"ROUND(L154*AN154,2)","v":0},"-","-","-","-"]
[null,39,null,null,"Цена завода","Серьга СРС-7-16, цена 56,32:4,03.1,13",null,null,"шт.",null,null,{"$f":"SUM(L156)","v":75},null,null,null,null,null,null,null,null,null,null,null,null,null,null,null,null,null,null,null,null,null,null,null,null,null,null,null,null,{"$f":"SUM(AO156)","v":0}]
[null,1,"ВЛ 6 кВ на куст 3129.2 (габ. 6 кВ) Приразломное м/р. Правдинский (КС00091313)","ЛС 04-02-01","Цена завода","Серьга СРС-7-16, цена 56,32:4,03.1,13","-",null,"шт.",null,"-",75,"-",null,"-","-",null,"-",15.79,{"$f":"НМЦ!$K$227","v":0},{"$f":"ROUND(S156*T156,2)","v":0},"-","-","-",null,0,null,null,"-","-","-","-","-","-","-","-","-","-",0,{"$f":"ROUND(U156+Y156+Z156+AA156+AB156+AM156,2)","v":0},{"$f":"ROUND(L156*AN156,2)","v":0},"-","-","-","-"]
[null,40,null,null,"509-2950","Серьга СР-12-16",null,null,"шт.",null,null,{"$f":"SUM(L158)","v":49},null,null,null,null,null,null,null,null,null,null,null,null,null,null,null,null,null,null,null,null,null,null,null,null,null,null,null,null,{"$f":"SUM(AO158)","v":0}]
[null,1,"ВЛ 6 кВ на куст 3129.1 (габ.110 кВ) Приразломное м/р. Правдинский (КС00091309)","ЛС 04-01-01","509-2950","Серьга СР-12-16","-",null,"шт.",null,"-",49,"-",null,"-","-",null,"-",22.2,{"$f":"НМЦ!$K$227","v":0},{"$f":"ROUND(S158*T158,2)","v":0},"-","-","-",null,{"$f":"ROUND((U158+AM158)*0.0569,2)","v":0},null,null,"-","-","-","-","-","-","-","-","-","-",0,{"$f":"ROUND(U158+Y158+Z158+AA158+AB158+AM158,2)","v":0},{"$f":"ROUND(L158*AN158,2)","v":0},"-","-","-","-"]
[null,41,null,null,"Цена завода","Зажим плашечный ПА-3-2А, цена 49,18:4,03.1,13",null,null,"шт.",null,null,{"$f":"SUM(L160:L161)","v":74},null,null,null,null,null,null,null,null,null,null,null,null,null,null,null,null,null,null,null,null,null,null,null,null,null,null,null,null,{"$f":"SUM(AO160:AO161)","v":0}]
[null,1,"ВЛ 6 кВ на куст 3129.2 (габ. 6 кВ) Приразломное м/р. Правдинский (КС00091313)","ЛС 04-02-01","Цена завода","Зажим плашечный ПА-3-2А, цена 49,18:4,03.1,13","-",null,"шт.",null,"-",43,"-",null,"-","-",null,"-",13.79,{"$f":"НМЦ!$K$227","v":0},{"$f":"ROUND(S160*T160,2)","v":0},"-","-","-",null,0,null,null,"-","-","-","-","-","-","-","-","-","-",0,{"$f":"ROUND(U160+Y160+Z160+AA160+AB160+AM160,2)","v":0},{"$f":"ROUND(L160*AN160,2)","v":0},"-","-","-","-"]
[null,2,"ВЛ 6 кВ на куст 3129.1 (габ.110 кВ) Приразломное м/р. Правдинский (КС00091309)","ЛС 04-01-01","Цена завода","Зажим плашечный ПА-3-2А, цена 49,18:4,03.1,13","-",null,"шт.",null,"-",31,"-",null,"-","-",null,"-",13.79,{"$f":"НМЦ!$K$227","v":0},{"$f":"ROUND(S161*T161,2)","v":0},"-","-","-",null,0,null,null,"-","-","-","-","-","-","-","-","-","-",0,{"$f":"ROUND(U161+Y161+Z161+AA161+AB161+AM161,2)","v":0},{"$f":"ROUND(L161*AN161,2)","v":0},"-","-","-","-"]
[null,42,null,null,"Прайс-лист","Арматура для непаянного соединения ЕАКТ1656, цена 1020:3,97.1,13:1,18",null,null,"комплект",null,null,{"$f":"SUM(L163)","v":4},null,null,null,null,null,null,null,null,null,null,null,null,null,null,null,null,null,null,null,null,null,null,null,null,null,null,null,null,{"$f":"SUM(AO163)","v":0}]
[null,1,"ВЛ 6 кВ на куст 3129.1 (габ.110 кВ) Приразломное м/р. Правдинский (КС00091309)","ЛС 04-01-02","Прайс-лист","Арматура для непаянного соединения ЕАКТ1656, цена 1020:3,97.1,13:1,18","-",null,"комплект",null,"-",4,"-",null,"-","-",null,"-",246.04,{"$f":"НМЦ!$K$227","v":0},{"$f":"ROUND(S163*T163,2)","v":0},"-","-","-",null,0,null,null,"-","-","-","-","-","-","-","-","-","-",0,{"$f":"ROUND(U163+Y163+Z163+AA163+AB163+AM163,2)","v":0},{"$f":"ROUND(L163*AN163,2)","v":0},"-","-","-","-"]
[null,43,null,null,"Цена завода","Зажим заземляющий ЗПС-50-3, цена 110,84:4,03.1,13",null,null,"шт.",null,null,{"$f":"SUM(L165)","v":31},null,null,null,null,null,null,null,null,null,null,null,null,null,null,null,null,null,null,null,null,null,null,null,null,null,null,null,null,{"$f":"SUM(AO165)","v":0}]
[null,1,"ВЛ 6 кВ на куст 3129.1 (габ.110 кВ) Приразломное м/р. Правдинский (КС00091309)","ЛС 04-01-01","Цена завода","Зажим заземляющий ЗПС-50-3, цена 110,84:4,03.1,13","-",null,"шт.",null,"-",31,"-",null,"-","-",null,"-",31.08,{"$f":"НМЦ!$K$227","v":0},{"$f":"ROUND(S165*T165,2)","v":0},"-","-","-",null,0,null,null,"-","-","-","-","-","-","-","-","-","-",0,{"$f":"ROUND(U165+Y165+Z165+AA165+AB165+AM165,2)","v":0},{"$f":"ROUND(L165*AN165,2)","v":0},"-","-","-","-"]
[null,44,null,null,"101-0324","Кислород технический газообразный",null,null,"м3",null,null,{"$f":"SUM(L167:L169)","v":73.491808000000006},null,null,null,null,null,null,null,null,null,null,null,null,null,null,null,null,null,null,null,null,null,null,null,null,null,null,null,null,{"$f":"SUM(AO167:AO169)","v":0}]
[null,1,"ВЛ 6 кВ на куст 3129.1 (габ.110 кВ) Приразломное м/р. Правдинский (КС00091309)","ЛС 04-01-01","101-0324","Кислород технический газообразный","-",null,"м3",null,"-",54.855716000000001,"-",null,"-","-",null,"-",11.75,{"$f":"НМЦ!$K$227","v":0},{"$f":"ROUND(S167*T167,2)","v":0},"-","-","-",null,{"$f":"ROUND((U167+AM167)*0.0569,2)","v":0},null,null,"-","-","-","-","-","-","-","-","-","-",0,{"$f":"ROUND(U167+Y167+Z167+AA167+AB167+AM167,2)","v":0},{"$f":"ROUND(L167*AN167,2)","v":0},"-","-","-","-"]
[null,2,"ВЛ 6 кВ на куст 3129.2 (габ. 6 кВ) Приразломное м/р. Правдинский (КС00091313)","ЛС 04-02-01","101-0324","Кислород технический газообразный","-",null,"м3",null,"-",17.495861999999999,"-",null,"-","-",null,"-",11.75,{"$f":"НМЦ!$K$227","v":0},{"$f":"ROUND(S168*T168,2)","v":0},"-","-","-",null,{"$f":"ROUND((U168+AM168)*0.0569,2)","v":0},null,null,"-","-","-","-","-","-","-","-","-","-",0,{"$f":"ROUND(U168+Y168+Z168+AA168+AB168+AM168,2)","v":0},{"$f":"ROUND(L168*AN168,2)","v":0},"-","-","-","-"]
[null,3,"ВЛ 6 кВ на куст 3129.1 (габ.110 кВ) Приразломное м/р. Правдинский (КС00091309)","ЛС 04-01-02","101-0324","Кислород технический газообразный","-",null,"м3",null,"-",1.1402300000000001,"-",null,"-","-",null,"-",11.75,{"$f":"НМЦ!$K$227","v":0},{"$f":"ROUND(S169*T169,2)","v":0},"-","-","-",null,{"$f":"ROUND((U169+AM169)*0.0569,2)","v":0},null,null,"-","-","-","-","-","-","-","-","-","-",0,{"$f":"ROUND(U169+Y169+Z169+AA169+AB169+AM169,2)","v":0},{"$f":"ROUND(L169*AN169,2)","v":0},"-","-","-","-"]
[null,45,null,null,"101-1714","Болты с гайками и шайбами строительные",null,null,"кг",null,null,{"$f":"SUM(L171:L173)","v":88.611100000000008},null,null,null,null,null,null,null,null,null,null,null,null,null,null,null,null,null,null,null,null,null,null,null,null,null,null,null,null,{"$f":"SUM(AO171:AO173)","v":0}]
[null,1,"ВЛ 6 кВ на куст 3129.1 (габ.110 кВ) Приразломное м/р. Правдинский (КС00091309)","ЛС 04-01-01","101-1714","Болты с гайками и шайбами строительные","-",null,"кг",null,"-",46.708800000000004,"-",null,"-","-",null,"-",9.6999999999999993,{"$f":"НМЦ!$K$227","v":0},{"$f":"ROUND(S171*T171,2)","v":0},"-","-","-",null,{"$f":"ROUND((U171+AM171)*0.0569,2)","v":0},null,null,"-","-","-","-","-","-","-","-","-","-",0,{"$f":"ROUND(U171+Y171+Z171+AA171+AB171+AM171,2)","v":0},{"$f":"ROUND(L171*AN171,2)","v":0},"-","-","-","-"]
[null,2,"ВЛ 6 кВ на куст 3129.2 (габ. 6 кВ) Приразломное м/р. Правдинский (КС00091313)","ЛС 04-02-01","101-1714","Болты с гайками и шайбами строительные","-",null,"кг",null,"-",37.681700000000006,"-",null,"-","-",null,"-",9.6999999999999993,{"$f":"НМЦ!$K$227","v":0},{"$f":"ROUND(S172*T172,2)","v":0},"-","-","-",null,{"$f":"ROUND((U172+AM172)*0.0569,2)","v":0},null,null,"-","-","-","-","-","-","-","-","-","-",0,{"$f":"ROUND(U172+Y172+Z172+AA172+AB172+AM172,2)","v":0},{"$f":"ROUND(L172*AN172,2)","v":0},"-","-","-","-"]
[null,3,"ВЛ 6 кВ на куст 3129.1 (габ.110 кВ) Приразломное м/р. Правдинский (КС00091309)","ЛС 04-01-02","101-1714","Болты с гайками и шайбами строительные","-",null,"кг",null,"-",4.2206000000000001,"-",null,"-","-",null,"-",9.6999999999999993,{"$f":"НМЦ!$K$227","v":0},{"$f":"ROUND(S173*T173,2)","v":0},"-","-","-",null,{"$f":"ROUND((U173+AM173)*0.0569,2)","v":0},null,null,"-","-","-","-","-","-","-","-","-","-",0,{"$f":"ROUND(U173+Y173+Z173+AA173+AB173+AM173,2)","v":0},{"$f":"ROUND(L173*AN173,2)","v":0},"-","-","-","-"]
[null,46,null,null,"101-0782","Поковки из квадратных заготовок, масса 1,8 кг",null,null,"т",null,null,{"$f":"SUM(L175:L177)","v":0.12065130000000002},null,null,null,null,null,null,null,null,null,null,null,null,null,null,null,null,null,null,null,null,null,null,null,null,null,null,null,null,{"$f":"SUM(AO175:AO177)","v":0}]
[null,1,"ВЛ 6 кВ на куст 3129.1 (габ.110 кВ) Приразломное м/р. Правдинский (КС00091309)","ЛС 04-01-01","101-0782","Поковки из квадратных заготовок, масса 1,8 кг","-",null,"т",null,"-",9.0759500000000007E-2,"-",null,"-","-",null,"-",6537.73,{"$f":"НМЦ!$K$227","v":0},{"$f":"ROUND(S175*T175,2)","v":0},"-","-","-",null,{"$f":"ROUND((U175+AM175)*0.0569,2)","v":0},null,null,"-","-","-","-","-","-","-","-","-","-",0,{"$f":"ROUND(U175+Y175+Z175+AA175+AB175+AM175,2)","v":0},{"$f":"ROUND(L175*AN175,2)","v":0},"-","-","-","-"]
[null,2,"ВЛ 6 кВ на куст 3129.2 (габ. 6 кВ) Приразломное м/р. Правдинский (КС00091313)","ЛС 04-02-01","101-0782","Поковки из квадратных заготовок, масса 1,8 кг","-",null,"т",null,"-",2.93298E-2,"-",null,"-","-",null,"-",6537.73,{"$f":"НМЦ!$K$227","v":0},{"$f":"ROUND(S176*T176,2)","v":0},"-","-","-",null,{"$f":"ROUND((U176+AM176)*0.0569,2)","v":0},null,null,"-","-","-","-","-","-","-","-","-","-",0,{"$f":"ROUND(U176+Y176+Z176+AA176+AB176+AM176,2)","v":0},{"$f":"ROUND(L176*AN176,2)","v":0},"-","-","-","-"]
[null,3,"ВЛ 6 кВ на куст 3129.1 (габ.110 кВ) Приразломное м/р. Правдинский (КС00091309)","ЛС 04-01-02","101-0782","Поковки из квадратных заготовок, масса 1,8 кг","-",null,"т",null,"-",5.62E-4,"-",null,"-","-",null,"-",6537.73,{"$f":"НМЦ!$K$227","v":0},{"$f":"ROUND(S177*T177,2)","v":0},"-","-","-",null,{"$f":"ROUND((U177+AM177)*0.0569,2)","v":0},null,null,"-","-","-","-","-","-","-","-","-","-",0,{"$f":"ROUND(U177+Y177+Z177+AA177+AB177+AM177,2)","v":0},{"$f":"ROUND(L177*AN177,2)","v":0},"-","-","-","-"]
[null,47,null,null,"Прайс-лист","Узел крепления кабеля 1-УК-1-3-245-УХЛ1, цена 228,6:4,05.1,13:1,18",null,null,"шт.",null,null,{"$f":"SUM(L179)","v":15},null,null,null,null,null,null,null,null,null,null,null,null,null,null,null,null,null,null,null,null,null,null,null,null,null,null,null,null,{"$f":"SUM(AO179)","v":0}]
[null,1,"ВЛ 6 кВ на куст 3129.1 (габ.110 кВ) Приразломное м/р. Правдинский (КС00091309)","ЛС 04-01-02","Прайс-лист","Узел крепления кабеля 1-УК-1-3-245-УХЛ1, цена 228,6:4,05.1,13:1,18","-",null,"шт.",null,"-",15,"-",null,"-","-",null,"-",54.05,{"$f":"НМЦ!$K$227","v":0},{"$f":"ROUND(S179*T179,2)","v":0},"-","-","-",null,0,null,null,"-","-","-","-","-","-","-","-","-","-",0,{"$f":"ROUND(U179+Y179+Z179+AA179+AB179+AM179,2)","v":0},{"$f":"ROUND(L179*AN179,2)","v":0},"-","-","-","-"]
[null,48,null,null,"Цена завода","Зажим аппаратный А2А-95-2АТ(П), цена 96,81:4,03.1,13",null,null,"шт.",null,null,{"$f":"SUM(L181)","v":25},null,null,null,null,null,null,null,null,null,null,null,null,null,null,null,null,null,null,null,null,null,null,null,null,null,null,null,null,{"$f":"SUM(AO181)","v":0}]
[null,1,"ВЛ 6 кВ на куст 3129.2 (габ. 6 кВ) Приразломное м/р. Правдинский (КС00091313)","ЛС 04-02-01","Цена завода","Зажим аппаратный А2А-95-2АТ(П), цена 96,81:4,03.1,13","-",null,"шт.",null,"-",25,"-",null,"-","-",null,"-",27.15,{"$f":"НМЦ!$K$227","v":0},{"$f":"ROUND(S181*T181,2)","v":0},"-","-","-",null,0,null,null,"-","-","-","-","-","-","-","-","-","-",0,{"$f":"ROUND(U181+Y181+Z181+AA181+AB181+AM181,2)","v":0},{"$f":"ROUND(L181*AN181,2)","v":0},"-","-","-","-"]
[null,49,null,null,"509-1719","Серьга СРС-7-16",null,null,"шт.",null,null,{"$f":"SUM(L183)","v":37},null,null,null,null,null,null,null,null,null,null,null,null,null,null,null,null,null,null,null,null,null,null,null,null,null,null,null,null,{"$f":"SUM(AO183)","v":0}]
[null,1,"ВЛ 6 кВ на куст 3129.1 (габ.110 кВ) Приразломное м/р. Правдинский (КС00091309)","ЛС 04-01-01","509-1719","Серьга СРС-7-16","-",null,"шт.",null,"-",37,"-",null,"-","-",null,"-",16.75,{"$f":"НМЦ!$K$227","v":0},{"$f":"ROUND(S183*T183,2)","v":0},"-","-","-",null,{"$f":"ROUND((U183+AM183)*0.0569,2)","v":0},null,null,"-","-","-","-","-","-","-","-","-","-",0,{"$f":"ROUND(U183+Y183+Z183+AA183+AB183+AM183,2)","v":0},{"$f":"ROUND(L183*AN183,2)","v":0},"-","-","-","-"]
[null,50,null,null,"Цена завода","Зажим плашечный ПА-4-1, цена 114,81:4,03.1,13",null,null,"шт.",null,null,{"$f":"SUM(L185)","v":19},null,null,null,null,null,null,null,null,null,null,null,null,null,null,null,null,null,null,null,null,null,null,null,null,null,null,null,null,{"$f":"SUM(AO185)","v":0}]
[null,1,"ВЛ 6 кВ на куст 3129.1 (габ.110 кВ) Приразломное м/р. Правдинский (КС00091309)","ЛС 04-01-01","Цена завода","Зажим плашечный ПА-4-1, цена 114,81:4,03.1,13","-",null,"шт.",null,"-",19,"-",null,"-","-",null,"-",32.19,{"$f":"НМЦ!$K$227","v":0},{"$f":"ROUND(S185*T185,2)","v":0},"-","-","-",null,0,null,null,"-","-","-","-","-","-","-","-","-","-",0,{"$f":"ROUND(U185+Y185+Z185+AA185+AB185+AM185,2)","v":0},{"$f":"ROUND(L185*AN185,2)","v":0},"-","-","-","-"]
[null,51,null,null,"Цена завода","Зажим аппаратный А1А-120-2АТ(П), цена 86,31:4,03.1,13",null,null,"шт.",null,null,{"$f":"SUM(L187)","v":24},null,null,null,null,null,null,null,null,null,null,null,null,null,null,null,null,null,null,null,null,null,null,null,null,null,null,null,null,{"$f":"SUM(AO187)","v":0}]
[null,1,"ВЛ 6 кВ на куст 3129.1 (габ.110 кВ) Приразломное м/р. Правдинский (КС00091309)","ЛС 04-01-01","Цена завода","Зажим аппаратный А1А-120-2АТ(П), цена 86,31:4,03.1,13","-",null,"шт.",null,"-",24,"-",null,"-","-",null,"-",24.2,{"$f":"НМЦ!$K$227","v":0},{"$f":"ROUND(S187*T187,2)","v":0},"-","-","-",null,0,null,null,"-","-","-","-","-","-","-","-","-","-",0,{"$f":"ROUND(U187+Y187+Z187+AA187+AB187+AM187,2)","v":0},{"$f":"ROUND(L187*AN187,2)","v":0},"-","-","-","-"]
[null,52,null,null,"509-3610","Полка кабельная оцинкованная К-1163ц . К-1163цУТ1,5",null,null,"1000 шт.",null,null,{"$f":"SUM(L189)","v":2.8000000000000001E-2},null,null,null,null,null,null,null,null,null,null,null,null,null,null,null,null,null,null,null,null,null,null,null,null,null,null,null,null,{"$f":"SUM(AO189)","v":0}]
[null,1,"ВЛ 6 кВ на куст 3129.1 (габ.110 кВ) Приразломное м/р. Правдинский (КС00091309)","ЛС 04-01-02","509-3610","Полка кабельная оцинкованная К-1163ц . К-1163цУТ1,5","-",null,"1000 шт.",null,"-",2.8000000000000001E-2,"-",null,"-","-",null,"-",19388.57,{"$f":"НМЦ!$K$227","v":0},{"$f":"ROUND(S189*T189,2)","v":0},"-","-","-",null,{"$f":"ROUND((U189+AM189)*0.0569,2)","v":0},null,null,"-","-","-","-","-","-","-","-","-","-",0,{"$f":"ROUND(U189+Y189+Z189+AA189+AB189+AM189,2)","v":0},{"$f":"ROUND(L189*AN189,2)","v":0},"-","-","-","-"]
[null,53,null,null,"102-8009","Доски дубовые II сорта",null,null,"м3",null,null,{"$f":"SUM(L191:L192)","v":0.2697},null,null,null,null,null,null,null,null,null,null,null,null,null,null,null,null,null,null,null,null,null,null,null,null,null,null,null,null,{"$f":"SUM(AO191:AO192)","v":0}]
[null,1,"ВЛ 6 кВ на куст 3129.1 (габ.110 кВ) Приразломное м/р. Правдинский (КС00091309)","ЛС 04-01-01","102-8009","Доски дубовые II сорта","-",null,"м3",null,"-",0.24360000000000001,"-",null,"-","-",null,"-",1893.34,{"$f":"НМЦ!$K$227","v":0},{"$f":"ROUND(S191*T191,2)","v":0},"-","-","-",null,{"$f":"ROUND((U191+AM191)*0.0569,2)","v":0},null,null,"-","-","-","-","-","-","-","-","-","-",0,{"$f":"ROUND(U191+Y191+Z191+AA191+AB191+AM191,2)","v":0},{"$f":"ROUND(L191*AN191,2)","v":0},"-","-","-","-"]
[null,2,"ВЛ 6 кВ на куст 3129.2 (габ. 6 кВ) Приразломное м/р. Правдинский (КС00091313)","ЛС 04-02-01","102-8009","Доски дубовые II сорта","-",null,"м3",null,"-",2.6100000000000002E-2,"-",null,"-","-",null,"-",1893.34,{"$f":"НМЦ!$K$227","v":0},{"$f":"ROUND(S192*T192,2)","v":0},"-","-","-",null,{"$f":"ROUND((U192+AM192)*0.0569,2)","v":0},null,null,"-","-","-","-","-","-","-","-","-","-",0,{"$f":"ROUND(U192+Y192+Z192+AA192+AB192+AM192,2)","v":0},{"$f":"ROUND(L192*AN192,2)","v":0},"-","-","-","-"]
[null,54,null,null,"101-1617","Сталь круглая углеродистая обыкновенного качества марки ВСт3пс5-1 диаметром 12 мм",null,null,"т",null,null,{"$f":"SUM(L194:L195)","v":7.9902000000000001E-2},null,null,null,null,null,null,null,null,null,null,null,null,null,null,null,null,null,null,null,null,null,null,null,null,null,null,null,null,{"$f":"SUM(AO194:AO195)","v":0}]
[null,1,"ВЛ 6 кВ на куст 3129.1 (габ.110 кВ) Приразломное м/р. Правдинский (КС00091309)","ЛС 04-01-01","101-1617","Сталь круглая углеродистая обыкновенного качества марки ВСт3пс5-1 диаметром 12 мм","-",null,"т",null,"-",5.3268000000000003E-2,"-",null,"-","-",null,"-",6366.03,{"$f":"НМЦ!$K$227","v":0},{"$f":"ROUND(S194*T194,2)","v":0},"-","-","-",null,{"$f":"ROUND((U194+AM194)*0.0569,2)","v":0},null,null,"-","-","-","-","-","-","-","-","-","-",0,{"$f":"ROUND(U194+Y194+Z194+AA194+AB194+AM194,2)","v":0},{"$f":"ROUND(L194*AN194,2)","v":0},"-","-","-","-"]
[null,2,"ВЛ 6 кВ на куст 3129.2 (габ. 6 кВ) Приразломное м/р. Правдинский (КС00091313)","ЛС 04-02-01","101-1617","Сталь круглая углеродистая обыкновенного качества марки ВСт3пс5-1 диаметром 12 мм","-",null,"т",null,"-",2.6634000000000001E-2,"-",null,"-","-",null,"-",6366.03,{"$f":"НМЦ!$K$227","v":0},{"$f":"ROUND(S195*T195,2)","v":0},"-","-","-",null,{"$f":"ROUND((U195+AM195)*0.0569,2)","v":0},null,null,"-","-","-","-","-","-","-","-","-","-",0,{"$f":"ROUND(U195+Y195+Z195+AA195+AB195+AM195,2)","v":0},{"$f":"ROUND(L195*AN195,2)","v":0},"-","-","-","-"]
[null,55,null,null,"509-3616","Стойка кабельная оцинкованная К-1150ц . К-1150цУТ1,5",null,null,"1000 шт.",null,null,{"$f":"SUM(L197)","v":2.8000000000000001E-2},null,null,null,null,null,null,null,null,null,null,null,null,null,null,null,null,null,null,null,null,null,null,null,null,null,null,null,null,{"$f":"SUM(AO197)","v":0}]
[null,1,"ВЛ 6 кВ на куст 3129.1 (габ.110 кВ) Приразломное м/р. Правдинский (КС00091309)","ЛС 04-01-02","509-3616","Стойка кабельная оцинкованная К-1150ц . К-1150цУТ1,5","-",null,"1000 шт.",null,"-",2.8000000000000001E-2,"-",null,"-","-",null,"-",18096.009999999998,{"$f":"НМЦ!$K$227","v":0},{"$f":"ROUND(S197*T197,2)","v":0},"-","-","-",null,{"$f":"ROUND((U197+AM197)*0.0569,2)","v":0},null,null,"-","-","-","-","-","-","-","-","-","-",0,{"$f":"ROUND(U197+Y197+Z197+AA197+AB197+AM197,2)","v":0},{"$f":"ROUND(L197*AN197,2)","v":0},"-","-","-","-"]
[null,56,null,null,"502-0791","Соединители овальные марки СОАС-120-3",null,null,"шт.",null,null,{"$f":"SUM(L199)","v":6},null,null,null,null,null,null,null,null,null,null,null,null,null,null,null,null,null,null,null,null,null,null,null,null,null,null,null,null,{"$f":"SUM(AO199)","v":0}]
[null,1,"ВЛ 6 кВ на куст 3129.1 (габ.110 кВ) Приразломное м/р. Правдинский (КС00091309)","ЛС 04-01-01","502-0791","Соединители овальные марки СОАС-120-3","-",null,"шт.",null,"-",6,"-",null,"-","-",null,"-",83.55,{"$f":"НМЦ!$K$227","v":0},{"$f":"ROUND(S199*T199,2)","v":0},"-","-","-",null,{"$f":"ROUND((U199+AM199)*0.0569,2)","v":0},null,null,"-","-","-","-","-","-","-","-","-","-",0,{"$f":"ROUND(U199+Y199+Z199+AA199+AB199+AM199,2)","v":0},{"$f":"ROUND(L199*AN199,2)","v":0},"-","-","-","-"]
[null,57,null,null,"Цена завода","Шнек буровой диаметром 300мм ШБ 300х114/1400/200-Т90, цена 10860:3,61.1,13",null,null,"шт.",null,null,{"$f":"SUM(L201)","v":0.13524},null,null,null,null,null,null,null,null,null,null,null,null,null,null,null,null,null,null,null,null,null,null,null,null,null,null,null,null,{"$f":"SUM(AO201)","v":0}]
[null,1,"ВЛ 6 кВ на куст 3129.1 (габ.110 кВ) Приразломное м/р. Правдинский (КС00091309)","ЛС 04-01-01","Цена завода","Шнек буровой диаметром 300мм ШБ 300х114/1400/200-Т90, цена 10860:3,61.1,13","-",null,"шт.",null,"-",0.13524,"-",null,"-","-",null,"-",3399.39,{"$f":"НМЦ!$K$227","v":0},{"$f":"ROUND(S201*T201,2)","v":0},"-","-","-",null,0,null,null,"-","-","-","-","-","-","-","-","-","-",0,{"$f":"ROUND(U201+Y201+Z201+AA201+AB201+AM201,2)","v":0},{"$f":"ROUND(L201*AN201,2)","v":0},"-","-","-","-"]
[null,58,null,null,"Цена завода","Зажим ответвительный прессуемый ОА-120Т-2, цена 220,43:4,03.1,13",null,null,"шт.",null,null,{"$f":"SUM(L203)","v":7},null,null,null,null,null,null,null,null,null,null,null,null,null,null,null,null,null,null,null,null,null,null,null,null,null,null,null,null,{"$f":"SUM(AO203)","v":0}]
[null,1,"ВЛ 6 кВ на куст 3129.2 (габ. 6 кВ) Приразломное м/р. Правдинский (КС00091313)","ЛС 04-02-01","Цена завода","Зажим ответвительный прессуемый ОА-120Т-2, цена 220,43:4,03.1,13","-",null,"шт.",null,"-",7,"-",null,"-","-",null,"-",61.81,{"$f":"НМЦ!$K$227","v":0},{"$f":"ROUND(S203*T203,2)","v":0},"-","-","-",null,0,null,null,"-","-","-","-","-","-","-","-","-","-",0,{"$f":"ROUND(U203+Y203+Z203+AA203+AB203+AM203,2)","v":0},{"$f":"ROUND(L203*AN203,2)","v":0},"-","-","-","-"]
[null,59,null,null,"Цена завода","Зажим натяжной НКК-1-1Б, цена 185,44:4,03.1,13",null,null,"шт.",null,null,{"$f":"SUM(L205)","v":8},null,null,null,null,null,null,null,null,null,null,null,null,null,null,null,null,null,null,null,null,null,null,null,null,null,null,null,null,{"$f":"SUM(AO205)","v":0}]
[null,1,"ВЛ 6 кВ на куст 3129.1 (габ.110 кВ) Приразломное м/р. Правдинский (КС00091309)","ЛС 04-01-01","Цена завода","Зажим натяжной НКК-1-1Б, цена 185,44:4,03.1,13","-",null,"шт.",null,"-",8,"-",null,"-","-",null,"-",52,{"$f":"НМЦ!$K$227","v":0},{"$f":"ROUND(S205*T205,2)","v":0},"-","-","-",null,0,null,null,"-","-","-","-","-","-","-","-","-","-",0,{"$f":"ROUND(U205+Y205+Z205+AA205+AB205+AM205,2)","v":0},{"$f":"ROUND(L205*AN205,2)","v":0},"-","-","-","-"]
[null,60,null,null,"101-2468","Растворитель марки Р-5",null,null,"т",null,null,{"$f":"SUM(L207:L208)","v":2.5097999999999999E-2},null,null,null,null,null,null,null,null,null,null,null,null,null,null,null,null,null,null,null,null,null,null,null,null,null,null,null,null,{"$f":"SUM(AO207:AO208)","v":0}]
[null,1,"ВЛ 6 кВ на куст 3129.1 (габ.110 кВ) Приразломное м/р. Правдинский (КС00091309)","ЛС 04-01-01","101-2468","Растворитель марки Р-5","-",null,"т",null,"-",1.5354E-2,"-",null,"-","-",null,"-",14863,{"$f":"НМЦ!$K$227","v":0},{"$f":"ROUND(S207*T207,2)","v":0},"-","-","-",null,{"$f":"ROUND((U207+AM207)*0.0569,2)","v":0},null,null,"-","-","-","-","-","-","-","-","-","-",0,{"$f":"ROUND(U207+Y207+Z207+AA207+AB207+AM207,2)","v":0},{"$f":"ROUND(L207*AN207,2)","v":0},"-","-","-","-"]
[null,2,"ВЛ 6 кВ на куст 3129.2 (габ. 6 кВ) Приразломное м/р. Правдинский (КС00091313)","ЛС 04-02-01","101-2468","Растворитель марки Р-5","-",null,"т",null,"-",9.7439999999999992E-3,"-",null,"-","-",null,"-",14863,{"$f":"НМЦ!$K$227","v":0},{"$f":"ROUND(S208*T208,2)","v":0},"-","-","-",null,{"$f":"ROUND((U208+AM208)*0.0569,2)","v":0},null,null,"-","-","-","-","-","-","-","-","-","-",0,{"$f":"ROUND(U208+Y208+Z208+AA208+AB208+AM208,2)","v":0},{"$f":"ROUND(L208*AN208,2)","v":0},"-","-","-","-"]
[null,61,null,null,"101-1619","Сталь круглая углеродистая обыкновенного качества марки ВСт3пс5-1 диаметром 18 мм. Круг В18 ГОСТ 2590-2006",null,null,"т",null,null,{"$f":"SUM(L210)","v":4.7952000000000002E-2},null,null,null,null,null,null,null,null,null,null,null,null,null,null,null,null,null,null,null,null,null,null,null,null,null,null,null,null,{"$f":"SUM(AO210)","v":0}]
[null,1,"ВЛ 6 кВ на куст 3129.2 (габ. 6 кВ) Приразломное м/р. Правдинский (КС00091313)","ЛС 04-02-01","101-1619","Сталь круглая углеродистая обыкновенного качества марки ВСт3пс5-1 диаметром 18 мм. Круг В18 ГОСТ 2590-2006","-",null,"т",null,"-",4.7952000000000002E-2,"-",null,"-","-",null,"-",6376.37,{"$f":"НМЦ!$K$227","v":0},{"$f":"ROUND(S210*T210,2)","v":0},"-","-","-",null,{"$f":"ROUND((U210+AM210)*0.0569,2)","v":0},null,null,"-","-","-","-","-","-","-","-","-","-",0,{"$f":"ROUND(U210+Y210+Z210+AA210+AB210+AM210,2)","v":0},{"$f":"ROUND(L210*AN210,2)","v":0},"-","-","-","-"]
[null,62,null,null,"Цена завода","Зажим аппаратный А1А-95-2АТ(П), цена 83,03:4,03.1,13",null,null,"шт.",null,null,{"$f":"SUM(L212)","v":13},null,null,null,null,null,null,null,null,null,null,null,null,null,null,null,null,null,null,null,null,null,null,null,null,null,null,null,null,{"$f":"SUM(AO212)","v":0}]
[null,1,"ВЛ 6 кВ на куст 3129.2 (габ. 6 кВ) Приразломное м/р. Правдинский (КС00091313)","ЛС 04-02-01","Цена завода","Зажим аппаратный А1А-95-2АТ(П), цена 83,03:4,03.1,13","-",null,"шт.",null,"-",13,"-",null,"-","-",null,"-",23.28,{"$f":"НМЦ!$K$227","v":0},{"$f":"ROUND(S212*T212,2)","v":0},"-","-","-",null,0,null,null,"-","-","-","-","-","-","-","-","-","-",0,{"$f":"ROUND(U212+Y212+Z212+AA212+AB212+AM212,2)","v":0},{"$f":"ROUND(L212*AN212,2)","v":0},"-","-","-","-"]
[null,63,null,null,"509-1935","Зажим поддерживающий ПГН-2-6",null,null,"шт.",null,null,{"$f":"SUM(L214)","v":8},null,null,null,null,null,null,null,null,null,null,null,null,null,null,null,null,null,null,null,null,null,null,null,null,null,null,null,null,{"$f":"SUM(AO214)","v":0}]
[null,1,"ВЛ 6 кВ на куст 3129.1 (габ.110 кВ) Приразломное м/р. Правдинский (КС00091309)","ЛС 04-01-01","509-1935","Зажим поддерживающий ПГН-2-6","-",null,"шт.",null,"-",8,"-",null,"-","-",null,"-",29.6,{"$f":"НМЦ!$K$227","v":0},{"$f":"ROUND(S214*T214,2)","v":0},"-","-","-",null,{"$f":"ROUND((U214+AM214)*0.0569,2)","v":0},null,null,"-","-","-","-","-","-","-","-","-","-",0,{"$f":"ROUND(U214+Y214+Z214+AA214+AB214+AM214,2)","v":0},{"$f":"ROUND(L214*AN214,2)","v":0},"-","-","-","-"]
[null,64,null,null,"101-0388","Краски масляные земляные марки МА-0115 мумия, сурик железный",null,null,"т",null,null,{"$f":"SUM(L216:L217)","v":8.0479999999999996E-3},null,null,null,null,null,null,null,null,null,null,null,null,null,null,null,null,null,null,null,null,null,null,null,null,null,null,null,null,{"$f":"SUM(AO216:AO217)","v":0}]
[null,1,"ВЛ 6 кВ на куст 3129.1 (габ.110 кВ) Приразломное м/р. Правдинский (КС00091309)","ЛС 04-01-01","101-0388","Краски масляные земляные марки МА-0115 мумия, сурик железный","-",null,"т",null,"-",6.4779E-3,"-",null,"-","-",null,"-",20274.98,{"$f":"НМЦ!$K$227","v":0},{"$f":"ROUND(S216*T216,2)","v":0},"-","-","-",null,{"$f":"ROUND((U216+AM216)*0.0569,2)","v":0},null,null,"-","-","-","-","-","-","-","-","-","-",0,{"$f":"ROUND(U216+Y216+Z216+AA216+AB216+AM216,2)","v":0},{"$f":"ROUND(L216*AN216,2)","v":0},"-","-","-","-"]
[null,2,"ВЛ 6 кВ на куст 3129.2 (габ. 6 кВ) Приразломное м/р. Правдинский (КС00091313)","ЛС 04-02-01","101-0388","Краски масляные земляные марки МА-0115 мумия, сурик железный","-",null,"т",null,"-",1.5701000000000001E-3,"-",null,"-","-",null,"-",20274.98,{"$f":"НМЦ!$K$227","v":0},{"$f":"ROUND(S217*T217,2)","v":0},"-","-","-",null,{"$f":"ROUND((U217+AM217)*0.0569,2)","v":0},null,null,"-","-","-","-","-","-","-","-","-","-",0,{"$f":"ROUND(U217+Y217+Z217+AA217+AB217+AM217,2)","v":0},{"$f":"ROUND(L217*AN217,2)","v":0},"-","-","-","-"]
[null,65,null,null,"101-0816","Проволока светлая диаметром 1,1 мм",null,null,"т",null,null,{"$f":"SUM(L219)","v":1.4999999999999999E-2},null,null,null,null,null,null,null,null,null,null,null,null,null,null,null,null,null,null,null,null,null,null,null,null,null,null,null,null,{"$f":"SUM(AO219)","v":0}]
[null,1,"ВЛ 6 кВ на куст 3129.1 (габ.110 кВ) Приразломное м/р. Правдинский (КС00091309)","ЛС 04-01-01","101-0816","Проволока светлая диаметром 1,1 мм","-",null,"т",null,"-",1.4999999999999999E-2,"-",null,"-","-",null,"-",10836.68,{"$f":"НМЦ!$K$227","v":0},{"$f":"ROUND(S219*T219,2)","v":0},"-","-","-",null,{"$f":"ROUND((U219+AM219)*0.0569,2)","v":0},null,null,"-","-","-","-","-","-","-","-","-","-",0,{"$f":"ROUND(U219+Y219+Z219+AA219+AB219+AM219,2)","v":0},{"$f":"ROUND(L219*AN219,2)","v":0},"-","-","-","-"]
[null,66,null,null,"101-1292","Уайт-спирит",null,null,"т",null,null,{"$f":"SUM(L221:L223)","v":1.2640999999999999E-2},null,null,null,null,null,null,null,null,null,null,null,null,null,null,null,null,null,null,null,null,null,null,null,null,null,null,null,null,{"$f":"SUM(AO221:AO223)","v":0}]
[null,1,"ВЛ 6 кВ на куст 3129.2 (габ. 6 кВ) Приразломное м/р. Правдинский (КС00091313)","ЛС 04-02-01","101-1292","Уайт-спирит","-",null,"т",null,"-",8.0286000000000003E-3,"-",null,"-","-",null,"-",12417.07,{"$f":"НМЦ!$K$227","v":0},{"$f":"ROUND(S221*T221,2)","v":0},"-","-","-",null,{"$f":"ROUND((U221+AM221)*0.0569,2)","v":0},null,null,"-","-","-","-","-","-","-","-","-","-",0,{"$f":"ROUND(U221+Y221+Z221+AA221+AB221+AM221,2)","v":0},{"$f":"ROUND(L221*AN221,2)","v":0},"-","-","-","-"]
[null,2,"ВЛ 6 кВ на куст 3129.1 (габ.110 кВ) Приразломное м/р. Правдинский (КС00091309)","ЛС 04-01-01","101-1292","Уайт-спирит","-",null,"т",null,"-",3.5400000000000002E-3,"-",null,"-","-",null,"-",12417.07,{"$f":"НМЦ!$K$227","v":0},{"$f":"ROUND(S222*T222,2)","v":0},"-","-","-",null,{"$f":"ROUND((U222+AM222)*0.0569,2)","v":0},null,null,"-","-","-","-","-","-","-","-","-","-",0,{"$f":"ROUND(U222+Y222+Z222+AA222+AB222+AM222,2)","v":0},{"$f":"ROUND(L222*AN222,2)","v":0},"-","-","-","-"]
[null,3,"ВЛ 6 кВ на куст 3129.1 (габ.110 кВ) Приразломное м/р. Правдинский (КС00091309)","ЛС 04-01-02","101-1292","Уайт-спирит","-",null,"т",null,"-",1.0724E-3,"-",null,"-","-",null,"-",12417.07,{"$f":"НМЦ!$K$227","v":0},{"$f":"ROUND(S223*T223,2)","v":0},"-","-","-",null,{"$f":"ROUND((U223+AM223)*0.0569,2)","v":0},null,null,"-","-","-","-","-","-","-","-","-","-",0,{"$f":"ROUND(U223+Y223+Z223+AA223+AB223+AM223,2)","v":0},{"$f":"ROUND(L223*AN223,2)","v":0},"-","-","-","-"]
[null,67,null,null,"509-2949","Серьга СР-7-16",null,null,"шт.",null,null,{"$f":"SUM(L225)","v":9},null,null,null,null,null,null,null,null,null,null,null,null,null,null,null,null,null,null,null,null,null,null,null,null,null,null,null,null,{"$f":"SUM(AO225)","v":0}]
[null,1,"ВЛ 6 кВ на куст 3129.1 (габ.110 кВ) Приразломное м/р. Правдинский (КС00091309)","ЛС 04-01-01","509-2949","Серьга СР-7-16","-",null,"шт.",null,"-",9,"-",null,"-","-",null,"-",15.65,{"$f":"НМЦ!$K$227","v":0},{"$f":"ROUND(S225*T225,2)","v":0},"-","-","-",null,{"$f":"ROUND((U225+AM225)*0.0569,2)","v":0},null,null,"-","-","-","-","-","-","-","-","-","-",0,{"$f":"ROUND(U225+Y225+Z225+AA225+AB225+AM225,2)","v":0},{"$f":"ROUND(L225*AN225,2)","v":0},"-","-","-","-"]
[null,68,null,null,"506-1362","Припои оловянно-свинцовые бессурьмянистые марки ПОС30",null,null,"кг",null,null,{"$f":"SUM(L227)","v":1.1000000000000001},null,null,null,null,null,null,null,null,null,null,null,null,null,null,null,null,null,null,null,null,null,null,null,null,null,null,null,null,{"$f":"SUM(AO227)","v":0}]
[null,1,"ВЛ 6 кВ на куст 3129.1 (габ.110 кВ) Приразломное м/р. Правдинский (КС00091309)","ЛС 04-01-02","506-1362","Припои оловянно-свинцовые бессурьмянистые марки ПОС30","-",null,"кг",null,"-",1.1000000000000001,"-",null,"-","-",null,"-",113.68,{"$f":"НМЦ!$K$227","v":0},{"$f":"ROUND(S227*T227,2)","v":0},"-","-","-",null,{"$f":"ROUND((U227+AM227)*0.0569,2)","v":0},null,null,"-","-","-","-","-","-","-","-","-","-",0,{"$f":"ROUND(U227+Y227+Z227+AA227+AB227+AM227,2)","v":0},{"$f":"ROUND(L227*AN227,2)","v":0},"-","-","-","-"]
[null,69,null,null,"101-0865","Роли свинцовые марки С1 толщиной 1,0 мм",null,null,"т",null,null,{"$f":"SUM(L229)","v":2.728E-3},null,null,null,null,null,null,null,null,null,null,null,null,null,null,null,null,null,null,null,null,null,null,null,null,null,null,null,null,{"$f":"SUM(AO229)","v":0}]
[null,1,"ВЛ 6 кВ на куст 3129.1 (габ.110 кВ) Приразломное м/р. Правдинский (КС00091309)","ЛС 04-01-02","101-0865","Роли свинцовые марки С1 толщиной 1,0 мм","-",null,"т",null,"-",2.728E-3,"-",null,"-","-",null,"-",43143.360000000001,{"$f":"НМЦ!$K$227","v":0},{"$f":"ROUND(S229*T229,2)","v":0},"-","-","-",null,{"$f":"ROUND((U229+AM229)*0.0569,2)","v":0},null,null,"-","-","-","-","-","-","-","-","-","-",0,{"$f":"ROUND(U229+Y229+Z229+AA229+AB229+AM229,2)","v":0},{"$f":"ROUND(L229*AN229,2)","v":0},"-","-","-","-"]
[null,70,null,null,"101-2278","Пропан-бутан, смесь техническая",null,null,"кг",null,null,{"$f":"SUM(L231:L233)","v":11.4935294},null,null,null,null,null,null,null,null,null,null,null,null,null,null,null,null,null,null,null,null,null,null,null,null,null,null,null,null,{"$f":"SUM(AO231:AO233)","v":0}]
[null,1,"ВЛ 6 кВ на куст 3129.1 (габ.110 кВ) Приразломное м/р. Правдинский (КС00091309)","ЛС 04-01-01","101-2278","Пропан-бутан, смесь техническая","-",null,"кг",null,"-",7.7765598000000002,"-",null,"-","-",null,"-",10.19,{"$f":"НМЦ!$K$227","v":0},{"$f":"ROUND(S231*T231,2)","v":0},"-","-","-",null,{"$f":"ROUND((U231+AM231)*0.0569,2)","v":0},null,null,"-","-","-","-","-","-","-","-","-","-",0,{"$f":"ROUND(U231+Y231+Z231+AA231+AB231+AM231,2)","v":0},{"$f":"ROUND(L231*AN231,2)","v":0},"-","-","-","-"]
[null,2,"ВЛ 6 кВ на куст 3129.2 (габ. 6 кВ) Приразломное м/р. Правдинский (КС00091313)","ЛС 04-02-01","101-2278","Пропан-бутан, смесь техническая","-",null,"кг",null,"-",2.8078506000000001,"-",null,"-","-",null,"-",10.19,{"$f":"НМЦ!$K$227","v":0},{"$f":"ROUND(S232*T232,2)","v":0},"-","-","-",null,{"$f":"ROUND((U232+AM232)*0.0569,2)","v":0},null,null,"-","-","-","-","-","-","-","-","-","-",0,{"$f":"ROUND(U232+Y232+Z232+AA232+AB232+AM232,2)","v":0},{"$f":"ROUND(L232*AN232,2)","v":0},"-","-","-","-"]
[null,3,"ВЛ 6 кВ на куст 3129.1 (габ.110 кВ) Приразломное м/р. Правдинский (КС00091309)","ЛС 04-01-02","101-2278","Пропан-бутан, смесь техническая","-",null,"кг",null,"-",0.90911900000000001,"-",null,"-","-",null,"-",10.19,{"$f":"НМЦ!$K$227","v":0},{"$f":"ROUND(S233*T233,2)","v":0},"-","-","-",null,{"$f":"ROUND((U233+AM233)*0.0569,2)","v":0},null,null,"-","-","-","-","-","-","-","-","-","-",0,{"$f":"ROUND(U233+Y233+Z233+AA233+AB233+AM233,2)","v":0},{"$f":"ROUND(L233*AN233,2)","v":0},"-","-","-","-"]
[null,71,null,null,"Цена завода","Долота II ДЛШ-320МС Т90, цена 13630:3,61.1,13",null,null,"шт.",null,null,{"$f":"SUM(L235)","v":2.8223999999999999E-2},null,null,null,null,null,null,null,null,null,null,null,null,null,null,null,null,null,null,null,null,null,null,null,null,null,null,null,null,{"$f":"SUM(AO235)","v":0}]
[null,1,"ВЛ 6 кВ на куст 3129.1 (габ.110 кВ) Приразломное м/р. Правдинский (КС00091309)","ЛС 04-01-01","Цена завода","Долота II ДЛШ-320МС Т90, цена 13630:3,61.1,13","-",null,"шт.",null,"-",2.8223999999999999E-2,"-",null,"-","-",null,"-",4266.45,{"$f":"НМЦ!$K$227","v":0},{"$f":"ROUND(S235*T235,2)","v":0},"-","-","-",null,0,null,null,"-","-","-","-","-","-","-","-","-","-",0,{"$f":"ROUND(U235+Y235+Z235+AA235+AB235+AM235,2)","v":0},{"$f":"ROUND(L235*AN235,2)","v":0},"-","-","-","-"]
[null,72,null,null,"113-0263","Эмаль кремнийорганическая КО-174",null,null,"т",null,null,{"$f":"SUM(L237)","v":5.0920000000000002E-3},null,null,null,null,null,null,null,null,null,null,null,null,null,null,null,null,null,null,null,null,null,null,null,null,null,null,null,null,{"$f":"SUM(AO237)","v":0}]
[null,1,"ВЛ 6 кВ на куст 3129.2 (габ. 6 кВ) Приразломное м/р. Правдинский (КС00091313)","ЛС 04-02-01","113-0263","Эмаль кремнийорганическая КО-174","-",null,"т",null,"-",5.0920000000000002E-3,"-",null,"-","-",null,"-",55378.92,null,null,"-","-","-",null,{"$f":"ROUND((U237+AM237)*0.0659,2)","v":0},null,null,"-","-","-","-","-","-","-","-","-","-",{"$f":"ROUND(U237*0.02,2)","v":0},{"$f":"ROUND(U237+Y237+Z237+AA237+AB237+AM237,2)","v":0},{"$f":"ROUND(L237*AN237,2)","v":0},"-","-","-","-"]
[null,73,null,null,"509-0104","Скобы двухлапковые. Дополнительно к учтенным в расценке",null,null,"10 шт.",null,null,{"$f":"SUM(L239)","v":4.3680000000000003},null,null,null,null,null,null,null,null,null,null,null,null,null,null,null,null,null,null,null,null,null,null,null,null,null,null,null,null,{"$f":"SUM(AO239)","v":0}]
[null,1,"ВЛ 6 кВ на куст 3129.1 (габ.110 кВ) Приразломное м/р. Правдинский (КС00091309)","ЛС 04-01-02","509-0104","Скобы двухлапковые. Дополнительно к учтенным в расценке","-",null,"10 шт.",null,"-",4.3680000000000003,"-",null,"-","-",null,"-",17.28,{"$f":"НМЦ!$K$227","v":0},{"$f":"ROUND(S239*T239,2)","v":0},"-","-","-",null,{"$f":"ROUND((U239+AM239)*0.0569,2)","v":0},null,null,"-","-","-","-","-","-","-","-","-","-",0,{"$f":"ROUND(U239+Y239+Z239+AA239+AB239+AM239,2)","v":0},{"$f":"ROUND(L239*AN239,2)","v":0},"-","-","-","-"]
[null,74,null,null,"101-2349","Смазка ЗЭС",null,null,"кг",null,null,{"$f":"SUM(L241:L242)","v":2.7909999999999999},null,null,null,null,null,null,null,null,null,null,null,null,null,null,null,null,null,null,null,null,null,null,null,null,null,null,null,null,{"$f":"SUM(AO241:AO242)","v":0}]
[null,1,"ВЛ 6 кВ на куст 3129.2 (габ. 6 кВ) Приразломное м/р. Правдинский (КС00091313)","ЛС 04-02-01","101-2349","Смазка ЗЭС","-",null,"кг",null,"-",1.839,"-",null,"-","-",null,"-",24.06,{"$f":"НМЦ!$K$227","v":0},{"$f":"ROUND(S241*T241,2)","v":0},"-","-","-",null,{"$f":"ROUND((U241+AM241)*0.0569,2)","v":0},null,null,"-","-","-","-","-","-","-","-","-","-",0,{"$f":"ROUND(U241+Y241+Z241+AA241+AB241+AM241,2)","v":0},{"$f":"ROUND(L241*AN241,2)","v":0},"-","-","-","-"]
[null,2,"ВЛ 6 кВ на куст 3129.1 (габ.110 кВ) Приразломное м/р. Правдинский (КС00091309)","ЛС 04-01-01","101-2349","Смазка ЗЭС","-",null,"кг",null,"-",0.95199999999999996,"-",null,"-","-",null,"-",24.06,{"$f":"НМЦ!$K$227","v":0},{"$f":"ROUND(S242*T242,2)","v":0},"-","-","-",null,{"$f":"ROUND((U242+AM242)*0.0569,2)","v":0},null,null,"-","-","-","-","-","-","-","-","-","-",0,{"$f":"ROUND(U242+Y242+Z242+AA242+AB242+AM242,2)","v":0},{"$f":"ROUND(L242*AN242,2)","v":0},"-","-","-","-"]
[null,75,null,null,"101-3911","Дюбели для пристрелки стальные",null,null,"10 шт.",null,null,{"$f":"SUM(L244)","v":9.1660000000000004},null,null,null,null,null,null,null,null,null,null,null,null,null,null,null,null,null,null,null,null,null,null,null,null,null,null,null,null,{"$f":"SUM(AO244)","v":0}]
[null,1,"ВЛ 6 кВ на куст 3129.1 (габ.110 кВ) Приразломное м/р. Правдинский (КС00091309)","ЛС 04-01-02","101-3911","Дюбели для пристрелки стальные","-",null,"10 шт.",null,"-",9.1660000000000004,"-",null,"-","-",null,"-",6.13,{"$f":"НМЦ!$K$227","v":0},{"$f":"ROUND(S244*T244,2)","v":0},"-","-","-",null,{"$f":"ROUND((U244+AM244)*0.0569,2)","v":0},null,null,"-","-","-","-","-","-","-","-","-","-",0,{"$f":"ROUND(U244+Y244+Z244+AA244+AB244+AM244,2)","v":0},{"$f":"ROUND(L244*AN244,2)","v":0},"-","-","-","-"]
[null,76,null,null,"101-1515","Электроды диаметром 4 мм Э46",null,null,"т",null,null,{"$f":"SUM(L246:L248)","v":4.8003999999999998E-3},null,null,null,null,null,null,null,null,null,null,null,null,null,null,null,null,null,null,null,null,null,null,null,null,null,null,null,null,{"$f":"SUM(AO246:AO248)","v":0}]
[null,1,"ВЛ 6 кВ на куст 3129.2 (габ. 6 кВ) Приразломное м/р. Правдинский (КС00091313)","ЛС 04-02-01","101-1515","Электроды диаметром 4 мм Э46","-",null,"т",null,"-",2.0763000000000001E-3,"-",null,"-","-",null,"-",11523.77,{"$f":"НМЦ!$K$227","v":0},{"$f":"ROUND(S246*T246,2)","v":0},"-","-","-",null,{"$f":"ROUND((U246+AM246)*0.0569,2)","v":0},null,null,"-","-","-","-","-","-","-","-","-","-",0,{"$f":"ROUND(U246+Y246+Z246+AA246+AB246+AM246,2)","v":0},{"$f":"ROUND(L246*AN246,2)","v":0},"-","-","-","-"]
[null,2,"ВЛ 6 кВ на куст 3129.1 (габ.110 кВ) Приразломное м/р. Правдинский (КС00091309)","ЛС 04-01-02","101-1515","Электроды диаметром 4 мм Э46","-",null,"т",null,"-",1.4498E-3,"-",null,"-","-",null,"-",11523.77,{"$f":"НМЦ!$K$227","v":0},{"$f":"ROUND(S247*T247,2)","v":0},"-","-","-",null,{"$f":"ROUND((U247+AM247)*0.0569,2)","v":0},null,null,"-","-","-","-","-","-","-","-","-","-",0,{"$f":"ROUND(U247+Y247+Z247+AA247+AB247+AM247,2)","v":0},{"$f":"ROUND(L247*AN247,2)","v":0},"-","-","-","-"]
[null,3,"ВЛ 6 кВ на куст 3129.1 (габ.110 кВ) Приразломное м/р. Правдинский (КС00091309)","ЛС 04-01-01","101-1515","Электроды диаметром 4 мм Э46","-",null,"т",null,"-",1.2742999999999999E-3,"-",null,"-","-",null,"-",11523.77,{"$f":"НМЦ!$K$227","v":0},{"$f":"ROUND(S248*T248,2)","v":0},"-","-","-",null,{"$f":"ROUND((U248+AM248)*0.0569,2)","v":0},null,null,"-","-","-","-","-","-","-","-","-","-",0,{"$f":"ROUND(U248+Y248+Z248+AA248+AB248+AM248,2)","v":0},{"$f":"ROUND(L248*AN248,2)","v":0},"-","-","-","-"]
[null,77,null,null,"509-1519","Скоба У1078",null,null,"шт.",null,null,{"$f":"SUM(L250)","v":5.0599999999999996},null,null,null,null,null,null,null,null,null,null,null,null,null,null,null,null,null,null,null,null,null,null,null,null,null,null,null,null,{"$f":"SUM(AO250)","v":0}]
[null,1,"ВЛ 6 кВ на куст 3129.1 (габ.110 кВ) Приразломное м/р. Правдинский (КС00091309)","ЛС 04-01-02","509-1519","Скоба У1078","-",null,"шт.",null,"-",5.0599999999999996,"-",null,"-","-",null,"-",10.31,{"$f":"НМЦ!$K$227","v":0},{"$f":"ROUND(S250*T250,2)","v":0},"-","-","-",null,{"$f":"ROUND((U250+AM250)*0.0569,2)","v":0},null,null,"-","-","-","-","-","-","-","-","-","-",0,{"$f":"ROUND(U250+Y250+Z250+AA250+AB250+AM250,2)","v":0},{"$f":"ROUND(L250*AN250,2)","v":0},"-","-","-","-"]
[null,78,null,null,"101-1924","Электроды диаметром 4 мм Э42А",null,null,"кг",null,null,{"$f":"SUM(L252)","v":4.1768000000000001},null,null,null,null,null,null,null,null,null,null,null,null,null,null,null,null,null,null,null,null,null,null,null,null,null,null,null,null,{"$f":"SUM(AO252)","v":0}]
[null,1,"ВЛ 6 кВ на куст 3129.1 (габ.110 кВ) Приразломное м/р. Правдинский (КС00091309)","ЛС 04-01-02","101-1924","Электроды диаметром 4 мм Э42А","-",null,"кг",null,"-",4.1768000000000001,"-",null,"-","-",null,"-",11.33,{"$f":"НМЦ!$K$227","v":0},{"$f":"ROUND(S252*T252,2)","v":0},"-","-","-",null,{"$f":"ROUND((U252+AM252)*0.0569,2)","v":0},null,null,"-","-","-","-","-","-","-","-","-","-",0,{"$f":"ROUND(U252+Y252+Z252+AA252+AB252+AM252,2)","v":0},{"$f":"ROUND(L252*AN252,2)","v":0},"-","-","-","-"]
[null,79,null,null,"101-1019","Швеллеры № 40 из стали марки Ст0",null,null,"т",null,null,{"$f":"SUM(L254:L256)","v":7.8213999999999992E-3},null,null,null,null,null,null,null,null,null,null,null,null,null,null,null,null,null,null,null,null,null,null,null,null,null,null,null,null,{"$f":"SUM(AO254:AO256)","v":0}]
[null,1,"ВЛ 6 кВ на куст 3129.2 (габ. 6 кВ) Приразломное м/р. Правдинский (КС00091313)","ЛС 04-02-01","101-1019","Швеллеры № 40 из стали марки Ст0","-",null,"т",null,"-",3.3722000000000001E-3,"-",null,"-","-",null,"-",5988.69,{"$f":"НМЦ!$K$227","v":0},{"$f":"ROUND(S254*T254,2)","v":0},"-","-","-",null,{"$f":"ROUND((U254+AM254)*0.0569,2)","v":0},null,null,"-","-","-","-","-","-","-","-","-","-",0,{"$f":"ROUND(U254+Y254+Z254+AA254+AB254+AM254,2)","v":0},{"$f":"ROUND(L254*AN254,2)","v":0},"-","-","-","-"]
[null,2,"ВЛ 6 кВ на куст 3129.1 (габ.110 кВ) Приразломное м/р. Правдинский (КС00091309)","ЛС 04-01-02","101-1019","Швеллеры № 40 из стали марки Ст0","-",null,"т",null,"-",2.3533E-3,"-",null,"-","-",null,"-",5988.69,{"$f":"НМЦ!$K$227","v":0},{"$f":"ROUND(S255*T255,2)","v":0},"-","-","-",null,{"$f":"ROUND((U255+AM255)*0.0569,2)","v":0},null,null,"-","-","-","-","-","-","-","-","-","-",0,{"$f":"ROUND(U255+Y255+Z255+AA255+AB255+AM255,2)","v":0},{"$f":"ROUND(L255*AN255,2)","v":0},"-","-","-","-"]
[null,3,"ВЛ 6 кВ на куст 3129.1 (габ.110 кВ) Приразломное м/р. Правдинский (КС00091309)","ЛС 04-01-01","101-1019","Швеллеры № 40 из стали марки Ст0","-",null,"т",null,"-",2.0958999999999999E-3,"-",null,"-","-",null,"-",5988.69,{"$f":"НМЦ!$K$227","v":0},{"$f":"ROUND(S256*T256,2)","v":0},"-","-","-",null,{"$f":"ROUND((U256+AM256)*0.0569,2)","v":0},null,null,"-","-","-","-","-","-","-","-","-","-",0,{"$f":"ROUND(U256+Y256+Z256+AA256+AB256+AM256,2)","v":0},{"$f":"ROUND(L256*AN256,2)","v":0},"-","-","-","-"]
[null,80,null,null,"113-1786","Лак битумный БТ-123",null,null,"т",null,null,{"$f":"SUM(L258)","v":3.4228000000000001E-3},null,null,null,null,null,null,null,null,null,null,null,null,null,null,null,null,null,null,null,null,null,null,null,null,null,null,null,null,{"$f":"SUM(AO258)","v":0}]
[null,1,"ВЛ 6 кВ на куст 3129.1 (габ.110 кВ) Приразломное м/р. Правдинский (КС00091309)","ЛС 04-01-02","113-1786","Лак битумный БТ-123","-",null,"т",null,"-",3.4228000000000001E-3,"-",null,"-","-",null,"-",13074.07,{"$f":"НМЦ!$K$227","v":0},{"$f":"ROUND(S258*T258,2)","v":0},"-","-","-",null,{"$f":"ROUND((U258+AM258)*0.0569,2)","v":0},null,null,"-","-","-","-","-","-","-","-","-","-",0,{"$f":"ROUND(U258+Y258+Z258+AA258+AB258+AM258,2)","v":0},{"$f":"ROUND(L258*AN258,2)","v":0},"-","-","-","-"]
[null,81,null,null,"101-1699","Патроны для пристрелки",null,null,"10 шт.",null,null,{"$f":"SUM(L260)","v":9.1660000000000004},null,null,null,null,null,null,null,null,null,null,null,null,null,null,null,null,null,null,null,null,null,null,null,null,null,null,null,null,{"$f":"SUM(AO260)","v":0}]
[null,1,"ВЛ 6 кВ на куст 3129.1 (габ.110 кВ) Приразломное м/р. Правдинский (КС00091309)","ЛС 04-01-02","101-1699","Патроны для пристрелки","-",null,"10 шт.",null,"-",9.1660000000000004,"-",null,"-","-",null,"-",3.99,{"$f":"НМЦ!$K$227","v":0},{"$f":"ROUND(S260*T260,2)","v":0},"-","-","-",null,{"$f":"ROUND((U260+AM260)*0.0569,2)","v":0},null,null,"-","-","-","-","-","-","-","-","-","-",0,{"$f":"ROUND(U260+Y260+Z260+AA260+AB260+AM260,2)","v":0},{"$f":"ROUND(L260*AN260,2)","v":0},"-","-","-","-"]
[null,82,null,null,"101-1481","Шурупы с полукруглой головкой 4x40 мм",null,null,"т",null,null,{"$f":"SUM(L262)","v":2.728E-3},null,null,null,null,null,null,null,null,null,null,null,null,null,null,null,null,null,null,null,null,null,null,null,null,null,null,null,null,{"$f":"SUM(AO262)","v":0}]
[null,1,"ВЛ 6 кВ на куст 3129.1 (габ.110 кВ) Приразломное м/р. Правдинский (КС00091309)","ЛС 04-01-02","101-1481","Шурупы с полукруглой головкой 4x40 мм","-",null,"т",null,"-",2.728E-3,"-",null,"-","-",null,"-",13325.92,{"$f":"НМЦ!$K$227","v":0},{"$f":"ROUND(S262*T262,2)","v":0},"-","-","-",null,{"$f":"ROUND((U262+AM262)*0.0569,2)","v":0},null,null,"-","-","-","-","-","-","-","-","-","-",0,{"$f":"ROUND(U262+Y262+Z262+AA262+AB262+AM262,2)","v":0},{"$f":"ROUND(L262*AN262,2)","v":0},"-","-","-","-"]
[null,83,null,null,"101-2478","Лента К226",null,null,"100 м",null,null,{"$f":"SUM(L264)","v":0.1174},null,null,null,null,null,null,null,null,null,null,null,null,null,null,null,null,null,null,null,null,null,null,null,null,null,null,null,null,{"$f":"SUM(AO264)","v":0}]
[null,1,"ВЛ 6 кВ на куст 3129.1 (габ.110 кВ) Приразломное м/р. Правдинский (КС00091309)","ЛС 04-01-02","101-2478","Лента К226","-",null,"100 м",null,"-",0.1174,"-",null,"-","-",null,"-",200.44,{"$f":"НМЦ!$K$227","v":0},{"$f":"ROUND(S264*T264,2)","v":0},"-","-","-",null,{"$f":"ROUND((U264+AM264)*0.0569,2)","v":0},null,null,"-","-","-","-","-","-","-","-","-","-",0,{"$f":"ROUND(U264+Y264+Z264+AA264+AB264+AM264,2)","v":0},{"$f":"ROUND(L264*AN264,2)","v":0},"-","-","-","-"]
[null,84,null,null,"509-0104","Скобы двухлапковые",null,null,"10 шт.",null,null,{"$f":"SUM(L266)","v":1.232},null,null,null,null,null,null,null,null,null,null,null,null,null,null,null,null,null,null,null,null,null,null,null,null,null,null,null,null,{"$f":"SUM(AO266)","v":0}]
[null,1,"ВЛ 6 кВ на куст 3129.1 (габ.110 кВ) Приразломное м/р. Правдинский (КС00091309)","ЛС 04-01-02","509-0104","Скобы двухлапковые","-",null,"10 шт.",null,"-",1.232,"-",null,"-","-",null,"-",17.28,{"$f":"НМЦ!$K$227","v":0},{"$f":"ROUND(S266*T266,2)","v":0},"-","-","-",null,{"$f":"ROUND((U266+AM266)*0.0569,2)","v":0},null,null,"-","-","-","-","-","-","-","-","-","-",0,{"$f":"ROUND(U266+Y266+Z266+AA266+AB266+AM266,2)","v":0},{"$f":"ROUND(L266*AN266,2)","v":0},"-","-","-","-"]
[null,85,null,null,"101-0309","Канаты пеньковые пропитанные",null,null,"т",null,null,{"$f":"SUM(L268:L270)","v":4.0309999999999999E-4},null,null,null,null,null,null,null,null,null,null,null,null,null,null,null,null,null,null,null,null,null,null,null,null,null,null,null,null,{"$f":"SUM(AO268:AO270)","v":0}]
[null,1,"ВЛ 6 кВ на куст 3129.2 (габ. 6 кВ) Приразломное м/р. Правдинский (КС00091313)","ЛС 04-02-01","101-0309","Канаты пеньковые пропитанные","-",null,"т",null,"-",1.738E-4,"-",null,"-","-",null,"-",51206.53,{"$f":"НМЦ!$K$227","v":0},{"$f":"ROUND(S268*T268,2)","v":0},"-","-","-",null,{"$f":"ROUND((U268+AM268)*0.0569,2)","v":0},null,null,"-","-","-","-","-","-","-","-","-","-",0,{"$f":"ROUND(U268+Y268+Z268+AA268+AB268+AM268,2)","v":0},{"$f":"ROUND(L268*AN268,2)","v":0},"-","-","-","-"]
[null,2,"ВЛ 6 кВ на куст 3129.1 (габ.110 кВ) Приразломное м/р. Правдинский (КС00091309)","ЛС 04-01-02","101-0309","Канаты пеньковые пропитанные","-",null,"т",null,"-",1.2129999999999999E-4,"-",null,"-","-",null,"-",51206.53,{"$f":"НМЦ!$K$227","v":0},{"$f":"ROUND(S269*T269,2)","v":0},"-","-","-",null,{"$f":"ROUND((U269+AM269)*0.0569,2)","v":0},null,null,"-","-","-","-","-","-","-","-","-","-",0,{"$f":"ROUND(U269+Y269+Z269+AA269+AB269+AM269,2)","v":0},{"$f":"ROUND(L269*AN269,2)","v":0},"-","-","-","-"]
[null,3,"ВЛ 6 кВ на куст 3129.1 (габ.110 кВ) Приразломное м/р. Правдинский (КС00091309)","ЛС 04-01-01","101-0309","Канаты пеньковые пропитанные","-",null,"т",null,"-",1.08E-4,"-",null,"-","-",null,"-",51206.53,{"$f":"НМЦ!$K$227","v":0},{"$f":"ROUND(S270*T270,2)","v":0},"-","-","-",null,{"$f":"ROUND((U270+AM270)*0.0569,2)","v":0},null,null,"-","-","-","-","-","-","-","-","-","-",0,{"$f":"ROUND(U270+Y270+Z270+AA270+AB270+AM270,2)","v":0},{"$f":"ROUND(L270*AN270,2)","v":0},"-","-","-","-"]
[null,86,null,null,"113-0079","Лак БТ-577",null,null,"т",null,null,{"$f":"SUM(L272:L273)","v":1.4E-3},null,null,null,null,null,null,null,null,null,null,null,null,null,null,null,null,null,null,null,null,null,null,null,null,null,null,null,null,{"$f":"SUM(AO272:AO273)","v":0}]
[null,1,"ВЛ 6 кВ на куст 3129.1 (габ.110 кВ) Приразломное м/р. Правдинский (КС00091309)","ЛС 04-01-01","113-0079","Лак БТ-577","-",null,"т",null,"-",8.0000000000000004E-4,"-",null,"-","-",null,"-",12980.43,{"$f":"НМЦ!$K$227","v":0},{"$f":"ROUND(S272*T272,2)","v":0},"-","-","-",null,{"$f":"ROUND((U272+AM272)*0.0569,2)","v":0},null,null,"-","-","-","-","-","-","-","-","-","-",0,{"$f":"ROUND(U272+Y272+Z272+AA272+AB272+AM272,2)","v":0},{"$f":"ROUND(L272*AN272,2)","v":0},"-","-","-","-"]
[null,2,"ВЛ 6 кВ на куст 3129.2 (габ. 6 кВ) Приразломное м/р. Правдинский (КС00091313)","ЛС 04-02-01","113-0079","Лак БТ-577","-",null,"т",null,"-",5.9999999999999995E-4,"-",null,"-","-",null,"-",12980.43,{"$f":"НМЦ!$K$227","v":0},{"$f":"ROUND(S273*T273,2)","v":0},"-","-","-",null,{"$f":"ROUND((U273+AM273)*0.0569,2)","v":0},null,null,"-","-","-","-","-","-","-","-","-","-",0,{"$f":"ROUND(U273+Y273+Z273+AA273+AB273+AM273,2)","v":0},{"$f":"ROUND(L273*AN273,2)","v":0},"-","-","-","-"]
[null,87,null,null,"Прайс-лист","Ключ для крепления полок к стойкам К1156цУТ1,5 , цена 21:3,95.1,13",null,null,"шт.",null,null,{"$f":"SUM(L275)","v":3},null,null,null,null,null,null,null,null,null,null,null,null,null,null,null,null,null,null,null,null,null,null,null,null,null,null,null,null,{"$f":"SUM(AO275)","v":0}]
[null,1,"ВЛ 6 кВ на куст 3129.1 (габ.110 кВ) Приразломное м/р. Правдинский (КС00091309)","ЛС 04-01-02","Прайс-лист","Ключ для крепления полок к стойкам К1156цУТ1,5 , цена 21:3,95.1,13","-",null,"шт.",null,"-",3,"-",null,"-","-",null,"-",6.01,{"$f":"НМЦ!$K$227","v":0},{"$f":"ROUND(S275*T275,2)","v":0},"-","-","-",null,0,null,null,"-","-","-","-","-","-","-","-","-","-",0,{"$f":"ROUND(U275+Y275+Z275+AA275+AB275+AM275,2)","v":0},{"$f":"ROUND(L275*AN275,2)","v":0},"-","-","-","-"]
[null,88,null,null,"101-3914","Дюбели распорные полипропиленовые",null,null,"100 шт.",null,null,{"$f":"SUM(L277)","v":0.184},null,null,null,null,null,null,null,null,null,null,null,null,null,null,null,null,null,null,null,null,null,null,null,null,null,null,null,null,{"$f":"SUM(AO277)","v":0}]
[null,1,"ВЛ 6 кВ на куст 3129.1 (габ.110 кВ) Приразломное м/р. Правдинский (КС00091309)","ЛС 04-01-02","101-3914","Дюбели распорные полипропиленовые","-",null,"100 шт.",null,"-",0.184,"-",null,"-","-",null,"-",48.88,{"$f":"НМЦ!$K$227","v":0},{"$f":"ROUND(S277*T277,2)","v":0},"-","-","-",null,{"$f":"ROUND((U277+AM277)*0.0569,2)","v":0},null,null,"-","-","-","-","-","-","-","-","-","-",0,{"$f":"ROUND(U277+Y277+Z277+AA277+AB277+AM277,2)","v":0},{"$f":"ROUND(L277*AN277,2)","v":0},"-","-","-","-"]
[null,89,null,null,"102-0023","Бруски обрезные хвойных пород длиной 4-6,5 м, шириной 75-150 мм, толщиной 40-75 мм, I сорта",null,null,"м3",null,null,{"$f":"SUM(L279:L281)","v":3.6087999999999997E-3},null,null,null,null,null,null,null,null,null,null,null,null,null,null,null,null,null,null,null,null,null,null,null,null,null,null,null,null,{"$f":"SUM(AO279:AO281)","v":0}]
[null,1,"ВЛ 6 кВ на куст 3129.2 (габ. 6 кВ) Приразломное м/р. Правдинский (КС00091313)","ЛС 04-02-01","102-0023","Бруски обрезные хвойных пород длиной 4-6,5 м, шириной 75-150 мм, толщиной 40-75 мм, I сорта","-",null,"м3",null,"-",1.5376999999999999E-3,"-",null,"-","-",null,"-",2069.25,{"$f":"НМЦ!$K$227","v":0},{"$f":"ROUND(S279*T279,2)","v":0},"-","-","-",null,{"$f":"ROUND((U279+AM279)*0.0569,2)","v":0},null,null,"-","-","-","-","-","-","-","-","-","-",0,{"$f":"ROUND(U279+Y279+Z279+AA279+AB279+AM279,2)","v":0},{"$f":"ROUND(L279*AN279,2)","v":0},"-","-","-","-"]
[null,2,"ВЛ 6 кВ на куст 3129.1 (габ.110 кВ) Приразломное м/р. Правдинский (КС00091309)","ЛС 04-01-02","102-0023","Бруски обрезные хвойных пород длиной 4-6,5 м, шириной 75-150 мм, толщиной 40-75 мм, I сорта","-",null,"м3",null,"-",1.0455E-3,"-",null,"-","-",null,"-",2069.25,{"$f":"НМЦ!$K$227","v":0},{"$f":"ROUND(S280*T280,2)","v":0},"-","-","-",null,{"$f":"ROUND((U280+AM280)*0.0569,2)","v":0},null,null,"-","-","-","-","-","-","-","-","-","-",0,{"$f":"ROUND(U280+Y280+Z280+AA280+AB280+AM280,2)","v":0},{"$f":"ROUND(L280*AN280,2)","v":0},"-","-","-","-"]
[null,3,"ВЛ 6 кВ на куст 3129.1 (габ.110 кВ) Приразломное м/р. Правдинский (КС00091309)","ЛС 04-01-01","102-0023","Бруски обрезные хвойных пород длиной 4-6,5 м, шириной 75-150 мм, толщиной 40-75 мм, I сорта","-",null,"м3",null,"-",1.0256E-3,"-",null,"-","-",null,"-",2069.25,{"$f":"НМЦ!$K$227","v":0},{"$f":"ROUND(S281*T281,2)","v":0},"-","-","-",null,{"$f":"ROUND((U281+AM281)*0.0569,2)","v":0},null,null,"-","-","-","-","-","-","-","-","-","-",0,{"$f":"ROUND(U281+Y281+Z281+AA281+AB281+AM281,2)","v":0},{"$f":"ROUND(L281*AN281,2)","v":0},"-","-","-","-"]
[null,90,null,null,"508-0097","Канат двойной свивки типа ТК, конструкции 6х19(1+6+12)+1 о.с., оцинкованный из проволок марки В, маркировочная группа 1770 н/мм2, диаметром 5,5 мм",null,null,"10 м",null,null,{"$f":"SUM(L283:L285)","v":7.539280000000001E-2},null,null,null,null,null,null,null,null,null,null,null,null,null,null,null,null,null,null,null,null,null,null,null,null,null,null,null,null,{"$f":"SUM(AO283:AO285)","v":0}]
[null,1,"ВЛ 6 кВ на куст 3129.2 (габ. 6 кВ) Приразломное м/р. Правдинский (КС00091313)","ЛС 04-02-01","508-0097","Канат двойной свивки типа ТК, конструкции 6х19(1+6+12)+1 о.с., оцинкованный из проволок марки В, маркировочная группа 1770 н/мм2, диаметром 5,5 мм","-",null,"10 м",null,"-",3.25055E-2,"-",null,"-","-",null,"-",83.91,{"$f":"НМЦ!$K$227","v":0},{"$f":"ROUND(S283*T283,2)","v":0},"-","-","-",null,{"$f":"ROUND((U283+AM283)*0.0569,2)","v":0},null,null,"-","-","-","-","-","-","-","-","-","-",0,{"$f":"ROUND(U283+Y283+Z283+AA283+AB283+AM283,2)","v":0},{"$f":"ROUND(L283*AN283,2)","v":0},"-","-","-","-"]
[null,2,"ВЛ 6 кВ на куст 3129.1 (габ.110 кВ) Приразломное м/р. Правдинский (КС00091309)","ЛС 04-01-02","508-0097","Канат двойной свивки типа ТК, конструкции 6х19(1+6+12)+1 о.с., оцинкованный из проволок марки В, маркировочная группа 1770 н/мм2, диаметром 5,5 мм","-",null,"10 м",null,"-",2.2684200000000002E-2,"-",null,"-","-",null,"-",83.91,{"$f":"НМЦ!$K$227","v":0},{"$f":"ROUND(S284*T284,2)","v":0},"-","-","-",null,{"$f":"ROUND((U284+AM284)*0.0569,2)","v":0},null,null,"-","-","-","-","-","-","-","-","-","-",0,{"$f":"ROUND(U284+Y284+Z284+AA284+AB284+AM284,2)","v":0},{"$f":"ROUND(L284*AN284,2)","v":0},"-","-","-","-"]
[null,3,"ВЛ 6 кВ на куст 3129.1 (габ.110 кВ) Приразломное м/р. Правдинский (КС00091309)","ЛС 04-01-01","508-0097","Канат двойной свивки типа ТК, конструкции 6х19(1+6+12)+1 о.с., оцинкованный из проволок марки В, маркировочная группа 1770 н/мм2, диаметром 5,5 мм","-",null,"10 м",null,"-",2.0203100000000002E-2,"-",null,"-","-",null,"-",83.91,{"$f":"НМЦ!$K$227","v":0},{"$f":"ROUND(S285*T285,2)","v":0},"-","-","-",null,{"$f":"ROUND((U285+AM285)*0.0569,2)","v":0},null,null,"-","-","-","-","-","-","-","-","-","-",0,{"$f":"ROUND(U285+Y285+Z285+AA285+AB285+AM285,2)","v":0},{"$f":"ROUND(L285*AN285,2)","v":0},"-","-","-","-"]
[null,91,null,null,"101-0813","Проволока стальная низкоуглеродистая разного назначения оцинкованная диаметром 3,0 мм",null,null,"т",null,null,{"$f":"SUM(L287)","v":4.4000000000000002E-4},null,null,null,null,null,null,null,null,null,null,null,null,null,null,null,null,null,null,null,null,null,null,null,null,null,null,null,null,{"$f":"SUM(AO287)","v":0}]
[null,1,"ВЛ 6 кВ на куст 3129.1 (габ.110 кВ) Приразломное м/р. Правдинский (КС00091309)","ЛС 04-01-02","101-0813","Проволока стальная низкоуглеродистая разного назначения оцинкованная диаметром 3,0 мм","-",null,"т",null,"-",4.4000000000000002E-4,"-",null,"-","-",null,"-",13972.15,{"$f":"НМЦ!$K$227","v":0},{"$f":"ROUND(S287*T287,2)","v":0},"-","-","-",null,{"$f":"ROUND((U287+AM287)*0.0569,2)","v":0},null,null,"-","-","-","-","-","-","-","-","-","-",0,{"$f":"ROUND(U287+Y287+Z287+AA287+AB287+AM287,2)","v":0},{"$f":"ROUND(L287*AN287,2)","v":0},"-","-","-","-"]
[null,92,null,null,"101-0962","Смазка солидол жировой марки \"Ж\"",null,null,"т",null,null,{"$f":"SUM(L289:L290)","v":4.2000000000000002E-4},null,null,null,null,null,null,null,null,null,null,null,null,null,null,null,null,null,null,null,null,null,null,null,null,null,null,null,null,{"$f":"SUM(AO289:AO290)","v":0}]
[null,1,"ВЛ 6 кВ на куст 3129.1 (габ.110 кВ) Приразломное м/р. Правдинский (КС00091309)","ЛС 04-01-01","101-0962","Смазка солидол жировой марки \"Ж\"","-",null,"т",null,"-",2.4000000000000001E-4,"-",null,"-","-",null,"-",12866.32,{"$f":"НМЦ!$K$227","v":0},{"$f":"ROUND(S289*T289,2)","v":0},"-","-","-",null,{"$f":"ROUND((U289+AM289)*0.0569,2)","v":0},null,null,"-","-","-","-","-","-","-","-","-","-",0,{"$f":"ROUND(U289+Y289+Z289+AA289+AB289+AM289,2)","v":0},{"$f":"ROUND(L289*AN289,2)","v":0},"-","-","-","-"]
[null,2,"ВЛ 6 кВ на куст 3129.2 (габ. 6 кВ) Приразломное м/р. Правдинский (КС00091313)","ЛС 04-02-01","101-0962","Смазка солидол жировой марки \"Ж\"","-",null,"т",null,"-",1.8000000000000001E-4,"-",null,"-","-",null,"-",12866.32,{"$f":"НМЦ!$K$227","v":0},{"$f":"ROUND(S290*T290,2)","v":0},"-","-","-",null,{"$f":"ROUND((U290+AM290)*0.0569,2)","v":0},null,null,"-","-","-","-","-","-","-","-","-","-",0,{"$f":"ROUND(U290+Y290+Z290+AA290+AB290+AM290,2)","v":0},{"$f":"ROUND(L290*AN290,2)","v":0},"-","-","-","-"]
[null,93,null,null,"111-0086","Бирки маркировочные",null,null,"100 шт.",null,null,{"$f":"SUM(L292)","v":8.4000000000000005E-2},null,null,null,null,null,null,null,null,null,null,null,null,null,null,null,null,null,null,null,null,null,null,null,null,null,null,null,null,{"$f":"SUM(AO292)","v":0}]
[null,1,"ВЛ 6 кВ на куст 3129.1 (габ.110 кВ) Приразломное м/р. Правдинский (КС00091309)","ЛС 04-01-02","111-0086","Бирки маркировочные","-",null,"100 шт.",null,"-",8.4000000000000005E-2,"-",null,"-","-",null,"-",60.28,{"$f":"НМЦ!$K$227","v":0},{"$f":"ROUND(S292*T292,2)","v":0},"-","-","-",null,{"$f":"ROUND((U292+AM292)*0.0569,2)","v":0},null,null,"-","-","-","-","-","-","-","-","-","-",0,{"$f":"ROUND(U292+Y292+Z292+AA292+AB292+AM292,2)","v":0},{"$f":"ROUND(L292*AN292,2)","v":0},"-","-","-","-"]
[null,94,null,null,"509-0070","Кнопки монтажные",null,null,"1000 шт.",null,null,{"$f":"SUM(L294)","v":9.9680000000000005E-2},null,null,null,null,null,null,null,null,null,null,null,null,null,null,null,null,null,null,null,null,null,null,null,null,null,null,null,null,{"$f":"SUM(AO294)","v":0}]
[null,1,"ВЛ 6 кВ на куст 3129.1 (габ.110 кВ) Приразломное м/р. Правдинский (КС00091309)","ЛС 04-01-02","509-0070","Кнопки монтажные","-",null,"1000 шт.",null,"-",9.9680000000000005E-2,"-",null,"-","-",null,"-",32.58,{"$f":"НМЦ!$K$227","v":0},{"$f":"ROUND(S294*T294,2)","v":0},"-","-","-",null,{"$f":"ROUND((U294+AM294)*0.0569,2)","v":0},null,null,"-","-","-","-","-","-","-","-","-","-",0,{"$f":"ROUND(U294+Y294+Z294+AA294+AB294+AM294,2)","v":0},{"$f":"ROUND(L294*AN294,2)","v":0},"-","-","-","-"]
[null,95,null,null,"101-1757","Ветошь",null,null,"кг",null,null,{"$f":"SUM(L296:L297)","v":1.3354999999999999},null,null,null,null,null,null,null,null,null,null,null,null,null,null,null,null,null,null,null,null,null,null,null,null,null,null,null,null,{"$f":"SUM(AO296:AO297)","v":0}]
[null,1,"ВЛ 6 кВ на куст 3129.2 (габ. 6 кВ) Приразломное м/р. Правдинский (КС00091313)","ЛС 04-02-01","101-1757","Ветошь","-",null,"кг",null,"-",0.91949999999999998,"-",null,"-","-",null,"-",1.95,{"$f":"НМЦ!$K$227","v":0},{"$f":"ROUND(S296*T296,2)","v":0},"-","-","-",null,{"$f":"ROUND((U296+AM296)*0.0569,2)","v":0},null,null,"-","-","-","-","-","-","-","-","-","-",0,{"$f":"ROUND(U296+Y296+Z296+AA296+AB296+AM296,2)","v":0},{"$f":"ROUND(L296*AN296,2)","v":0},"-","-","-","-"]
[null,2,"ВЛ 6 кВ на куст 3129.1 (габ.110 кВ) Приразломное м/р. Правдинский (КС00091309)","ЛС 04-01-01","101-1757","Ветошь","-",null,"кг",null,"-",0.41599999999999998,"-",null,"-","-",null,"-",1.95,{"$f":"НМЦ!$K$227","v":0},{"$f":"ROUND(S297*T297,2)","v":0},"-","-","-",null,{"$f":"ROUND((U297+AM297)*0.0569,2)","v":0},null,null,"-","-","-","-","-","-","-","-","-","-",0,{"$f":"ROUND(U297+Y297+Z297+AA297+AB297+AM297,2)","v":0},{"$f":"ROUND(L297*AN297,2)","v":0},"-","-","-","-"]
[null,96,null,null,"101-0797","Проволока горячекатаная в мотках, диаметром 6,3-6,5 мм",null,null,"т",null,null,{"$f":"SUM(L299)","v":5.2099999999999999E-5},null,null,null,null,null,null,null,null,null,null,null,null,null,null,null,null,null,null,null,null,null,null,null,null,null,null,null,null,{"$f":"SUM(AO299)","v":0}]
[null,1,"ВЛ 6 кВ на куст 3129.2 (габ. 6 кВ) Приразломное м/р. Правдинский (КС00091313)","ЛС 04-02-01","101-0797","Проволока горячекатаная в мотках, диаметром 6,3-6,5 мм","-",null,"т",null,"-",5.2099999999999999E-5,"-",null,"-","-",null,"-",4819.3500000000004,{"$f":"НМЦ!$K$227","v":0},{"$f":"ROUND(S299*T299,2)","v":0},"-","-","-",null,{"$f":"ROUND((U299+AM299)*0.0569,2)","v":0},null,null,"-","-","-","-","-","-","-","-","-","-",0,{"$f":"ROUND(U299+Y299+Z299+AA299+AB299+AM299,2)","v":0},{"$f":"ROUND(L299*AN299,2)","v":0},"-","-","-","-"]
[null,"Итого Материалы",null,null,null,null,null,null,null,null,null,null,null,null,null,null,null,null,null,null,null,null,null,null,null,null,null,null,null,null,null,null,null,null,null,null,null,null,null,null,{"$f":"AO56+AO60+AO64+AO66+AO68+AO72+AO76+AO80+AO82+AO86+AO89+AO91+AO94+AO96+AO100+AO103+AO105+AO107+AO109+AO112+AO114+AO117+AO119+AO121+AO123+AO127+AO129+AO131+AO133+AO135+AO137+AO140+AO142+AO144+AO146+AO148+AO150+AO153+AO155+AO157+AO159+AO162+AO164+AO166+AO170+AO174+AO178+AO180+AO182+AO184+AO186+AO188+AO190+AO193+AO196+AO198+AO200+AO202+AO204+AO206+AO209+AO211+AO213+AO215+AO218+AO220+AO224+AO226+AO228+AO230+AO234+AO236+AO238+AO240+AO243+AO245+AO249+AO251+AO253+AO257+AO259+AO261+AO263+AO265+AO267+AO271+AO274+AO276+AO278+AO282+AO286+AO288+AO291+AO293+AO295+AO298","v":0}]
["other_metal","Металлоконструкции"]
[null,"Итого Металлоконструкции"]
["other_equipment","Оборудование"]
[null,"Итого Оборудование"]
[null,"Итого по Разделу II. Вспомогательные материалы",null,null,null,null,null,null,null,null,null,null,null,null,null,null,null,null,null,null,null,null,null,null,null,null,null,null,null,null,null,null,null,null,null,null,null,null,null,null,{"$f":"AO300+AO302+AO304","v":0}]
[null,"Раздел III. Материалы и оборудование, переданные от заказчика к подрядчику"]
["cont_from_cust_materials","Материалы "]
[null,1,null,null,"Цена завода","Изолятор подвесной ПС70-Е, цена 333,9:4,03.1,13",null,null,"шт.",null,null,{"$f":"SUM(L309:L310)","v":415},null,null,null,null,null,null,null,null,null,null,null,null,null,null,null,null,null,null,null,null,null,null,null,null,null,null,null,null,{"$f":"SUM(AO309:AO310)","v":0}]
[null,1,"ВЛ 6 кВ на куст 3129.1 (габ.110 кВ) Приразломное м/р. Правдинский (КС00091309)","ЛС 04-01-01","Цена завода","Изолятор подвесной ПС70-Е, цена 333,9:4,03.1,13","-",null,"шт.",null,"-",268,"-",null,"-","-",null,"-",93.62,null,null,"-","-","-",null,{"$f":"ROUND((U309+AM309)*0.0659,2)","v":0},null,null,"-","-","-","-","-","-","-","-","-","-",{"$f":"ROUND(U309*0.02,2)","v":0},{"$f":"ROUND(U309+Y309+Z309+AA309+AB309+AM309,2)","v":0},{"$f":"ROUND(L309*AN309,2)","v":0},"-","-","-","-"]
[null,2,"ВЛ 6 кВ на куст 3129.2 (габ. 6 кВ) Приразломное м/р. Правдинский (КС00091313)","ЛС 04-02-01","Цена завода","Изолятор подвесной ПС70-Е, цена 333,9:4,03.1,13","-",null,"шт.",null,"-",147,"-",null,"-","-",null,"-",93.62,null,null,"-","-","-",null,{"$f":"ROUND((U310+AM310)*0.0659,2)","v":0},null,null,"-","-","-","-","-","-","-","-","-","-",{"$f":"ROUND(U310*0.02,2)","v":0},{"$f":"ROUND(U310+Y310+Z310+AA310+AB310+AM310,2)","v":0},{"$f":"ROUND(L310*AN310,2)","v":0},"-","-","-","-"]
[null,2,null,null,"Цена завода","Изолятор штыревой ШС-10Е цена 214,38:4,03.1,13",null,null,"шт.",null,null,{"$f":"SUM(L312)","v":69},null,null,null,null,null,null,null,null,null,null,null,null,null,null,null,null,null,null,null,null,null,null,null,null,null,null,null,null,{"$f":"SUM(AO312)","v":0}]
[null,1,"ВЛ 6 кВ на куст 3129.2 (габ. 6 кВ) Приразломное м/р. Правдинский (КС00091313)","ЛС 04-02-01","Цена завода","Изолятор штыревой ШС-10Е цена 214,38:4,03.1,13","-",null,"шт.",null,"-",69,"-",null,"-","-",null,"-",60.11,null,null,"-","-","-",null,{"$f":"ROUND((U312+AM312)*0.0659,2)","v":0},null,null,"-","-","-","-","-","-","-","-","-","-",{"$f":"ROUND(U312*0.02,2)","v":0},{"$f":"ROUND(U312+Y312+Z312+AA312+AB312+AM312,2)","v":0},{"$f":"ROUND(L312*AN312,2)","v":0},"-","-","-","-"]
[null,3,null,null,"Цена завода","Изолятор штыревой ШС-10Г, цена 214,38:4,03.1,13",null,null,"шт.",null,null,{"$f":"SUM(L314)","v":19},null,null,null,null,null,null,null,null,null,null,null,null,null,null,null,null,null,null,null,null,null,null,null,null,null,null,null,null,{"$f":"SUM(AO314)","v":0}]
[null,1,"ВЛ 6 кВ на куст 3129.1 (габ.110 кВ) Приразломное м/р. Правдинский (КС00091309)","ЛС 04-01-01","Цена завода","Изолятор штыревой ШС-10Г, цена 214,38:4,03.1,13","-",null,"шт.",null,"-",19,"-",null,"-","-",null,"-",60.11,null,null,"-","-","-",null,{"$f":"ROUND((U314+AM314)*0.0659,2)","v":0},null,null,"-","-","-","-","-","-","-","-","-","-",{"$f":"ROUND(U314*0.02,2)","v":0},{"$f":"ROUND(U314+Y314+Z314+AA314+AB314+AM314,2)","v":0},{"$f":"ROUND(L314*AN314,2)","v":0},"-","-","-","-"]
[null,4,null,null,"101-1602","Ацетилен газообразный технический",null,null,"м3",null,null,{"$f":"SUM(L316:L318)","v":4.5758600000000005},null,null,null,null,null,null,null,null,null,null,null,null,null,null,null,null,null,null,null,null,null,null,null,null,null,null,null,null,{"$f":"SUM(AO316:AO318)","v":0}]
[null,1,"ВЛ 6 кВ на куст 3129.1 (габ.110 кВ) Приразломное м/р. Правдинский (КС00091309)","ЛС 04-01-01","101-1602","Ацетилен газообразный технический","-",null,"м3",null,"-",3.5453000000000001,"-",null,"-","-",null,"-",62.08,null,null,"-","-","-",null,{"$f":"ROUND((U316+AM316)*0.0659,2)","v":0},null,null,"-","-","-","-","-","-","-","-","-","-",{"$f":"ROUND(U316*0.02,2)","v":0},{"$f":"ROUND(U316+Y316+Z316+AA316+AB316+AM316,2)","v":0},{"$f":"ROUND(L316*AN316,2)","v":0},"-","-","-","-"]
[null,2,"ВЛ 6 кВ на куст 3129.2 (габ. 6 кВ) Приразломное м/р. Правдинский (КС00091313)","ЛС 04-02-01","101-1602","Ацетилен газообразный технический","-",null,"м3",null,"-",1.0080800000000001,"-",null,"-","-",null,"-",62.08,null,null,"-","-","-",null,{"$f":"ROUND((U317+AM317)*0.0659,2)","v":0},null,null,"-","-","-","-","-","-","-","-","-","-",{"$f":"ROUND(U317*0.02,2)","v":0},{"$f":"ROUND(U317+Y317+Z317+AA317+AB317+AM317,2)","v":0},{"$f":"ROUND(L317*AN317,2)","v":0},"-","-","-","-"]
[null,3,"ВЛ 6 кВ на куст 3129.1 (габ.110 кВ) Приразломное м/р. Правдинский (КС00091309)","ЛС 04-01-02","101-1602","Ацетилен газообразный технический","-",null,"м3",null,"-",2.248E-2,"-",null,"-","-",null,"-",62.08,null,null,"-","-","-",null,{"$f":"ROUND((U318+AM318)*0.0659,2)","v":0},null,null,"-","-","-","-","-","-","-","-","-","-",{"$f":"ROUND(U318*0.02,2)","v":0},{"$f":"ROUND(U318+Y318+Z318+AA318+AB318+AM318,2)","v":0},{"$f":"ROUND(L318*AN318,2)","v":0},"-","-","-","-"]
[null,5,null,null,"113-0077","Ксилол нефтяной марки А",null,null,"т",null,null,{"$f":"SUM(L320:L321)","v":5.9080000000000001E-3},null,null,null,null,null,null,null,null,null,null,null,null,null,null,null,null,null,null,null,null,null,null,null,null,null,null,null,null,{"$f":"SUM(AO320:AO321)","v":0}]
[null,1,"ВЛ 6 кВ на куст 3129.2 (габ. 6 кВ) Приразломное м/р. Правдинский (КС00091313)","ЛС 04-02-01","113-0077","Ксилол нефтяной марки А","-",null,"т",null,"-",4.28E-3,"-",null,"-","-",null,"-",8496.2800000000007,null,null,"-","-","-",null,{"$f":"ROUND((U320+AM320)*0.0659,2)","v":0},null,null,"-","-","-","-","-","-","-","-","-","-",{"$f":"ROUND(U320*0.02,2)","v":0},{"$f":"ROUND(U320+Y320+Z320+AA320+AB320+AM320,2)","v":0},{"$f":"ROUND(L320*AN320,2)","v":0},"-","-","-","-"]
[null,2,"ВЛ 6 кВ на куст 3129.1 (габ.110 кВ) Приразломное м/р. Правдинский (КС00091309)","ЛС 04-01-01","113-0077","Ксилол нефтяной марки А","-",null,"т",null,"-",1.6280000000000001E-3,"-",null,"-","-",null,"-",8496.2800000000007,null,null,"-","-","-",null,{"$f":"ROUND((U321+AM321)*0.0659,2)","v":0},null,null,"-","-","-","-","-","-","-","-","-","-",{"$f":"ROUND(U321*0.02,2)","v":0},{"$f":"ROUND(U321+Y321+Z321+AA321+AB321+AM321,2)","v":0},{"$f":"ROUND(L321*AN321,2)","v":0},"-","-","-","-"]
[null,6,null,null,"101-0069","Бензин авиационный Б-70",null,null,"т",null,null,{"$f":"SUM(L323)","v":3.2000000000000002E-3},null,null,null,null,null,null,null,null,null,null,null,null,null,null,null,null,null,null,null,null,null,null,null,null,null,null,null,null,{"$f":"SUM(AO323)","v":0}]
[null,1,"ВЛ 6 кВ на куст 3129.1 (габ.110 кВ) Приразломное м/р. Правдинский (КС00091309)","ЛС 04-01-02","101-0069","Бензин авиационный Б-70","-",null,"т",null,"-",3.2000000000000002E-3,"-",null,"-","-",null,"-",6065.37,null,null,"-","-","-",null,{"$f":"ROUND((U323+AM323)*0.0659,2)","v":0},null,null,"-","-","-","-","-","-","-","-","-","-",{"$f":"ROUND(U323*0.02,2)","v":0},{"$f":"ROUND(U323+Y323+Z323+AA323+AB323+AM323,2)","v":0},{"$f":"ROUND(L323*AN323,2)","v":0},"-","-","-","-"]
[null,7,null,null,"101-1745","Бензин растворитель",null,null,"т",null,null,{"$f":"SUM(L325:L326)","v":1.2666000000000001E-3},null,null,null,null,null,null,null,null,null,null,null,null,null,null,null,null,null,null,null,null,null,null,null,null,null,null,null,null,{"$f":"SUM(AO325:AO326)","v":0}]
[null,1,"ВЛ 6 кВ на куст 3129.2 (габ. 6 кВ) Приразломное м/р. Правдинский (КС00091313)","ЛС 04-02-01","101-1745","Бензин растворитель","-",null,"т",null,"-",9.5940000000000001E-4,"-",null,"-","-",null,"-",8302.3700000000008,null,null,"-","-","-",null,{"$f":"ROUND((U325+AM325)*0.0659,2)","v":0},null,null,"-","-","-","-","-","-","-","-","-","-",{"$f":"ROUND(U325*0.02,2)","v":0},{"$f":"ROUND(U325+Y325+Z325+AA325+AB325+AM325,2)","v":0},{"$f":"ROUND(L325*AN325,2)","v":0},"-","-","-","-"]
[null,2,"ВЛ 6 кВ на куст 3129.1 (габ.110 кВ) Приразломное м/р. Правдинский (КС00091309)","ЛС 04-01-01","101-1745","Бензин растворитель","-",null,"т",null,"-",3.0719999999999999E-4,"-",null,"-","-",null,"-",8302.3700000000008,null,null,"-","-","-",null,{"$f":"ROUND((U326+AM326)*0.0659,2)","v":0},null,null,"-","-","-","-","-","-","-","-","-","-",{"$f":"ROUND(U326*0.02,2)","v":0},{"$f":"ROUND(U326+Y326+Z326+AA326+AB326+AM326,2)","v":0},{"$f":"ROUND(L326*AN326,2)","v":0},"-","-","-","-"]
[null,"Итого Материалы",null,null,null,null,null,null,null,null,null,null,null,null,null,null,null,null,null,null,null,null,null,null,null,null,null,null,null,null,null,null,null,null,null,null,null,null,null,null,{"$f":"AO308+AO311+AO313+AO315+AO319+AO322+AO324","v":0}]
["cont_from_cust_metal","Металлоконструкции"]
[null,"Итого Металлоконструкции"]
["cont_from_cust_equipment","Оборудование"]
[null,"Итого Оборудование"]
[null,"Итого по Разделу III. Материалы и оборудование, переданные от заказчика к подрядчику",null,null,null,null,null,null,null,null,null,null,null,null,null,null,null,null,null,null,null,null,null,null,null,null,null,null,null,null,null,null,null,null,null,null,null,null,null,null,{"$f":"AO327+AO329+AO331","v":0}]
[null,"ВСЕГО",null,null,null,null,null,null,null,null,null,null,null,null,null,null,null,null,null,null,null,null,null,null,null,null,null,null,null,null,null,null,null,null,null,null,null,null,null,null,{"$f":"AO305+AO53+AO332","v":0}]
[]
[null,null,"Примечание:"]
[null,null,1]
[null,null,2]
[null,null,3]
[null,null,4]
[null,null,5]
[null,null,6]
[null,null,7]

{"sheet":"РВ по лоту","index":25,"n_rows":408,"n_cols":13,"rows_kept":408,"cut":false,"hidden":false,"merged":[[25,1,25,7],[3,1,3,12],[4,1,4,12],[9,1,11,1],[9,2,11,2],[9,3,11,3],[9,4,11,4],[9,5,11,5],[9,6,11,6],[9,7,11,7],[9,9,9,12],[10,9,10,10],[10,11,10,12],[14,1,14,12],[15,1,15,7],[16,1,16,7],[392,9,392,12],[323,1,323,7],[270,1,270,7],[271,1,271,7],[295,1,295,7],[296,1,296,7],[297,1,297,7],[298,1,298,7],[299,1,299,7],[319,1,319,7],[320,1,320,7],[321,1,321,7],[322,1,322,7],[382,1,382,7],[389,1,389,7],[390,1,390,7],[391,1,391,7],[392,1,392,7],[324,1,324,7],[325,1,325,7],[379,1,379,7],[380,1,380,7],[381,1,381,7]]}
[]
[]
["95B8996E-A92E-40F2-8A9B-251AB1F004D4"]
["D13F53EC-F619-44F7-A823-E2CECF3856DD","Разделительная ведомость материалов поставки Заказчика/Подрядчика"]
[null,{"$f":"'Исходные данные'!D19","v":"Строительство объектов энергетики Правдинского региона"}]
[null,null,null,"Шифр проекта","1980615/0880Д",null,null,null,null,null,null,null,"2000350438 (680-20-КС(ТЗ))"]
[null,null,null,"Разработчик проекта","ООО «РН-УфаНИПИнефть»"]
[null,null,null,"Заказчик","ООО \"РН-Юганскнефтегаз\""]
[]
[null,"№ п/п","Наименование объекта","№ ЛСР","Шифр ресурсов | Код ФСНБ1","Наименование материалов | Наименование материала/оборудования","Ед. изм.","Количество",null,"Поставщик"]
[null,null,null,null,null,null,null,null,null,"Заказчик",null,"Подрядчик"]
[null,null,null,null,null,null,null,null,null,"Цена за ед.","Сумма, руб","Цена за ед.","Сумма, руб"]
[null,1,2,3,4,5,6,7,null,8,9,10,11]
["object_code","C10","C67","C11","C12","C13","C14","C15","C16","C62","C63","C32","C57"]
[]
[null,"Раздел I: МТР, приобретаемые Подрядчиком самостоятельно"]
["cont_materials","Раздел. Материалы поставки Подрядчика"]
[null,null,null,null,"102-0008","Лесоматериалы круглые хвойных пород для строительства диаметром 14-24 см, длиной 3-6,5 м","м3",{"$f":"SUM(H19:H25)","v":3528.2378435999995},null,null,null,null,{"$f":"SUM(M19:M25)","v":0}]
[null,1,"ВЛ 6 кВ на куст 3129.1 (габ.110 кВ) Приразломное м/р. Правдинский (КС00091309)","ЛС 08-04-01-02","102-0008","Лесоматериалы круглые хвойных пород для строительства диаметром 14-24 см, длиной 3-6,5 м","м3",1281.9166154,699.42,null,null,{"$f":"'ВМП по лоту'!AN18","v":0},{"$f":"ROUND(H19*L19,2)","v":0}]
[null,2,"ВЛ 6 кВ на куст 3129.2 (габ. 6 кВ) Приразломное м/р. Правдинский (КС00091313)","ЛС 08-04-02-01","102-0008","Лесоматериалы круглые хвойных пород для строительства диаметром 14-24 см, длиной 3-6,5 м","м3",699.67384619999996,699.42,null,null,{"$f":"'ВМП по лоту'!AN19","v":0},0]
[null,3,"ВЛ 6 кВ на куст 3129.1 (габ.110 кВ) Приразломное м/р. Правдинский (КС00091309)","ЛС 08-04-01-03","102-0008","Лесоматериалы круглые хвойных пород для строительства диаметром 14-24 см, длиной 3-6,5 м","м3",976.5,699.42,null,null,{"$f":"'ВМП по лоту'!AN20","v":0},0]
[null,4,"ВЛ 6 кВ на куст 3129.1 (габ.110 кВ) Приразломное м/р. Правдинский (КС00091309)","ЛС 08-04-01-04","102-0008","Лесоматериалы круглые хвойных пород для строительства диаметром 14-24 см, длиной 3-6,5 м","м3",569.625,699.42,null,null,{"$f":"'ВМП по лоту'!AN21","v":0},0]
[null,5,"ВЛ 6 кВ на куст 3129.1 (габ.110 кВ) Приразломное м/р. Правдинский (КС00091309)","ЛС 04-01-01","102-0008","Лесоматериалы круглые хвойных пород для строительства диаметром 14-24 см, длиной 3-6,5 м","м3",0.37580000000000002,699.42,null,null,{"$f":"'ВМП по лоту'!AN22","v":0},0]
[null,6,"ВЛ 6 кВ на куст 3129.2 (габ. 6 кВ) Приразломное м/р. Правдинский (КС00091313)","ЛС 04-02-01","102-0008","Лесоматериалы круглые хвойных пород для строительства диаметром 14-24 см, длиной 3-6,5 м","м3",0.14208599999999999,699.42,null,null,{"$f":"'ВМП по лоту'!AN23","v":0},0]
[null,7,"ВЛ 6 кВ на куст 3129.1 (габ.110 кВ) Приразломное м/р. Правдинский (КС00091309)","ЛС 04-01-02","102-0008","Лесоматериалы круглые хвойных пород для строительства диаметром 14-24 см, длиной 3-6,5 м","м3",4.496E-3,699.42,null,null,{"$f":"'ВМП по лоту'!AN24","v":0},0]
["cont_other_materials","Вспомогательные материалы"]
[null,null,null,null,"113-0240","Эмаль ХС-759 белая","т",{"$f":"SUM(H28:H30)","v":2.2397960000000001},null,null,null,null,{"$f":"SUM(M28:M30)","v":0}]
[null,1,"ВЛ 6 кВ на куст 3129.1 (габ.110 кВ) Приразломное м/р. Правдинский (КС00091309)","ЛС 04-01-01","113-0240","Эмаль ХС-759 белая","т",1.7733840000000001,36209.300000000003,null,null,{"$f":"'ВМП по лоту'!AN57","v":0},{"$f":"ROUND(H28*L28,2)","v":0}]
[null,2,"ВЛ 6 кВ на куст 3129.2 (габ. 6 кВ) Приразломное м/р. Правдинский (КС00091313)","ЛС 04-02-01","113-0240","Эмаль ХС-759 белая","т",0.45227600000000001,36209.300000000003,null,null,{"$f":"'ВМП по лоту'!AN58","v":0},{"$f":"ROUND(H29*L29,2)","v":0}]
[null,3,"ВЛ 6 кВ на куст 3129.1 (габ.110 кВ) Приразломное м/р. Правдинский (КС00091309)","ЛС 04-01-02","113-0240","Эмаль ХС-759 белая","т",1.4135999999999999E-2,36209.300000000003,null,null,{"$f":"'ВМП по лоту'!AN59","v":0},{"$f":"ROUND(H30*L30,2)","v":0}]
[null,null,null,null,"101-1305","Портландцемент общестроительного назначения бездобавочный марки 400","т",{"$f":"SUM(H32:H34)","v":30.905999999999999},null,null,null,null,{"$f":"SUM(M32:M34)","v":0}]
[null,1,"ВЛ 6 кВ на куст 3129.1 (габ.110 кВ) Приразломное м/р. Правдинский (КС00091309)","ЛС 04-01-01","101-1305","Портландцемент общестроительного назначения бездобавочный марки 400","т",27.224,545.51,null,null,{"$f":"'ВМП по лоту'!AN61","v":0},{"$f":"ROUND(H32*L32,2)","v":0}]
[null,2,"ВЛ 6 кВ на куст 3129.2 (габ. 6 кВ) Приразломное м/р. Правдинский (КС00091313)","ЛС 04-02-01","101-1305","Портландцемент общестроительного назначения бездобавочный марки 400","т",3.5840000000000001,545.51,null,null,{"$f":"'ВМП по лоту'!AN62","v":0},{"$f":"ROUND(H33*L33,2)","v":0}]
[null,3,"ВЛ 6 кВ на куст 3129.1 (габ.110 кВ) Приразломное м/р. Правдинский (КС00091309)","ЛС 04-01-02","101-1305","Портландцемент общестроительного назначения бездобавочный марки 400","т",9.8000000000000004E-2,545.51,null,null,{"$f":"'ВМП по лоту'!AN63","v":0},{"$f":"ROUND(H34*L34,2)","v":0}]
[null,null,null,null,"Цена завода","Гаситель вибрации ГВП-1,6-11-400, цена 956,2:4,03.1,13","шт.",{"$f":"SUM(H36)","v":135},null,null,null,null,{"$f":"SUM(M36)","v":0}]
[null,1,"ВЛ 6 кВ на куст 3129.1 (габ.110 кВ) Приразломное м/р. Правдинский (КС00091309)","ЛС 04-01-01","Цена завода","Гаситель вибрации ГВП-1,6-11-400, цена 956,2:4,03.1,13","шт.",135,268.12,null,null,{"$f":"'ВМП по лоту'!AN65","v":0},{"$f":"ROUND(H36*L36,2)","v":0}]
[null,null,null,null,"509-8110","Трос грозозащитный. МЗ-9,2-ОЖ-Н-Р","т",{"$f":"SUM(H38)","v":1.1000000000000001},null,null,null,null,{"$f":"SUM(M38)","v":0}]
[null,1,"ВЛ 6 кВ на куст 3129.1 (габ.110 кВ) Приразломное м/р. Правдинский (КС00091309)","ЛС 04-01-01","509-8110","Трос грозозащитный. МЗ-9,2-ОЖ-Н-Р","т",1.1000000000000001,18075.88,null,null,{"$f":"'ВМП по лоту'!AN67","v":0},{"$f":"ROUND(H38*L38,2)","v":0}]
[null,null,null,null,"113-0449","Грунтовка полиуретановая цинконаполненая, композиция ЦИНОТАН","кг",{"$f":"SUM(H40:H42)","v":148.43400000000003},null,null,null,null,{"$f":"SUM(M40:M42)","v":0}]
[null,1,"ВЛ 6 кВ на куст 3129.2 (габ. 6 кВ) Приразломное м/р. Правдинский (КС00091313)","ЛС 04-02-01","113-0449","Грунтовка полиуретановая цинконаполненая, композиция ЦИНОТАН","кг",95.004000000000005,4.1100000000000003,null,null,{"$f":"'ВМП по лоту'!AN69","v":0},{"$f":"ROUND(H40*L40,2)","v":0}]
[null,2,"ВЛ 6 кВ на куст 3129.1 (габ.110 кВ) Приразломное м/р. Правдинский (КС00091309)","ЛС 04-01-01","113-0449","Грунтовка полиуретановая цинконаполненая, композиция ЦИНОТАН","кг",38.493000000000002,4.1100000000000003,null,null,{"$f":"'ВМП по лоту'!AN70","v":0},{"$f":"ROUND(H41*L41,2)","v":0}]
[null,3,"ВЛ 6 кВ на куст 3129.1 (габ.110 кВ) Приразломное м/р. Правдинский (КС00091309)","ЛС 04-01-02","113-0449","Грунтовка полиуретановая цинконаполненая, композиция ЦИНОТАН","кг",14.936999999999999,4.1100000000000003,null,null,{"$f":"'ВМП по лоту'!AN71","v":0},{"$f":"ROUND(H42*L42,2)","v":0}]
[null,null,null,null,"113-0030","Грунтовка ХС-059 красно-коричневая","т",{"$f":"SUM(H44:H46)","v":0.47153599999999996},null,null,null,null,{"$f":"SUM(M44:M46)","v":0}]
[null,1,"ВЛ 6 кВ на куст 3129.1 (габ.110 кВ) Приразломное м/р. Правдинский (КС00091309)","ЛС 04-01-01","113-0030","Грунтовка ХС-059 красно-коричневая","т",0.37334400000000001,28666.34,null,null,{"$f":"'ВМП по лоту'!AN73","v":0},{"$f":"ROUND(H44*L44,2)","v":0}]
[null,2,"ВЛ 6 кВ на куст 3129.2 (габ. 6 кВ) Приразломное м/р. Правдинский (КС00091313)","ЛС 04-02-01","113-0030","Грунтовка ХС-059 красно-коричневая","т",9.5215999999999995E-2,28666.34,null,null,{"$f":"'ВМП по лоту'!AN74","v":0},{"$f":"ROUND(H45*L45,2)","v":0}]
[null,3,"ВЛ 6 кВ на куст 3129.1 (габ.110 кВ) Приразломное м/р. Правдинский (КС00091309)","ЛС 04-01-02","113-0030","Грунтовка ХС-059 красно-коричневая","т",2.9759999999999999E-3,28666.34,null,null,{"$f":"'ВМП по лоту'!AN75","v":0},{"$f":"ROUND(H46*L46,2)","v":0}]
[null,null,null,null,"113-8098","Эмаль полиуретановая защитно-декоративная \"Политон-УР\"","кг",{"$f":"SUM(H48:H50)","v":128.45250000000001},null,null,null,null,{"$f":"SUM(M48:M50)","v":0}]
[null,1,"ВЛ 6 кВ на куст 3129.2 (габ. 6 кВ) Приразломное м/р. Правдинский (КС00091313)","ЛС 04-02-01","113-8098","Эмаль полиуретановая защитно-декоративная \"Политон-УР\"","кг",82.215000000000003,139.38999999999999,null,null,{"$f":"'ВМП по лоту'!AN77","v":0},{"$f":"ROUND(H48*L48,2)","v":0}]
[null,2,"ВЛ 6 кВ на куст 3129.1 (габ.110 кВ) Приразломное м/р. Правдинский (КС00091309)","ЛС 04-01-01","113-8098","Эмаль полиуретановая защитно-декоративная \"Политон-УР\"","кг",33.311250000000001,139.38999999999999,null,null,{"$f":"'ВМП по лоту'!AN78","v":0},{"$f":"ROUND(H49*L49,2)","v":0}]
[null,3,"ВЛ 6 кВ на куст 3129.1 (габ.110 кВ) Приразломное м/р. Правдинский (КС00091309)","ЛС 04-01-02","113-8098","Эмаль полиуретановая защитно-декоративная \"Политон-УР\"","кг",12.92625,139.38999999999999,null,null,{"$f":"'ВМП по лоту'!AN79","v":0},{"$f":"ROUND(H50*L50,2)","v":0}]
[null,null,null,null,"Цена завода","Зажим натяжной НБ-2-6","шт.",{"$f":"SUM(H52)","v":86},null,null,null,null,{"$f":"SUM(M52)","v":0}]
[null,1,"ВЛ 6 кВ на куст 3129.1 (габ.110 кВ) Приразломное м/р. Правдинский (КС00091309)","ЛС 04-01-01","Цена завода","Зажим натяжной НБ-2-6","шт.",86,149.41,null,null,{"$f":"'ВМП по лоту'!AN81","v":0},{"$f":"ROUND(H52*L52,2)","v":0}]
[null,null,null,null,"101-2467","Растворитель марки Р-4","т",{"$f":"SUM(H54:H56)","v":0.70873999999999993},null,null,null,null,{"$f":"SUM(M54:M56)","v":0}]
[null,1,"ВЛ 6 кВ на куст 3129.1 (габ.110 кВ) Приразломное м/р. Правдинский (КС00091309)","ЛС 04-01-01","101-2467","Растворитель марки Р-4","т",0.5642102,15736.71,null,null,{"$f":"'ВМП по лоту'!AN83","v":0},{"$f":"ROUND(H54*L54,2)","v":0}]
[null,2,"ВЛ 6 кВ на куст 3129.2 (габ. 6 кВ) Приразломное м/р. Правдинский (КС00091313)","ЛС 04-02-01","101-2467","Растворитель марки Р-4","т",0.13952400000000001,15736.71,null,null,{"$f":"'ВМП по лоту'!AN84","v":0},{"$f":"ROUND(H55*L55,2)","v":0}]
[null,3,"ВЛ 6 кВ на куст 3129.1 (габ.110 кВ) Приразломное м/р. Правдинский (КС00091309)","ЛС 04-01-02","101-2467","Растворитель марки Р-4","т",5.0058000000000004E-3,15736.71,null,null,{"$f":"'ВМП по лоту'!AN85","v":0},{"$f":"ROUND(H56*L56,2)","v":0}]
[null,null,null,null,"509-0455","Соединитель алюминиевых и сталеалюминиевых проводов (СОАС) 062-3","шт.",{"$f":"SUM(H58:H59)","v":71.774000000000001},null,null,null,null,{"$f":"SUM(M58:M59)","v":0}]
[null,1,"ВЛ 6 кВ на куст 3129.2 (габ. 6 кВ) Приразломное м/р. Правдинский (КС00091313)","ЛС 04-02-01","509-0455","Соединитель алюминиевых и сталеалюминиевых проводов (СОАС) 062-3","шт.",54.366,147.22,null,null,{"$f":"'ВМП по лоту'!AN87","v":0},{"$f":"ROUND(H58*L58,2)","v":0}]
[null,2,"ВЛ 6 кВ на куст 3129.1 (габ.110 кВ) Приразломное м/р. Правдинский (КС00091309)","ЛС 04-01-01","509-0455","Соединитель алюминиевых и сталеалюминиевых проводов (СОАС) 062-3","шт.",17.408000000000001,147.22,null,null,{"$f":"'ВМП по лоту'!AN88","v":0},{"$f":"ROUND(H59*L59,2)","v":0}]
[null,null,null,null,"509-2853","Скоба СК-12-1А","шт.",{"$f":"SUM(H61)","v":98},null,null,null,null,{"$f":"SUM(M61)","v":0}]
[null,1,"ВЛ 6 кВ на куст 3129.1 (габ.110 кВ) Приразломное м/р. Правдинский (КС00091309)","ЛС 04-01-01","509-2853","Скоба СК-12-1А","шт.",98,91.37,null,null,{"$f":"'ВМП по лоту'!AN90","v":0},{"$f":"ROUND(H61*L61,2)","v":0}]
[null,null,null,null,"101-1805","Гвозди строительные","т",{"$f":"SUM(H63:H64)","v":0.51332820000000001},null,null,null,null,{"$f":"SUM(M63:M64)","v":0}]
[null,1,"ВЛ 6 кВ на куст 3129.1 (габ.110 кВ) Приразломное м/р. Правдинский (КС00091309)","ЛС 04-01-01","101-1805","Гвозди строительные","т",0.4640108,12841.36,null,null,{"$f":"'ВМП по лоту'!AN92","v":0},{"$f":"ROUND(H63*L63,2)","v":0}]
[null,2,"ВЛ 6 кВ на куст 3129.2 (габ. 6 кВ) Приразломное м/р. Правдинский (КС00091313)","ЛС 04-02-01","101-1805","Гвозди строительные","т",4.9317399999999997E-2,12841.36,null,null,{"$f":"'ВМП по лоту'!AN93","v":0},{"$f":"ROUND(H64*L64,2)","v":0}]
[null,null,null,null,"Цена завода","Зажим натяжной НБ-2-6","шт.",{"$f":"SUM(H66)","v":75},null,null,null,null,{"$f":"SUM(M66)","v":0}]
[null,1,"ВЛ 6 кВ на куст 3129.2 (габ. 6 кВ) Приразломное м/р. Правдинский (КС00091313)","ЛС 04-02-01","Цена завода","Зажим натяжной НБ-2-6","шт.",75,90.29,null,null,{"$f":"'ВМП по лоту'!AN95","v":0},{"$f":"ROUND(H66*L66,2)","v":0}]
[null,null,null,null,"101-1513","Электроды диаметром 4 мм Э42","т",{"$f":"SUM(H68:H70)","v":0.5641548999999999},null,null,null,null,{"$f":"SUM(M68:M70)","v":0}]
[null,1,"ВЛ 6 кВ на куст 3129.1 (габ.110 кВ) Приразломное м/р. Правдинский (КС00091309)","ЛС 04-01-01","101-1513","Электроды диаметром 4 мм Э42","т",0.42782609999999999,11058.49,null,null,{"$f":"'ВМП по лоту'!AN97","v":0},{"$f":"ROUND(H68*L68,2)","v":0}]
[null,2,"ВЛ 6 кВ на куст 3129.2 (габ. 6 кВ) Приразломное м/р. Правдинский (КС00091313)","ЛС 04-02-01","101-1513","Электроды диаметром 4 мм Э42","т",0.13402839999999999,11058.49,null,null,{"$f":"'ВМП по лоту'!AN98","v":0},{"$f":"ROUND(H69*L69,2)","v":0}]
[null,3,"ВЛ 6 кВ на куст 3129.1 (габ.110 кВ) Приразломное м/р. Правдинский (КС00091309)","ЛС 04-01-02","101-1513","Электроды диаметром 4 мм Э42","т",2.3004000000000002E-3,11058.49,null,null,{"$f":"'ВМП по лоту'!AN99","v":0},{"$f":"ROUND(H70*L70,2)","v":0}]
[null,null,null,null,"113-0250","Эмаль кремнийорганическая КО-88 серебристая термостойкая","т",{"$f":"SUM(H72:H73)","v":0.12548999999999999},null,null,null,null,{"$f":"SUM(M72:M73)","v":0}]
[null,1,"ВЛ 6 кВ на куст 3129.1 (габ.110 кВ) Приразломное м/р. Правдинский (КС00091309)","ЛС 04-01-01","113-0250","Эмаль кремнийорганическая КО-88 серебристая термостойкая","т",7.6770000000000005E-2,113779.3,null,null,{"$f":"'ВМП по лоту'!AN101","v":0},{"$f":"ROUND(H72*L72,2)","v":0}]
[null,2,"ВЛ 6 кВ на куст 3129.2 (габ. 6 кВ) Приразломное м/р. Правдинский (КС00091313)","ЛС 04-02-01","113-0250","Эмаль кремнийорганическая КО-88 серебристая термостойкая","т",4.8719999999999999E-2,113779.3,null,null,{"$f":"'ВМП по лоту'!AN102","v":0},{"$f":"ROUND(H73*L73,2)","v":0}]
[null,null,null,null,"509-1772","Ушко двухлапчатое У2-7-16, У2К-7-16","шт.",{"$f":"SUM(H75)","v":49},null,null,null,null,{"$f":"SUM(M75)","v":0}]
[null,1,"ВЛ 6 кВ на куст 3129.1 (габ.110 кВ) Приразломное м/р. Правдинский (КС00091309)","ЛС 04-01-01","509-1772","Ушко двухлапчатое У2-7-16, У2К-7-16","шт.",49,103.7,null,null,{"$f":"'ВМП по лоту'!AN104","v":0},{"$f":"ROUND(H75*L75,2)","v":0}]
[null,null,null,null,"Цена завода","Гаситель вибрации ГВП-0,8-9,1-350, цена 662:4,03.1,13","шт.",{"$f":"SUM(H77)","v":23},null,null,null,null,{"$f":"SUM(M77)","v":0}]
[null,1,"ВЛ 6 кВ на куст 3129.1 (габ.110 кВ) Приразломное м/р. Правдинский (КС00091309)","ЛС 04-01-01","Цена завода","Гаситель вибрации ГВП-0,8-9,1-350, цена 662:4,03.1,13","шт.",23,185.68,null,null,{"$f":"'ВМП по лоту'!AN106","v":0},{"$f":"ROUND(H77*L77,2)","v":0}]
[null,null,null,null,"509-1771","Ушко однолапчатое У1-7-16, У1К-7-16","шт.",{"$f":"SUM(H79)","v":58},null,null,null,null,{"$f":"SUM(M79)","v":0}]
[null,1,"ВЛ 6 кВ на куст 3129.1 (габ.110 кВ) Приразломное м/р. Правдинский (КС00091309)","ЛС 04-01-01","509-1771","Ушко однолапчатое У1-7-16, У1К-7-16","шт.",58,65.680000000000007,null,null,{"$f":"'ВМП по лоту'!AN108","v":0},{"$f":"ROUND(H79*L79,2)","v":0}]
[null,null,null,null,"101-1518","Электроды диаметром 4 мм Э50А","т",{"$f":"SUM(H81:H82)","v":0.29520000000000002},null,null,null,null,{"$f":"SUM(M81:M82)","v":0}]
[null,1,"ВЛ 6 кВ на куст 3129.1 (габ.110 кВ) Приразломное м/р. Правдинский (КС00091309)","ЛС 04-01-01","101-1518","Электроды диаметром 4 мм Э50А","т",0.23760000000000001,12322.45,null,null,{"$f":"'ВМП по лоту'!AN110","v":0},{"$f":"ROUND(H81*L81,2)","v":0}]
[null,2,"ВЛ 6 кВ на куст 3129.2 (габ. 6 кВ) Приразломное м/р. Правдинский (КС00091313)","ЛС 04-02-01","101-1518","Электроды диаметром 4 мм Э50А","т",5.7599999999999998E-2,12322.45,null,null,{"$f":"'ВМП по лоту'!AN111","v":0},{"$f":"ROUND(H82*L82,2)","v":0}]
[null,null,null,null,"Прайс-лист","Короб глухой металлический с крышкой 100х200х2000,цена 592,46:4,05.1,13","шт.",{"$f":"SUM(H84)","v":23},null,null,null,null,{"$f":"SUM(M84)","v":0}]
[null,1,"ВЛ 6 кВ на куст 3129.1 (габ.110 кВ) Приразломное м/р. Правдинский (КС00091309)","ЛС 04-01-02","Прайс-лист","Короб глухой металлический с крышкой 100х200х2000,цена 592,46:4,05.1,13","шт.",23,165.3,null,null,{"$f":"'ВМП по лоту'!AN113","v":0},{"$f":"ROUND(H84*L84,2)","v":0}]
[null,null,null,null,"Цена завода","Звено промежуточное трехлапчатое ПРТ-7-1","шт.",{"$f":"SUM(H86:H87)","v":112},null,null,null,null,{"$f":"SUM(M86:M87)","v":0}]
[null,1,"ВЛ 6 кВ на куст 3129.2 (габ. 6 кВ) Приразломное м/р. Правдинский (КС00091313)","ЛС 04-02-01","Цена завода","Звено промежуточное трехлапчатое ПРТ-7-1","шт.",75,32.869999999999997,null,null,{"$f":"'ВМП по лоту'!AN115","v":0},{"$f":"ROUND(H86*L86,2)","v":0}]
[null,2,"ВЛ 6 кВ на куст 3129.1 (габ.110 кВ) Приразломное м/р. Правдинский (КС00091309)","ЛС 04-01-01","Цена завода","Звено промежуточное трехлапчатое ПРТ-7-1","шт.",37,32.869999999999997,null,null,{"$f":"'ВМП по лоту'!AN116","v":0},{"$f":"ROUND(H87*L87,2)","v":0}]
[null,null,null,null,"101-2557","Патроны термитные со спичками","комплект",{"$f":"SUM(H89)","v":42},null,null,null,null,{"$f":"SUM(M89)","v":0}]
[null,1,"ВЛ 6 кВ на куст 3129.1 (габ.110 кВ) Приразломное м/р. Правдинский (КС00091309)","ЛС 04-01-01","101-2557","Патроны термитные со спичками","комплект",42,76.77,null,null,{"$f":"'ВМП по лоту'!AN118","v":0},{"$f":"ROUND(H89*L89,2)","v":0}]
[null,null,null,null,"Прайс-лист","Муфта концевая термоусаживаемая 10кВ для одножильного кабеля из сшитого полиэтилена наружной установки РОLT-12D/1XО-L12А, цена 6730:3,97.1,13:1,18","комплект",{"$f":"SUM(H91)","v":2},null,null,null,null,{"$f":"SUM(M91)","v":0}]
[null,1,"ВЛ 6 кВ на куст 3129.1 (габ.110 кВ) Приразломное м/р. Правдинский (КС00091309)","ЛС 04-01-02","Прайс-лист","Муфта концевая термоусаживаемая 10кВ для одножильного кабеля из сшитого полиэтилена наружной установки РОLT-12D/1XО-L12А, цена 6730:3,97.1,13:1,18","комплект",2,1623.38,null,null,{"$f":"'ВМП по лоту'!AN120","v":0},{"$f":"ROUND(H91*L91,2)","v":0}]
[null,null,null,null,"509-1768","Скоба СК-7-1А","шт.",{"$f":"SUM(H93)","v":54},null,null,null,null,{"$f":"SUM(M93)","v":0}]
[null,1,"ВЛ 6 кВ на куст 3129.1 (габ.110 кВ) Приразломное м/р. Правдинский (КС00091309)","ЛС 04-01-01","509-1768","Скоба СК-7-1А","шт.",54,46.9,null,null,{"$f":"'ВМП по лоту'!AN122","v":0},{"$f":"ROUND(H93*L93,2)","v":0}]
[null,null,null,null,"101-1522","Электроды диаметром 5 мм Э42А","т",{"$f":"SUM(H95:H97)","v":0.22777239999999999},null,null,null,null,{"$f":"SUM(M95:M97)","v":0}]
[null,1,"ВЛ 6 кВ на куст 3129.1 (габ.110 кВ) Приразломное м/р. Правдинский (КС00091309)","ЛС 04-01-01","101-1522","Электроды диаметром 5 мм Э42А","т",0.1807397,11108.9,null,null,{"$f":"'ВМП по лоту'!AN124","v":0},{"$f":"ROUND(H95*L95,2)","v":0}]
[null,2,"ВЛ 6 кВ на куст 3129.2 (габ. 6 кВ) Приразломное м/р. Правдинский (КС00091313)","ЛС 04-02-01","101-1522","Электроды диаметром 5 мм Э42А","т",4.5402900000000003E-2,11108.9,null,null,{"$f":"'ВМП по лоту'!AN125","v":0},{"$f":"ROUND(H96*L96,2)","v":0}]
[null,3,"ВЛ 6 кВ на куст 3129.1 (габ.110 кВ) Приразломное м/р. Правдинский (КС00091309)","ЛС 04-01-02","101-1522","Электроды диаметром 5 мм Э42А","т",1.6298E-3,11108.9,null,null,{"$f":"'ВМП по лоту'!AN126","v":0},{"$f":"ROUND(H97*L97,2)","v":0}]
[null,null,null,null,"Цена завода","Узел крепления КГП-7-2Б, цена 187,98:4,03.1,13","шт.",{"$f":"SUM(H99)","v":50},null,null,null,null,{"$f":"SUM(M99)","v":0}]
[null,1,"ВЛ 6 кВ на куст 3129.1 (габ.110 кВ) Приразломное м/р. Правдинский (КС00091309)","ЛС 04-01-01","Цена завода","Узел крепления КГП-7-2Б, цена 187,98:4,03.1,13","шт.",50,52.71,null,null,{"$f":"'ВМП по лоту'!AN128","v":0},{"$f":"ROUND(H99*L99,2)","v":0}]
[null,null,null,null,"509-1771","Ушко однолапчатое У1-7-16","шт.",{"$f":"SUM(H101)","v":37},null,null,null,null,{"$f":"SUM(M101)","v":0}]
[null,1,"ВЛ 6 кВ на куст 3129.1 (габ.110 кВ) Приразломное м/р. Правдинский (КС00091309)","ЛС 04-01-01","509-1771","Ушко однолапчатое У1-7-16","шт.",37,65.680000000000007,null,null,{"$f":"'ВМП по лоту'!AN130","v":0},{"$f":"ROUND(H101*L101,2)","v":0}]
[null,null,null,null,"110-0322","Звено промежуточное прямое ПР-7-6","шт.",{"$f":"SUM(H103)","v":49},null,null,null,null,{"$f":"SUM(M103)","v":0}]
[null,1,"ВЛ 6 кВ на куст 3129.1 (габ.110 кВ) Приразломное м/р. Правдинский (КС00091309)","ЛС 04-01-01","110-0322","Звено промежуточное прямое ПР-7-6","шт.",49,45.17,null,null,{"$f":"'ВМП по лоту'!AN132","v":0},{"$f":"ROUND(H103*L103,2)","v":0}]
[null,null,null,null,"Прайс-лист","Муфта концевая термоусаживаемая 10кВ для одножильного кабеля из сшитого полиэтилена внутренней установки РОLT-12D/1XI-L12А, цена 4730:3,97.1,13:1,18","комплект",{"$f":"SUM(H105)","v":2},null,null,null,null,{"$f":"SUM(M105)","v":0}]
[null,1,"ВЛ 6 кВ на куст 3129.1 (габ.110 кВ) Приразломное м/р. Правдинский (КС00091309)","ЛС 04-01-02","Прайс-лист","Муфта концевая термоусаживаемая 10кВ для одножильного кабеля из сшитого полиэтилена внутренней установки РОLT-12D/1XI-L12А, цена 4730:3,97.1,13:1,18","комплект",2,1140.95,null,null,{"$f":"'ВМП по лоту'!AN134","v":0},{"$f":"ROUND(H105*L105,2)","v":0}]
[null,null,null,null,"102-0020","Лесоматериалы круглые березовые и мягких лиственных пород для строительства длиной 4-6,5 м, диаметром 12-24 см","м3",{"$f":"SUM(H107)","v":4.1399999999999997},null,null,null,null,{"$f":"SUM(M107)","v":0}]
[null,1,"ВЛ 6 кВ на куст 3129.1 (габ.110 кВ) Приразломное м/р. Правдинский (КС00091309)","ЛС 04-01-01","102-0020","Лесоматериалы круглые березовые и мягких лиственных пород для строительства длиной 4-6,5 м, диаметром 12-24 см","м3",4.1399999999999997,490.37,null,null,{"$f":"'ВМП по лоту'!AN136","v":0},{"$f":"ROUND(H107*L107,2)","v":0}]
[null,null,null,null,"506-0853","Проволока из алюминия диаметром 3 мм","т",{"$f":"SUM(H109:H110)","v":4.2220000000000001E-2},null,null,null,null,{"$f":"SUM(M109:M110)","v":0}]
[null,1,"ВЛ 6 кВ на куст 3129.2 (габ. 6 кВ) Приразломное м/р. Правдинский (КС00091313)","ЛС 04-02-01","506-0853","Проволока из алюминия диаметром 3 мм","т",3.1980000000000001E-2,48459.13,null,null,{"$f":"'ВМП по лоту'!AN138","v":0},{"$f":"ROUND(H109*L109,2)","v":0}]
[null,2,"ВЛ 6 кВ на куст 3129.1 (габ.110 кВ) Приразломное м/р. Правдинский (КС00091309)","ЛС 04-01-01","506-0853","Проволока из алюминия диаметром 3 мм","т",1.0240000000000001E-2,48459.13,null,null,{"$f":"'ВМП по лоту'!AN139","v":0},{"$f":"ROUND(H110*L110,2)","v":0}]
[null,null,null,null,"Цена завода","Ушко однолапчатое У1-7-16, цена 101,11:4,03.1,13","шт.",{"$f":"SUM(H112)","v":75},null,null,null,null,{"$f":"SUM(M112)","v":0}]
[null,1,"ВЛ 6 кВ на куст 3129.2 (габ. 6 кВ) Приразломное м/р. Правдинский (КС00091313)","ЛС 04-02-01","Цена завода","Ушко однолапчатое У1-7-16, цена 101,11:4,03.1,13","шт.",75,28.35,null,null,{"$f":"'ВМП по лоту'!AN141","v":0},{"$f":"ROUND(H112*L112,2)","v":0}]
[null,null,null,null,"101-1619","Сталь круглая углеродистая обыкновенного качества марки ВСт3пс5-1 диаметром 18 мм . Круг В18 ГОСТ 2590-2006","т",{"$f":"SUM(H114)","v":0.28771200000000002},null,null,null,null,{"$f":"SUM(M114)","v":0}]
[null,1,"ВЛ 6 кВ на куст 3129.1 (габ.110 кВ) Приразломное м/р. Правдинский (КС00091309)","ЛС 04-01-01","101-1619","Сталь круглая углеродистая обыкновенного качества марки ВСт3пс5-1 диаметром 18 мм . Круг В18 ГОСТ 2590-2006","т",0.28771200000000002,6376.37,null,null,{"$f":"'ВМП по лоту'!AN143","v":0},{"$f":"ROUND(H114*L114,2)","v":0}]
[null,null,null,null,"101-1547","Эмаль кремнийорганическая КО-174 разных цветов","т",{"$f":"SUM(H116)","v":8.5120000000000001E-2},null,null,null,null,{"$f":"SUM(M116)","v":0}]
[null,1,"ВЛ 6 кВ на куст 3129.1 (габ.110 кВ) Приразломное м/р. Правдинский (КС00091309)","ЛС 04-01-01","101-1547","Эмаль кремнийорганическая КО-174 разных цветов","т",8.5120000000000001E-2,41381.26,null,null,{"$f":"'ВМП по лоту'!AN145","v":0},{"$f":"ROUND(H116*L116,2)","v":0}]
[null,null,null,null,"Цена завода","Зажим поддерживающий ПГН-3-5, цена 146,37:4,03.1,13","шт.",{"$f":"SUM(H118)","v":43},null,null,null,null,{"$f":"SUM(M118)","v":0}]
[null,1,"ВЛ 6 кВ на куст 3129.1 (габ.110 кВ) Приразломное м/р. Правдинский (КС00091309)","ЛС 04-01-01","Цена завода","Зажим поддерживающий ПГН-3-5, цена 146,37:4,03.1,13","шт.",43,41.04,null,null,{"$f":"'ВМП по лоту'!AN147","v":0},{"$f":"ROUND(H118*L118,2)","v":0}]
[null,null,null,null,"Цена завода","Скоба СК-7-1А, цена 72,49:4,03.1,13","шт.",{"$f":"SUM(H120)","v":75},null,null,null,null,{"$f":"SUM(M120)","v":0}]
[null,1,"ВЛ 6 кВ на куст 3129.2 (габ. 6 кВ) Приразломное м/р. Правдинский (КС00091313)","ЛС 04-02-01","Цена завода","Скоба СК-7-1А, цена 72,49:4,03.1,13","шт.",75,20.329999999999998,null,null,{"$f":"'ВМП по лоту'!AN149","v":0},{"$f":"ROUND(H120*L120,2)","v":0}]
[null,null,null,null,"102-0024","Бруски обрезные хвойных пород длиной 4-6,5 м, шириной 75-150 мм, толщиной 40-75 мм, II сорта","м3",{"$f":"SUM(H122:H123)","v":0.73659999999999992},null,null,null,null,{"$f":"SUM(M122:M123)","v":0}]
[null,1,"ВЛ 6 кВ на куст 3129.1 (габ.110 кВ) Приразломное м/р. Правдинский (КС00091309)","ЛС 04-01-01","102-0024","Бруски обрезные хвойных пород длиной 4-6,5 м, шириной 75-150 мм, толщиной 40-75 мм, II сорта","м3",0.69599999999999995,1948.74,null,null,{"$f":"'ВМП по лоту'!AN151","v":0},{"$f":"ROUND(H122*L122,2)","v":0}]
[null,2,"ВЛ 6 кВ на куст 3129.2 (габ. 6 кВ) Приразломное м/р. Правдинский (КС00091313)","ЛС 04-02-01","102-0024","Бруски обрезные хвойных пород длиной 4-6,5 м, шириной 75-150 мм, толщиной 40-75 мм, II сорта","м3",4.0599999999999997E-2,1948.74,null,null,{"$f":"'ВМП по лоту'!AN152","v":0},{"$f":"ROUND(H123*L123,2)","v":0}]
[null,null,null,null,"Цена завода","Зажим аппаратный А2А-120-2АТ(П), цена 104,99:4,03.1,13","шт.",{"$f":"SUM(H125)","v":48},null,null,null,null,{"$f":"SUM(M125)","v":0}]
[null,1,"ВЛ 6 кВ на куст 3129.1 (габ.110 кВ) Приразломное м/р. Правдинский (КС00091309)","ЛС 04-01-01","Цена завода","Зажим аппаратный А2А-120-2АТ(П), цена 104,99:4,03.1,13","шт.",48,29.44,null,null,{"$f":"'ВМП по лоту'!AN154","v":0},{"$f":"ROUND(H125*L125,2)","v":0}]
[null,null,null,null,"Цена завода","Серьга СРС-7-16, цена 56,32:4,03.1,13","шт.",{"$f":"SUM(H127)","v":75},null,null,null,null,{"$f":"SUM(M127)","v":0}]
[null,1,"ВЛ 6 кВ на куст 3129.2 (габ. 6 кВ) Приразломное м/р. Правдинский (КС00091313)","ЛС 04-02-01","Цена завода","Серьга СРС-7-16, цена 56,32:4,03.1,13","шт.",75,15.79,null,null,{"$f":"'ВМП по лоту'!AN156","v":0},{"$f":"ROUND(H127*L127,2)","v":0}]
[null,null,null,null,"509-2950","Серьга СР-12-16","шт.",{"$f":"SUM(H129)","v":49},null,null,null,null,{"$f":"SUM(M129)","v":0}]
[null,1,"ВЛ 6 кВ на куст 3129.1 (габ.110 кВ) Приразломное м/р. Правдинский (КС00091309)","ЛС 04-01-01","509-2950","Серьга СР-12-16","шт.",49,22.2,null,null,{"$f":"'ВМП по лоту'!AN158","v":0},{"$f":"ROUND(H129*L129,2)","v":0}]
[null,null,null,null,"Цена завода","Зажим плашечный ПА-3-2А, цена 49,18:4,03.1,13","шт.",{"$f":"SUM(H131:H132)","v":74},null,null,null,null,{"$f":"SUM(M131:M132)","v":0}]
[null,1,"ВЛ 6 кВ на куст 3129.2 (габ. 6 кВ) Приразломное м/р. Правдинский (КС00091313)","ЛС 04-02-01","Цена завода","Зажим плашечный ПА-3-2А, цена 49,18:4,03.1,13","шт.",43,13.79,null,null,{"$f":"'ВМП по лоту'!AN160","v":0},{"$f":"ROUND(H131*L131,2)","v":0}]
[null,2,"ВЛ 6 кВ на куст 3129.1 (габ.110 кВ) Приразломное м/р. Правдинский (КС00091309)","ЛС 04-01-01","Цена завода","Зажим плашечный ПА-3-2А, цена 49,18:4,03.1,13","шт.",31,13.79,null,null,{"$f":"'ВМП по лоту'!AN161","v":0},{"$f":"ROUND(H132*L132,2)","v":0}]
[null,null,null,null,"Прайс-лист","Арматура для непаянного соединения ЕАКТ1656, цена 1020:3,97.1,13:1,18","комплект",{"$f":"SUM(H134)","v":4},null,null,null,null,{"$f":"SUM(M134)","v":0}]
[null,1,"ВЛ 6 кВ на куст 3129.1 (габ.110 кВ) Приразломное м/р. Правдинский (КС00091309)","ЛС 04-01-02","Прайс-лист","Арматура для непаянного соединения ЕАКТ1656, цена 1020:3,97.1,13:1,18","комплект",4,246.04,null,null,{"$f":"'ВМП по лоту'!AN163","v":0},{"$f":"ROUND(H134*L134,2)","v":0}]
[null,null,null,null,"Цена завода","Зажим заземляющий ЗПС-50-3, цена 110,84:4,03.1,13","шт.",{"$f":"SUM(H136)","v":31},null,null,null,null,{"$f":"SUM(M136)","v":0}]
[null,1,"ВЛ 6 кВ на куст 3129.1 (габ.110 кВ) Приразломное м/р. Правдинский (КС00091309)","ЛС 04-01-01","Цена завода","Зажим заземляющий ЗПС-50-3, цена 110,84:4,03.1,13","шт.",31,31.08,null,null,{"$f":"'ВМП по лоту'!AN165","v":0},{"$f":"ROUND(H136*L136,2)","v":0}]
[null,null,null,null,"101-0324","Кислород технический газообразный","м3",{"$f":"SUM(H138:H140)","v":73.491808000000006},null,null,null,null,{"$f":"SUM(M138:M140)","v":0}]
[null,1,"ВЛ 6 кВ на куст 3129.1 (габ.110 кВ) Приразломное м/р. Правдинский (КС00091309)","ЛС 04-01-01","101-0324","Кислород технический газообразный","м3",54.855716000000001,11.75,null,null,{"$f":"'ВМП по лоту'!AN167","v":0},{"$f":"ROUND(H138*L138,2)","v":0}]
[null,2,"ВЛ 6 кВ на куст 3129.2 (габ. 6 кВ) Приразломное м/р. Правдинский (КС00091313)","ЛС 04-02-01","101-0324","Кислород технический газообразный","м3",17.495861999999999,11.75,null,null,{"$f":"'ВМП по лоту'!AN168","v":0},{"$f":"ROUND(H139*L139,2)","v":0}]
[null,3,"ВЛ 6 кВ на куст 3129.1 (габ.110 кВ) Приразломное м/р. Правдинский (КС00091309)","ЛС 04-01-02","101-0324","Кислород технический газообразный","м3",1.1402300000000001,11.75,null,null,{"$f":"'ВМП по лоту'!AN169","v":0},{"$f":"ROUND(H140*L140,2)","v":0}]
[null,null,null,null,"101-1714","Болты с гайками и шайбами строительные","кг",{"$f":"SUM(H142:H144)","v":88.611100000000008},null,null,null,null,{"$f":"SUM(M142:M144)","v":0}]
[null,1,"ВЛ 6 кВ на куст 3129.1 (габ.110 кВ) Приразломное м/р. Правдинский (КС00091309)","ЛС 04-01-01","101-1714","Болты с гайками и шайбами строительные","кг",46.708800000000004,9.6999999999999993,null,null,{"$f":"'ВМП по лоту'!AN171","v":0},{"$f":"ROUND(H142*L142,2)","v":0}]
[null,2,"ВЛ 6 кВ на куст 3129.2 (габ. 6 кВ) Приразломное м/р. Правдинский (КС00091313)","ЛС 04-02-01","101-1714","Болты с гайками и шайбами строительные","кг",37.681700000000006,9.6999999999999993,null,null,{"$f":"'ВМП по лоту'!AN172","v":0},{"$f":"ROUND(H143*L143,2)","v":0}]
[null,3,"ВЛ 6 кВ на куст 3129.1 (габ.110 кВ) Приразломное м/р. Правдинский (КС00091309)","ЛС 04-01-02","101-1714","Болты с гайками и шайбами строительные","кг",4.2206000000000001,9.6999999999999993,null,null,{"$f":"'ВМП по лоту'!AN173","v":0},{"$f":"ROUND(H144*L144,2)","v":0}]
[null,null,null,null,"101-0782","Поковки из квадратных заготовок, масса 1,8 кг","т",{"$f":"SUM(H146:H148)","v":0.12065130000000002},null,null,null,null,{"$f":"SUM(M146:M148)","v":0}]
[null,1,"ВЛ 6 кВ на куст 3129.1 (габ.110 кВ) Приразломное м/р. Правдинский (КС00091309)","ЛС 04-01-01","101-0782","Поковки из квадратных заготовок, масса 1,8 кг","т",9.0759500000000007E-2,6537.73,null,null,{"$f":"'ВМП по лоту'!AN175","v":0},{"$f":"ROUND(H146*L146,2)","v":0}]
[null,2,"ВЛ 6 кВ на куст 3129.2 (габ. 6 кВ) Приразломное м/р. Правдинский (КС00091313)","ЛС 04-02-01","101-0782","Поковки из квадратных заготовок, масса 1,8 кг","т",2.93298E-2,6537.73,null,null,{"$f":"'ВМП по лоту'!AN176","v":0},{"$f":"ROUND(H147*L147,2)","v":0}]
[null,3,"ВЛ 6 кВ на куст 3129.1 (габ.110 кВ) Приразломное м/р. Правдинский (КС00091309)","ЛС 04-01-02","101-0782","Поковки из квадратных заготовок, масса 1,8 кг","т",5.62E-4,6537.73,null,null,{"$f":"'ВМП по лоту'!AN177","v":0},{"$f":"ROUND(H148*L148,2)","v":0}]
[null,null,null,null,"Прайс-лист","Узел крепления кабеля 1-УК-1-3-245-УХЛ1, цена 228,6:4,05.1,13:1,18","шт.",{"$f":"SUM(H150)","v":15},null,null,null,null,{"$f":"SUM(M150)","v":0}]
[null,1,"ВЛ 6 кВ на куст 3129.1 (габ.110 кВ) Приразломное м/р. Правдинский (КС00091309)","ЛС 04-01-02","Прайс-лист","Узел крепления кабеля 1-УК-1-3-245-УХЛ1, цена 228,6:4,05.1,13:1,18","шт.",15,54.05,null,null,{"$f":"'ВМП по лоту'!AN179","v":0},{"$f":"ROUND(H150*L150,2)","v":0}]
[null,null,null,null,"Цена завода","Зажим аппаратный А2А-95-2АТ(П), цена 96,81:4,03.1,13","шт.",{"$f":"SUM(H152)","v":25},null,null,null,null,{"$f":"SUM(M152)","v":0}]
[null,1,"ВЛ 6 кВ на куст 3129.2 (габ. 6 кВ) Приразломное м/р. Правдинский (КС00091313)","ЛС 04-02-01","Цена завода","Зажим аппаратный А2А-95-2АТ(П), цена 96,81:4,03.1,13","шт.",25,27.15,null,null,{"$f":"'ВМП по лоту'!AN181","v":0},{"$f":"ROUND(H152*L152,2)","v":0}]
[null,null,null,null,"509-1719","Серьга СРС-7-16","шт.",{"$f":"SUM(H154)","v":37},null,null,null,null,{"$f":"SUM(M154)","v":0}]
[null,1,"ВЛ 6 кВ на куст 3129.1 (габ.110 кВ) Приразломное м/р. Правдинский (КС00091309)","ЛС 04-01-01","509-1719","Серьга СРС-7-16","шт.",37,16.75,null,null,{"$f":"'ВМП по лоту'!AN183","v":0},{"$f":"ROUND(H154*L154,2)","v":0}]
[null,null,null,null,"Цена завода","Зажим плашечный ПА-4-1, цена 114,81:4,03.1,13","шт.",{"$f":"SUM(H156)","v":19},null,null,null,null,{"$f":"SUM(M156)","v":0}]
[null,1,"ВЛ 6 кВ на куст 3129.1 (габ.110 кВ) Приразломное м/р. Правдинский (КС00091309)","ЛС 04-01-01","Цена завода","Зажим плашечный ПА-4-1, цена 114,81:4,03.1,13","шт.",19,32.19,null,null,{"$f":"'ВМП по лоту'!AN185","v":0},{"$f":"ROUND(H156*L156,2)","v":0}]
[null,null,null,null,"Цена завода","Зажим аппаратный А1А-120-2АТ(П), цена 86,31:4,03.1,13","шт.",{"$f":"SUM(H158)","v":24},null,null,null,null,{"$f":"SUM(M158)","v":0}]
[null,1,"ВЛ 6 кВ на куст 3129.1 (габ.110 кВ) Приразломное м/р. Правдинский (КС00091309)","ЛС 04-01-01","Цена завода","Зажим аппаратный А1А-120-2АТ(П), цена 86,31:4,03.1,13","шт.",24,24.2,null,null,{"$f":"'ВМП по лоту'!AN187","v":0},{"$f":"ROUND(H158*L158,2)","v":0}]
[null,null,null,null,"509-3610","Полка кабельная оцинкованная К-1163ц . К-1163цУТ1,5","1000 шт.",{"$f":"SUM(H160)","v":2.8000000000000001E-2},null,null,null,null,{"$f":"SUM(M160)","v":0}]
[null,1,"ВЛ 6 кВ на куст 3129.1 (габ.110 кВ) Приразломное м/р. Правдинский (КС00091309)","ЛС 04-01-02","509-3610","Полка кабельная оцинкованная К-1163ц . К-1163цУТ1,5","1000 шт.",2.8000000000000001E-2,19388.57,null,null,{"$f":"'ВМП по лоту'!AN189","v":0},{"$f":"ROUND(H160*L160,2)","v":0}]
[null,null,null,null,"102-8009","Доски дубовые II сорта","м3",{"$f":"SUM(H162:H163)","v":0.2697},null,null,null,null,{"$f":"SUM(M162:M163)","v":0}]
[null,1,"ВЛ 6 кВ на куст 3129.1 (габ.110 кВ) Приразломное м/р. Правдинский (КС00091309)","ЛС 04-01-01","102-8009","Доски дубовые II сорта","м3",0.24360000000000001,1893.34,null,null,{"$f":"'ВМП по лоту'!AN191","v":0},{"$f":"ROUND(H162*L162,2)","v":0}]
[null,2,"ВЛ 6 кВ на куст 3129.2 (габ. 6 кВ) Приразломное м/р. Правдинский (КС00091313)","ЛС 04-02-01","102-8009","Доски дубовые II сорта","м3",2.6100000000000002E-2,1893.34,null,null,{"$f":"'ВМП по лоту'!AN192","v":0},{"$f":"ROUND(H163*L163,2)","v":0}]
[null,null,null,null,"101-1617","Сталь круглая углеродистая обыкновенного качества марки ВСт3пс5-1 диаметром 12 мм","т",{"$f":"SUM(H165:H166)","v":7.9902000000000001E-2},null,null,null,null,{"$f":"SUM(M165:M166)","v":0}]
[null,1,"ВЛ 6 кВ на куст 3129.1 (габ.110 кВ) Приразломное м/р. Правдинский (КС00091309)","ЛС 04-01-01","101-1617","Сталь круглая углеродистая обыкновенного качества марки ВСт3пс5-1 диаметром 12 мм","т",5.3268000000000003E-2,6366.03,null,null,{"$f":"'ВМП по лоту'!AN194","v":0},{"$f":"ROUND(H165*L165,2)","v":0}]
[null,2,"ВЛ 6 кВ на куст 3129.2 (габ. 6 кВ) Приразломное м/р. Правдинский (КС00091313)","ЛС 04-02-01","101-1617","Сталь круглая углеродистая обыкновенного качества марки ВСт3пс5-1 диаметром 12 мм","т",2.6634000000000001E-2,6366.03,null,null,{"$f":"'ВМП по лоту'!AN195","v":0},{"$f":"ROUND(H166*L166,2)","v":0}]
[null,null,null,null,"509-3616","Стойка кабельная оцинкованная К-1150ц . К-1150цУТ1,5","1000 шт.",{"$f":"SUM(H168)","v":2.8000000000000001E-2},null,null,null,null,{"$f":"SUM(M168)","v":0}]
[null,1,"ВЛ 6 кВ на куст 3129.1 (габ.110 кВ) Приразломное м/р. Правдинский (КС00091309)","ЛС 04-01-02","509-3616","Стойка кабельная оцинкованная К-1150ц . К-1150цУТ1,5","1000 шт.",2.8000000000000001E-2,18096.009999999998,null,null,{"$f":"'ВМП по лоту'!AN197","v":0},{"$f":"ROUND(H168*L168,2)","v":0}]
[null,null,null,null,"502-0791","Соединители овальные марки СОАС-120-3","шт.",{"$f":"SUM(H170)","v":6},null,null,null,null,{"$f":"SUM(M170)","v":0}]
[null,1,"ВЛ 6 кВ на куст 3129.1 (габ.110 кВ) Приразломное м/р. Правдинский (КС00091309)","ЛС 04-01-01","502-0791","Соединители овальные марки СОАС-120-3","шт.",6,83.55,null,null,{"$f":"'ВМП по лоту'!AN199","v":0},{"$f":"ROUND(H170*L170,2)","v":0}]
[null,null,null,null,"Цена завода","Шнек буровой диаметром 300мм ШБ 300х114/1400/200-Т90, цена 10860:3,61.1,13","шт.",{"$f":"SUM(H172)","v":0.13524},null,null,null,null,{"$f":"SUM(M172)","v":0}]
[null,1,"ВЛ 6 кВ на куст 3129.1 (габ.110 кВ) Приразломное м/р. Правдинский (КС00091309)","ЛС 04-01-01","Цена завода","Шнек буровой диаметром 300мм ШБ 300х114/1400/200-Т90, цена 10860:3,61.1,13","шт.",0.13524,3399.39,null,null,{"$f":"'ВМП по лоту'!AN201","v":0},{"$f":"ROUND(H172*L172,2)","v":0}]
[null,null,null,null,"Цена завода","Зажим ответвительный прессуемый ОА-120Т-2, цена 220,43:4,03.1,13","шт.",{"$f":"SUM(H174)","v":7},null,null,null,null,{"$f":"SUM(M174)","v":0}]
[null,1,"ВЛ 6 кВ на куст 3129.2 (габ. 6 кВ) Приразломное м/р. Правдинский (КС00091313)","ЛС 04-02-01","Цена завода","Зажим ответвительный прессуемый ОА-120Т-2, цена 220,43:4,03.1,13","шт.",7,61.81,null,null,{"$f":"'ВМП по лоту'!AN203","v":0},{"$f":"ROUND(H174*L174,2)","v":0}]
[null,null,null,null,"Цена завода","Зажим натяжной НКК-1-1Б, цена 185,44:4,03.1,13","шт.",{"$f":"SUM(H176)","v":8},null,null,null,null,{"$f":"SUM(M176)","v":0}]
[null,1,"ВЛ 6 кВ на куст 3129.1 (габ.110 кВ) Приразломное м/р. Правдинский (КС00091309)","ЛС 04-01-01","Цена завода","Зажим натяжной НКК-1-1Б, цена 185,44:4,03.1,13","шт.",8,52,null,null,{"$f":"'ВМП по лоту'!AN205","v":0},{"$f":"ROUND(H176*L176,2)","v":0}]
[null,null,null,null,"101-2468","Растворитель марки Р-5","т",{"$f":"SUM(H178:H179)","v":2.5097999999999999E-2},null,null,null,null,{"$f":"SUM(M178:M179)","v":0}]
[null,1,"ВЛ 6 кВ на куст 3129.1 (габ.110 кВ) Приразломное м/р. Правдинский (КС00091309)","ЛС 04-01-01","101-2468","Растворитель марки Р-5","т",1.5354E-2,14863,null,null,{"$f":"'ВМП по лоту'!AN207","v":0},{"$f":"ROUND(H178*L178,2)","v":0}]
[null,2,"ВЛ 6 кВ на куст 3129.2 (габ. 6 кВ) Приразломное м/р. Правдинский (КС00091313)","ЛС 04-02-01","101-2468","Растворитель марки Р-5","т",9.7439999999999992E-3,14863,null,null,{"$f":"'ВМП по лоту'!AN208","v":0},{"$f":"ROUND(H179*L179,2)","v":0}]
[null,null,null,null,"101-1619","Сталь круглая углеродистая обыкновенного качества марки ВСт3пс5-1 диаметром 18 мм. Круг В18 ГОСТ 2590-2006","т",{"$f":"SUM(H181)","v":4.7952000000000002E-2},null,null,null,null,{"$f":"SUM(M181)","v":0}]
[null,1,"ВЛ 6 кВ на куст 3129.2 (габ. 6 кВ) Приразломное м/р. Правдинский (КС00091313)","ЛС 04-02-01","101-1619","Сталь круглая углеродистая обыкновенного качества марки ВСт3пс5-1 диаметром 18 мм. Круг В18 ГОСТ 2590-2006","т",4.7952000000000002E-2,6376.37,null,null,{"$f":"'ВМП по лоту'!AN210","v":0},{"$f":"ROUND(H181*L181,2)","v":0}]
[null,null,null,null,"Цена завода","Зажим аппаратный А1А-95-2АТ(П), цена 83,03:4,03.1,13","шт.",{"$f":"SUM(H183)","v":13},null,null,null,null,{"$f":"SUM(M183)","v":0}]
[null,1,"ВЛ 6 кВ на куст 3129.2 (габ. 6 кВ) Приразломное м/р. Правдинский (КС00091313)","ЛС 04-02-01","Цена завода","Зажим аппаратный А1А-95-2АТ(П), цена 83,03:4,03.1,13","шт.",13,23.28,null,null,{"$f":"'ВМП по лоту'!AN212","v":0},{"$f":"ROUND(H183*L183,2)","v":0}]
[null,null,null,null,"509-1935","Зажим поддерживающий ПГН-2-6","шт.",{"$f":"SUM(H185)","v":8},null,null,null,null,{"$f":"SUM(M185)","v":0}]
[null,1,"ВЛ 6 кВ на куст 3129.1 (габ.110 кВ) Приразломное м/р. Правдинский (КС00091309)","ЛС 04-01-01","509-1935","Зажим поддерживающий ПГН-2-6","шт.",8,29.6,null,null,{"$f":"'ВМП по лоту'!AN214","v":0},{"$f":"ROUND(H185*L185,2)","v":0}]
[null,null,null,null,"101-0388","Краски масляные земляные марки МА-0115 мумия, сурик железный","т",{"$f":"SUM(H187:H188)","v":8.0479999999999996E-3},null,null,null,null,{"$f":"SUM(M187:M188)","v":0}]
[null,1,"ВЛ 6 кВ на куст 3129.1 (габ.110 кВ) Приразломное м/р. Правдинский (КС00091309)","ЛС 04-01-01","101-0388","Краски масляные земляные марки МА-0115 мумия, сурик железный","т",6.4779E-3,20274.98,null,null,{"$f":"'ВМП по лоту'!AN216","v":0},{"$f":"ROUND(H187*L187,2)","v":0}]
[null,2,"ВЛ 6 кВ на куст 3129.2 (габ. 6 кВ) Приразломное м/р. Правдинский (КС00091313)","ЛС 04-02-01","101-0388","Краски масляные земляные марки МА-0115 мумия, сурик железный","т",1.5701000000000001E-3,20274.98,null,null,{"$f":"'ВМП по лоту'!AN217","v":0},{"$f":"ROUND(H188*L188,2)","v":0}]
[null,null,null,null,"101-0816","Проволока светлая диаметром 1,1 мм","т",{"$f":"SUM(H190)","v":1.4999999999999999E-2},null,null,null,null,{"$f":"SUM(M190)","v":0}]
[null,1,"ВЛ 6 кВ на куст 3129.1 (габ.110 кВ) Приразломное м/р. Правдинский (КС00091309)","ЛС 04-01-01","101-0816","Проволока светлая диаметром 1,1 мм","т",1.4999999999999999E-2,10836.68,null,null,{"$f":"'ВМП по лоту'!AN219","v":0},{"$f":"ROUND(H190*L190,2)","v":0}]
[null,null,null,null,"101-1292","Уайт-спирит","т",{"$f":"SUM(H192:H194)","v":1.2640999999999999E-2},null,null,null,null,{"$f":"SUM(M192:M194)","v":0}]
[null,1,"ВЛ 6 кВ на куст 3129.2 (габ. 6 кВ) Приразломное м/р. Правдинский (КС00091313)","ЛС 04-02-01","101-1292","Уайт-спирит","т",8.0286000000000003E-3,12417.07,null,null,{"$f":"'ВМП по лоту'!AN221","v":0},{"$f":"ROUND(H192*L192,2)","v":0}]
[null,2,"ВЛ 6 кВ на куст 3129.1 (габ.110 кВ) Приразломное м/р. Правдинский (КС00091309)","ЛС 04-01-01","101-1292","Уайт-спирит","т",3.5400000000000002E-3,12417.07,null,null,{"$f":"'ВМП по лоту'!AN222","v":0},{"$f":"ROUND(H193*L193,2)","v":0}]
[null,3,"ВЛ 6 кВ на куст 3129.1 (габ.110 кВ) Приразломное м/р. Правдинский (КС00091309)","ЛС 04-01-02","101-1292","Уайт-спирит","т",1.0724E-3,12417.07,null,null,{"$f":"'ВМП по лоту'!AN223","v":0},{"$f":"ROUND(H194*L194,2)","v":0}]
[null,null,null,null,"509-2949","Серьга СР-7-16","шт.",{"$f":"SUM(H196)","v":9},null,null,null,null,{"$f":"SUM(M196)","v":0}]
[null,1,"ВЛ 6 кВ на куст 3129.1 (габ.110 кВ) Приразломное м/р. Правдинский (КС00091309)","ЛС 04-01-01","509-2949","Серьга СР-7-16","шт.",9,15.65,null,null,{"$f":"'ВМП по лоту'!AN225","v":0},{"$f":"ROUND(H196*L196,2)","v":0}]
[null,null,null,null,"506-1362","Припои оловянно-свинцовые бессурьмянистые марки ПОС30","кг",{"$f":"SUM(H198)","v":1.1000000000000001},null,null,null,null,{"$f":"SUM(M198)","v":0}]
[null,1,"ВЛ 6 кВ на куст 3129.1 (габ.110 кВ) Приразломное м/р. Правдинский (КС00091309)","ЛС 04-01-02","506-1362","Припои оловянно-свинцовые бессурьмянистые марки ПОС30","кг",1.1000000000000001,113.68,null,null,{"$f":"'ВМП по лоту'!AN227","v":0},{"$f":"ROUND(H198*L198,2)","v":0}]
[null,null,null,null,"101-0865","Роли свинцовые марки С1 толщиной 1,0 мм","т",{"$f":"SUM(H200)","v":2.728E-3},null,null,null,null,{"$f":"SUM(M200)","v":0}]
[null,1,"ВЛ 6 кВ на куст 3129.1 (габ.110 кВ) Приразломное м/р. Правдинский (КС00091309)","ЛС 04-01-02","101-0865","Роли свинцовые марки С1 толщиной 1,0 мм","т",2.728E-3,43143.360000000001,null,null,{"$f":"'ВМП по лоту'!AN229","v":0},{"$f":"ROUND(H200*L200,2)","v":0}]
[null,null,null,null,"101-2278","Пропан-бутан, смесь техническая","кг",{"$f":"SUM(H202:H204)","v":11.4935294},null,null,null,null,{"$f":"SUM(M202:M204)","v":0}]
[null,1,"ВЛ 6 кВ на куст 3129.1 (габ.110 кВ) Приразломное м/р. Правдинский (КС00091309)","ЛС 04-01-01","101-2278","Пропан-бутан, смесь техническая","кг",7.7765598000000002,10.19,null,null,{"$f":"'ВМП по лоту'!AN231","v":0},{"$f":"ROUND(H202*L202,2)","v":0}]
[null,2,"ВЛ 6 кВ на куст 3129.2 (габ. 6 кВ) Приразломное м/р. Правдинский (КС00091313)","ЛС 04-02-01","101-2278","Пропан-бутан, смесь техническая","кг",2.8078506000000001,10.19,null,null,{"$f":"'ВМП по лоту'!AN232","v":0},{"$f":"ROUND(H203*L203,2)","v":0}]
[null,3,"ВЛ 6 кВ на куст 3129.1 (габ.110 кВ) Приразломное м/р. Правдинский (КС00091309)","ЛС 04-01-02","101-2278","Пропан-бутан, смесь техническая","кг",0.90911900000000001,10.19,null,null,{"$f":"'ВМП по лоту'!AN233","v":0},{"$f":"ROUND(H204*L204,2)","v":0}]
[null,null,null,null,"Цена завода","Долота II ДЛШ-320МС Т90, цена 13630:3,61.1,13","шт.",{"$f":"SUM(H206)","v":2.8223999999999999E-2},null,null,null,null,{"$f":"SUM(M206)","v":0}]
[null,1,"ВЛ 6 кВ на куст 3129.1 (габ.110 кВ) Приразломное м/р. Правдинский (КС00091309)","ЛС 04-01-01","Цена завода","Долота II ДЛШ-320МС Т90, цена 13630:3,61.1,13","шт.",2.8223999999999999E-2,4266.45,null,null,{"$f":"'ВМП по лоту'!AN235","v":0},{"$f":"ROUND(H206*L206,2)","v":0}]
[null,null,null,null,"113-0263","Эмаль кремнийорганическая КО-174","т",{"$f":"SUM(H208)","v":5.0920000000000002E-3},null,null,null,null,{"$f":"SUM(M208)","v":0}]
[null,1,"ВЛ 6 кВ на куст 3129.2 (габ. 6 кВ) Приразломное м/р. Правдинский (КС00091313)","ЛС 04-02-01","113-0263","Эмаль кремнийорганическая КО-174","т",5.0920000000000002E-3,55378.92,null,null,{"$f":"'ВМП по лоту'!AN237","v":0},{"$f":"ROUND(H208*L208,2)","v":0}]
[null,null,null,null,"509-0104","Скобы двухлапковые. Дополнительно к учтенным в расценке","10 шт.",{"$f":"SUM(H210)","v":4.3680000000000003},null,null,null,null,{"$f":"SUM(M210)","v":0}]
[null,1,"ВЛ 6 кВ на куст 3129.1 (габ.110 кВ) Приразломное м/р. Правдинский (КС00091309)","ЛС 04-01-02","509-0104","Скобы двухлапковые. Дополнительно к учтенным в расценке","10 шт.",4.3680000000000003,17.28,null,null,{"$f":"'ВМП по лоту'!AN239","v":0},{"$f":"ROUND(H210*L210,2)","v":0}]
[null,null,null,null,"101-2349","Смазка ЗЭС","кг",{"$f":"SUM(H212:H213)","v":2.7909999999999999},null,null,null,null,{"$f":"SUM(M212:M213)","v":0}]
[null,1,"ВЛ 6 кВ на куст 3129.2 (габ. 6 кВ) Приразломное м/р. Правдинский (КС00091313)","ЛС 04-02-01","101-2349","Смазка ЗЭС","кг",1.839,24.06,null,null,{"$f":"'ВМП по лоту'!AN241","v":0},{"$f":"ROUND(H212*L212,2)","v":0}]
[null,2,"ВЛ 6 кВ на куст 3129.1 (габ.110 кВ) Приразломное м/р. Правдинский (КС00091309)","ЛС 04-01-01","101-2349","Смазка ЗЭС","кг",0.95199999999999996,24.06,null,null,{"$f":"'ВМП по лоту'!AN242","v":0},{"$f":"ROUND(H213*L213,2)","v":0}]
[null,null,null,null,"101-3911","Дюбели для пристрелки стальные","10 шт.",{"$f":"SUM(H215)","v":9.1660000000000004},null,null,null,null,{"$f":"SUM(M215)","v":0}]
[null,1,"ВЛ 6 кВ на куст 3129.1 (габ.110 кВ) Приразломное м/р. Правдинский (КС00091309)","ЛС 04-01-02","101-3911","Дюбели для пристрелки стальные","10 шт.",9.1660000000000004,6.13,null,null,{"$f":"'ВМП по лоту'!AN244","v":0},{"$f":"ROUND(H215*L215,2)","v":0}]
[null,null,null,null,"101-1515","Электроды диаметром 4 мм Э46","т",{"$f":"SUM(H217:H219)","v":4.8003999999999998E-3},null,null,null,null,{"$f":"SUM(M217:M219)","v":0}]
[null,1,"ВЛ 6 кВ на куст 3129.2 (габ. 6 кВ) Приразломное м/р. Правдинский (КС00091313)","ЛС 04-02-01","101-1515","Электроды диаметром 4 мм Э46","т",2.0763000000000001E-3,11523.77,null,null,{"$f":"'ВМП по лоту'!AN246","v":0},{"$f":"ROUND(H217*L217,2)","v":0}]
[null,2,"ВЛ 6 кВ на куст 3129.1 (габ.110 кВ) Приразломное м/р. Правдинский (КС00091309)","ЛС 04-01-02","101-1515","Электроды диаметром 4 мм Э46","т",1.4498E-3,11523.77,null,null,{"$f":"'ВМП по лоту'!AN247","v":0},{"$f":"ROUND(H218*L218,2)","v":0}]
[null,3,"ВЛ 6 кВ на куст 3129.1 (габ.110 кВ) Приразломное м/р. Правдинский (КС00091309)","ЛС 04-01-01","101-1515","Электроды диаметром 4 мм Э46","т",1.2742999999999999E-3,11523.77,null,null,{"$f":"'ВМП по лоту'!AN248","v":0},{"$f":"ROUND(H219*L219,2)","v":0}]
[null,null,null,null,"509-1519","Скоба У1078","шт.",{"$f":"SUM(H221)","v":5.0599999999999996},null,null,null,null,{"$f":"SUM(M221)","v":0}]
[null,1,"ВЛ 6 кВ на куст 3129.1 (габ.110 кВ) Приразломное м/р. Правдинский (КС00091309)","ЛС 04-01-02","509-1519","Скоба У1078","шт.",5.0599999999999996,10.31,null,null,{"$f":"'ВМП по лоту'!AN250","v":0},{"$f":"ROUND(H221*L221,2)","v":0}]
[null,null,null,null,"101-1924","Электроды диаметром 4 мм Э42А","кг",{"$f":"SUM(H223)","v":4.1768000000000001},null,null,null,null,{"$f":"SUM(M223)","v":0}]
[null,1,"ВЛ 6 кВ на куст 3129.1 (габ.110 кВ) Приразломное м/р. Правдинский (КС00091309)","ЛС 04-01-02","101-1924","Электроды диаметром 4 мм Э42А","кг",4.1768000000000001,11.33,null,null,{"$f":"'ВМП по лоту'!AN252","v":0},{"$f":"ROUND(H223*L223,2)","v":0}]
[null,null,null,null,"101-1019","Швеллеры № 40 из стали марки Ст0","т",{"$f":"SUM(H225:H227)","v":7.8213999999999992E-3},null,null,null,null,{"$f":"SUM(M225:M227)","v":0}]
[null,1,"ВЛ 6 кВ на куст 3129.2 (габ. 6 кВ) Приразломное м/р. Правдинский (КС00091313)","ЛС 04-02-01","101-1019","Швеллеры № 40 из стали марки Ст0","т",3.3722000000000001E-3,5988.69,null,null,{"$f":"'ВМП по лоту'!AN254","v":0},{"$f":"ROUND(H225*L225,2)","v":0}]
[null,2,"ВЛ 6 кВ на куст 3129.1 (габ.110 кВ) Приразломное м/р. Правдинский (КС00091309)","ЛС 04-01-02","101-1019","Швеллеры № 40 из стали марки Ст0","т",2.3533E-3,5988.69,null,null,{"$f":"'ВМП по лоту'!AN255","v":0},{"$f":"ROUND(H226*L226,2)","v":0}]
[null,3,"ВЛ 6 кВ на куст 3129.1 (габ.110 кВ) Приразломное м/р. Правдинский (КС00091309)","ЛС 04-01-01","101-1019","Швеллеры № 40 из стали марки Ст0","т",2.0958999999999999E-3,5988.69,null,null,{"$f":"'ВМП по лоту'!AN256","v":0},{"$f":"ROUND(H227*L227,2)","v":0}]
[null,null,null,null,"113-1786","Лак битумный БТ-123","т",{"$f":"SUM(H229)","v":3.4228000000000001E-3},null,null,null,null,{"$f":"SUM(M229)","v":0}]
[null,1,"ВЛ 6 кВ на куст 3129.1 (габ.110 кВ) Приразломное м/р. Правдинский (КС00091309)","ЛС 04-01-02","113-1786","Лак битумный БТ-123","т",3.4228000000000001E-3,13074.07,null,null,{"$f":"'ВМП по лоту'!AN258","v":0},{"$f":"ROUND(H229*L229,2)","v":0}]
[null,null,null,null,"101-1699","Патроны для пристрелки","10 шт.",{"$f":"SUM(H231)","v":9.1660000000000004},null,null,null,null,{"$f":"SUM(M231)","v":0}]
[null,1,"ВЛ 6 кВ на куст 3129.1 (габ.110 кВ) Приразломное м/р. Правдинский (КС00091309)","ЛС 04-01-02","101-1699","Патроны для пристрелки","10 шт.",9.1660000000000004,3.99,null,null,{"$f":"'ВМП по лоту'!AN260","v":0},{"$f":"ROUND(H231*L231,2)","v":0}]
[null,null,null,null,"101-1481","Шурупы с полукруглой головкой 4x40 мм","т",{"$f":"SUM(H233)","v":2.728E-3},null,null,null,null,{"$f":"SUM(M233)","v":0}]
[null,1,"ВЛ 6 кВ на куст 3129.1 (габ.110 кВ) Приразломное м/р. Правдинский (КС00091309)","ЛС 04-01-02","101-1481","Шурупы с полукруглой головкой 4x40 мм","т",2.728E-3,13325.92,null,null,{"$f":"'ВМП по лоту'!AN262","v":0},{"$f":"ROUND(H233*L233,2)","v":0}]
[null,null,null,null,"101-2478","Лента К226","100 м",{"$f":"SUM(H235)","v":0.1174},null,null,null,null,{"$f":"SUM(M235)","v":0}]
[null,1,"ВЛ 6 кВ на куст 3129.1 (габ.110 кВ) Приразломное м/р. Правдинский (КС00091309)","ЛС 04-01-02","101-2478","Лента К226","100 м",0.1174,200.44,null,null,{"$f":"'ВМП по лоту'!AN264","v":0},{"$f":"ROUND(H235*L235,2)","v":0}]
[null,null,null,null,"509-0104","Скобы двухлапковые","10 шт.",{"$f":"SUM(H237)","v":1.232},null,null,null,null,{"$f":"SUM(M237)","v":0}]
[null,1,"ВЛ 6 кВ на куст 3129.1 (габ.110 кВ) Приразломное м/р. Правдинский (КС00091309)","ЛС 04-01-02","509-0104","Скобы двухлапковые","10 шт.",1.232,17.28,null,null,{"$f":"'ВМП по лоту'!AN266","v":0},{"$f":"ROUND(H237*L237,2)","v":0}]
[null,null,null,null,"101-0309","Канаты пеньковые пропитанные","т",{"$f":"SUM(H239:H241)","v":4.0309999999999999E-4},null,null,null,null,{"$f":"SUM(M239:M241)","v":0}]
[null,1,"ВЛ 6 кВ на куст 3129.2 (габ. 6 кВ) Приразломное м/р. Правдинский (КС00091313)","ЛС 04-02-01","101-0309","Канаты пеньковые пропитанные","т",1.738E-4,51206.53,null,null,{"$f":"'ВМП по лоту'!AN268","v":0},{"$f":"ROUND(H239*L239,2)","v":0}]
[null,2,"ВЛ 6 кВ на куст 3129.1 (габ.110 кВ) Приразломное м/р. Правдинский (КС00091309)","ЛС 04-01-02","101-0309","Канаты пеньковые пропитанные","т",1.2129999999999999E-4,51206.53,null,null,{"$f":"'ВМП по лоту'!AN269","v":0},{"$f":"ROUND(H240*L240,2)","v":0}]
[null,3,"ВЛ 6 кВ на куст 3129.1 (габ.110 кВ) Приразломное м/р. Правдинский (КС00091309)","ЛС 04-01-01","101-0309","Канаты пеньковые пропитанные","т",1.08E-4,51206.53,null,null,{"$f":"'ВМП по лоту'!AN270","v":0},{"$f":"ROUND(H241*L241,2)","v":0}]
[null,null,null,null,"113-0079","Лак БТ-577","т",{"$f":"SUM(H243:H244)","v":1.4E-3},null,null,null,null,{"$f":"SUM(M243:M244)","v":0}]
[null,1,"ВЛ 6 кВ на куст 3129.1 (габ.110 кВ) Приразломное м/р. Правдинский (КС00091309)","ЛС 04-01-01","113-0079","Лак БТ-577","т",8.0000000000000004E-4,12980.43,null,null,{"$f":"'ВМП по лоту'!AN272","v":0},{"$f":"ROUND(H243*L243,2)","v":0}]
[null,2,"ВЛ 6 кВ на куст 3129.2 (габ. 6 кВ) Приразломное м/р. Правдинский (КС00091313)","ЛС 04-02-01","113-0079","Лак БТ-577","т",5.9999999999999995E-4,12980.43,null,null,{"$f":"'ВМП по лоту'!AN273","v":0},{"$f":"ROUND(H244*L244,2)","v":0}]
[null,null,null,null,"Прайс-лист","Ключ для крепления полок к стойкам К1156цУТ1,5 , цена 21:3,95.1,13","шт.",{"$f":"SUM(H246)","v":3},null,null,null,null,{"$f":"SUM(M246)","v":0}]
[null,1,"ВЛ 6 кВ на куст 3129.1 (габ.110 кВ) Приразломное м/р. Правдинский (КС00091309)","ЛС 04-01-02","Прайс-лист","Ключ для крепления полок к стойкам К1156цУТ1,5 , цена 21:3,95.1,13","шт.",3,6.01,null,null,{"$f":"'ВМП по лоту'!AN275","v":0},{"$f":"ROUND(H246*L246,2)","v":0}]
[null,null,null,null,"101-3914","Дюбели распорные полипропиленовые","100 шт.",{"$f":"SUM(H248)","v":0.184},null,null,null,null,{"$f":"SUM(M248)","v":0}]
[null,1,"ВЛ 6 кВ на куст 3129.1 (габ.110 кВ) Приразломное м/р. Правдинский (КС00091309)","ЛС 04-01-02","101-3914","Дюбели распорные полипропиленовые","100 шт.",0.184,48.88,null,null,{"$f":"'ВМП по лоту'!AN277","v":0},{"$f":"ROUND(H248*L248,2)","v":0}]
[null,null,null,null,"102-0023","Бруски обрезные хвойных пород длиной 4-6,5 м, шириной 75-150 мм, толщиной 40-75 мм, I сорта","м3",{"$f":"SUM(H250:H252)","v":3.6087999999999997E-3},null,null,null,null,{"$f":"SUM(M250:M252)","v":0}]
[null,1,"ВЛ 6 кВ на куст 3129.2 (габ. 6 кВ) Приразломное м/р. Правдинский (КС00091313)","ЛС 04-02-01","102-0023","Бруски обрезные хвойных пород длиной 4-6,5 м, шириной 75-150 мм, толщиной 40-75 мм, I сорта","м3",1.5376999999999999E-3,2069.25,null,null,{"$f":"'ВМП по лоту'!AN279","v":0},{"$f":"ROUND(H250*L250,2)","v":0}]
[null,2,"ВЛ 6 кВ на куст 3129.1 (габ.110 кВ) Приразломное м/р. Правдинский (КС00091309)","ЛС 04-01-02","102-0023","Бруски обрезные хвойных пород длиной 4-6,5 м, шириной 75-150 мм, толщиной 40-75 мм, I сорта","м3",1.0455E-3,2069.25,null,null,{"$f":"'ВМП по лоту'!AN280","v":0},{"$f":"ROUND(H251*L251,2)","v":0}]
[null,3,"ВЛ 6 кВ на куст 3129.1 (габ.110 кВ) Приразломное м/р. Правдинский (КС00091309)","ЛС 04-01-01","102-0023","Бруски обрезные хвойных пород длиной 4-6,5 м, шириной 75-150 мм, толщиной 40-75 мм, I сорта","м3",1.0256E-3,2069.25,null,null,{"$f":"'ВМП по лоту'!AN281","v":0},{"$f":"ROUND(H252*L252,2)","v":0}]
[null,null,null,null,"508-0097","Канат двойной свивки типа ТК, конструкции 6х19(1+6+12)+1 о.с., оцинкованный из проволок марки В, маркировочная группа 1770 н/мм2, диаметром 5,5 мм","10 м",{"$f":"SUM(H254:H256)","v":7.539280000000001E-2},null,null,null,null,{"$f":"SUM(M254:M256)","v":0}]
[null,1,"ВЛ 6 кВ на куст 3129.2 (габ. 6 кВ) Приразломное м/р. Правдинский (КС00091313)","ЛС 04-02-01","508-0097","Канат двойной свивки типа ТК, конструкции 6х19(1+6+12)+1 о.с., оцинкованный из проволок марки В, маркировочная группа 1770 н/мм2, диаметром 5,5 мм","10 м",3.25055E-2,83.91,null,null,{"$f":"'ВМП по лоту'!AN283","v":0},{"$f":"ROUND(H254*L254,2)","v":0}]
[null,2,"ВЛ 6 кВ на куст 3129.1 (габ.110 кВ) Приразломное м/р. Правдинский (КС00091309)","ЛС 04-01-02","508-0097","Канат двойной свивки типа ТК, конструкции 6х19(1+6+12)+1 о.с., оцинкованный из проволок марки В, маркировочная группа 1770 н/мм2, диаметром 5,5 мм","10 м",2.2684200000000002E-2,83.91,null,null,{"$f":"'ВМП по лоту'!AN284","v":0},{"$f":"ROUND(H255*L255,2)","v":0}]
[null,3,"ВЛ 6 кВ на куст 3129.1 (габ.110 кВ) Приразломное м/р. Правдинский (КС00091309)","ЛС 04-01-01","508-0097","Канат двойной свивки типа ТК, конструкции 6х19(1+6+12)+1 о.с., оцинкованный из проволок марки В, маркировочная группа 1770 н/мм2, диаметром 5,5 мм","10 м",2.0203100000000002E-2,83.91,null,null,{"$f":"'ВМП по лоту'!AN285","v":0},{"$f":"ROUND(H256*L256,2)","v":0}]
[null,null,null,null,"101-0813","Проволока стальная низкоуглеродистая разного назначения оцинкованная диаметром 3,0 мм","т",{"$f":"SUM(H258)","v":4.4000000000000002E-4},null,null,null,null,{"$f":"SUM(M258)","v":0}]
[null,1,"ВЛ 6 кВ на куст 3129.1 (габ.110 кВ) Приразломное м/р. Правдинский (КС00091309)","ЛС 04-01-02","101-0813","Проволока стальная низкоуглеродистая разного назначения оцинкованная диаметром 3,0 мм","т",4.4000000000000002E-4,13972.15,null,null,{"$f":"'ВМП по лоту'!AN287","v":0},{"$f":"ROUND(H258*L258,2)","v":0}]
[null,null,null,null,"101-0962","Смазка солидол жировой марки \"Ж\"","т",{"$f":"SUM(H260:H261)","v":4.2000000000000002E-4},null,null,null,null,{"$f":"SUM(M260:M261)","v":0}]
[null,1,"ВЛ 6 кВ на куст 3129.1 (габ.110 кВ) Приразломное м/р. Правдинский (КС00091309)","ЛС 04-01-01","101-0962","Смазка солидол жировой марки \"Ж\"","т",2.4000000000000001E-4,12866.32,null,null,{"$f":"'ВМП по лоту'!AN289","v":0},{"$f":"ROUND(H260*L260,2)","v":0}]
[null,2,"ВЛ 6 кВ на куст 3129.2 (габ. 6 кВ) Приразломное м/р. Правдинский (КС00091313)","ЛС 04-02-01","101-0962","Смазка солидол жировой марки \"Ж\"","т",1.8000000000000001E-4,12866.32,null,null,{"$f":"'ВМП по лоту'!AN290","v":0},{"$f":"ROUND(H261*L261,2)","v":0}]
[null,null,null,null,"111-0086","Бирки маркировочные","100 шт.",{"$f":"SUM(H263)","v":8.4000000000000005E-2},null,null,null,null,{"$f":"SUM(M263)","v":0}]
[null,1,"ВЛ 6 кВ на куст 3129.1 (габ.110 кВ) Приразломное м/р. Правдинский (КС00091309)","ЛС 04-01-02","111-0086","Бирки маркировочные","100 шт.",8.4000000000000005E-2,60.28,null,null,{"$f":"'ВМП по лоту'!AN292","v":0},{"$f":"ROUND(H263*L263,2)","v":0}]
[null,null,null,null,"509-0070","Кнопки монтажные","1000 шт.",{"$f":"SUM(H265)","v":9.9680000000000005E-2},null,null,null,null,{"$f":"SUM(M265)","v":0}]
[null,1,"ВЛ 6 кВ на куст 3129.1 (габ.110 кВ) Приразломное м/р. Правдинский (КС00091309)","ЛС 04-01-02","509-0070","Кнопки монтажные","1000 шт.",9.9680000000000005E-2,32.58,null,null,{"$f":"'ВМП по лоту'!AN294","v":0},{"$f":"ROUND(H265*L265,2)","v":0}]
[null,null,null,null,"101-1757","Ветошь","кг",{"$f":"SUM(H267:H268)","v":1.3354999999999999},null,null,null,null,{"$f":"SUM(M267:M268)","v":0}]
[null,1,"ВЛ 6 кВ на куст 3129.2 (габ. 6 кВ) Приразломное м/р. Правдинский (КС00091313)","ЛС 04-02-01","101-1757","Ветошь","кг",0.91949999999999998,1.95,null,null,{"$f":"'ВМП по лоту'!AN296","v":0},{"$f":"ROUND(H267*L267,2)","v":0}]
[null,2,"ВЛ 6 кВ на куст 3129.1 (габ.110 кВ) Приразломное м/р. Правдинский (КС00091309)","ЛС 04-01-01","101-1757","Ветошь","кг",0.41599999999999998,1.95,null,null,{"$f":"'ВМП по лоту'!AN297","v":0},{"$f":"ROUND(H268*L268,2)","v":0}]
[null,null,null,null,"101-0797","Проволока горячекатаная в мотках, диаметром 6,3-6,5 мм","т",{"$f":"SUM(H270)","v":5.2099999999999999E-5},null,null,null,null,{"$f":"SUM(M270)","v":0}]
[null,1,"ВЛ 6 кВ на куст 3129.2 (габ. 6 кВ) Приразломное м/р. Правдинский (КС00091313)","ЛС 04-02-01","101-0797","Проволока горячекатаная в мотках, диаметром 6,3-6,5 мм","т",5.2099999999999999E-5,4819.3500000000004,null,null,{"$f":"'ВМП по лоту'!AN299","v":0},{"$f":"ROUND(H270*L270,2)","v":0}]
[null,"Итого (Материалы поставки Подрядчика)",null,null,null,null,null,null,null,null,null,null,{"$f":"M18+M27+M31+M35+M37+M39+M43+M47+M51+M53+M57+M60+M62+M65+M67+M71+M74+M76+M78+M80+M83+M85+M88+M90+M92+M94+M98+M100+M102+M104+M106+M108+M111+M113+M115+M117+M119+M121+M124+M126+M128+M130+M133+M135+M137+M141+M145+M149+M151+M153+M155+M157+M159+M161+M164+M167+M169+M171+M173+M175+M177+M180+M182+M184+M186+M189+M191+M195+M197+M199+M201+M205+M207+M209+M211+M214+M216+M220+M222+M224+M228+M230+M232+M234+M236+M238+M242+M245+M247+M249+M253+M257+M259+M262+M264+M266+M269","v":0}]
["cont_metal","Раздел. Металлоконструкции поставки Подрядчика"]
[null,null,null,null,"110-0179","Конструкции стальные порталов ОРУ, сталь 345-3, неогрунтовано","т",{"$f":"SUM(H274:H275)","v":17.306060000000002},null,null,null,null,{"$f":"SUM(M274:M275)","v":0}]
[null,1,"ВЛ 6 кВ на куст 3129.2 (габ. 6 кВ) Приразломное м/р. Правдинский (КС00091313)","ЛС 04-02-01","110-0179","Конструкции стальные порталов ОРУ, сталь 345-3, неогрунтовано","т",12.947100000000001,15564.36,null,null,{"$f":"'ВМП по лоту'!AN28","v":0},{"$f":"ROUND(H274*L274,2)","v":0}]
[null,2,"ВЛ 6 кВ на куст 3129.1 (габ.110 кВ) Приразломное м/р. Правдинский (КС00091309)","ЛС 04-01-01","110-0179","Конструкции стальные порталов ОРУ, сталь 345-3, неогрунтовано","т",4.3589599999999997,15564.36,null,null,{"$f":"'ВМП по лоту'!AN29","v":0},{"$f":"ROUND(H275*L275,2)","v":0}]
[null,null,null,null,"201-0764","Отдельные конструктивные элементы зданий и сооружений с преобладанием гнутосварных профилей и круглых труб, средняя масса сборочной единицы от 0,1 до 0,5 т, сталь 345-3, неогрунтовано","т",{"$f":"SUM(H277:H278)","v":2.222},null,null,null,null,{"$f":"SUM(M277:M278)","v":0}]
[null,1,"ВЛ 6 кВ на куст 3129.2 (габ. 6 кВ) Приразломное м/р. Правдинский (КС00091313)","ЛС 04-02-01","201-0764","Отдельные конструктивные элементы зданий и сооружений с преобладанием гнутосварных профилей и круглых труб, средняя масса сборочной единицы от 0,1 до 0,5 т, сталь 345-3, неогрунтовано","т",1.333,19476.22,null,null,{"$f":"'ВМП по лоту'!AN31","v":0},{"$f":"ROUND(H277*L277,2)","v":0}]
[null,2,"ВЛ 6 кВ на куст 3129.1 (габ.110 кВ) Приразломное м/р. Правдинский (КС00091309)","ЛС 04-01-01","201-0764","Отдельные конструктивные элементы зданий и сооружений с преобладанием гнутосварных профилей и круглых труб, средняя масса сборочной единицы от 0,1 до 0,5 т, сталь 345-3, неогрунтовано","т",0.88900000000000001,19476.22,null,null,{"$f":"'ВМП по лоту'!AN32","v":0},{"$f":"ROUND(H278*L278,2)","v":0}]
[null,null,null,null,"201-0755","Отдельные конструктивные элементы зданий и сооружений с преобладанием горячекатаных профилей, средняя масса сборочной единицы до 0,1 т, сталь 345-3, неогрунтовано","т",{"$f":"SUM(H280)","v":0.76200000000000001},null,null,null,null,{"$f":"SUM(M280)","v":0}]
[null,1,"ВЛ 6 кВ на куст 3129.1 (габ.110 кВ) Приразломное м/р. Правдинский (КС00091309)","ЛС 04-01-02","201-0755","Отдельные конструктивные элементы зданий и сооружений с преобладанием горячекатаных профилей, средняя масса сборочной единицы до 0,1 т, сталь 345-3, неогрунтовано","т",0.76200000000000001,14938.94,null,null,{"$f":"'ВМП по лоту'!AN34","v":0},{"$f":"ROUND(H280*L280,2)","v":0}]
[null,null,null,null,"201-0777","Конструктивные элементы вспомогательного назначения с преобладанием профильного проката собираемые из двух и более деталей, с отверстиями и без отверстий, соединяемые на сварке, сталь 345-3, неогрунтовано","т",{"$f":"SUM(H282:H283)","v":0.3},null,null,null,null,{"$f":"SUM(M282:M283)","v":0}]
[null,1,"ВЛ 6 кВ на куст 3129.2 (габ. 6 кВ) Приразломное м/р. Правдинский (КС00091313)","ЛС 04-02-01","201-0777","Конструктивные элементы вспомогательного назначения с преобладанием профильного проката собираемые из двух и более деталей, с отверстиями и без отверстий, соединяемые на сварке, сталь 345-3, неогрунтовано","т",0.223,18618.060000000001,null,null,{"$f":"'ВМП по лоту'!AN36","v":0},{"$f":"ROUND(H282*L282,2)","v":0}]
[null,2,"ВЛ 6 кВ на куст 3129.1 (габ.110 кВ) Приразломное м/р. Правдинский (КС00091309)","ЛС 04-01-01","201-0777","Конструктивные элементы вспомогательного назначения с преобладанием профильного проката собираемые из двух и более деталей, с отверстиями и без отверстий, соединяемые на сварке, сталь 345-3, неогрунтовано","т",7.6999999999999999E-2,18618.060000000001,null,null,{"$f":"'ВМП по лоту'!AN37","v":0},{"$f":"ROUND(H283*L283,2)","v":0}]
[null,null,null,null,"201-0772","Конструктивные элементы вспомогательного назначения массой не более 50 кг с преобладанием толстолистовой стали без отверстий и сборосварочных операций, сталь 345-3, неогрунтовано","т",{"$f":"SUM(H285)","v":0.18},null,null,null,null,{"$f":"SUM(M285)","v":0}]
[null,1,"ВЛ 6 кВ на куст 3129.1 (габ.110 кВ) Приразломное м/р. Правдинский (КС00091309)","ЛС 04-01-02","201-0772","Конструктивные элементы вспомогательного назначения массой не более 50 кг с преобладанием толстолистовой стали без отверстий и сборосварочных операций, сталь 345-3, неогрунтовано","т",0.18,12140.21,null,null,{"$f":"'ВМП по лоту'!AN39","v":0},{"$f":"ROUND(H285*L285,2)","v":0}]
[null,null,null,null,"201-0774","Конструктивные элементы вспомогательного назначения массой не более 50 кг с преобладанием толстолистовой стали собираемые из двух и более деталей, с отверстиями и без отверстий, соединяемые на сварке, С345-3, неогрунтовано","т",{"$f":"SUM(H287:H289)","v":0.17529649999999999},null,null,null,null,{"$f":"SUM(M287:M289)","v":0}]
[null,1,"ВЛ 6 кВ на куст 3129.1 (габ.110 кВ) Приразломное м/р. Правдинский (КС00091309)","ЛС 04-01-01","201-0774","Конструктивные элементы вспомогательного назначения массой не более 50 кг с преобладанием толстолистовой стали собираемые из двух и более деталей, с отверстиями и без отверстий, соединяемые на сварке, С345-3, неогрунтовано","т",0.1466325,20908.8,null,null,{"$f":"'ВМП по лоту'!AN41","v":0},{"$f":"ROUND(H287*L287,2)","v":0}]
[null,2,"ВЛ 6 кВ на куст 3129.2 (габ. 6 кВ) Приразломное м/р. Правдинский (КС00091313)","ЛС 04-02-01","201-0774","Конструктивные элементы вспомогательного назначения массой не более 50 кг с преобладанием толстолистовой стали собираемые из двух и более деталей, с отверстиями и без отверстий, соединяемые на сварке, С345-3, неогрунтовано","т",2.8101999999999999E-2,20908.8,null,null,{"$f":"'ВМП по лоту'!AN42","v":0},{"$f":"ROUND(H288*L288,2)","v":0}]
[null,3,"ВЛ 6 кВ на куст 3129.1 (габ.110 кВ) Приразломное м/р. Правдинский (КС00091309)","ЛС 04-01-02","201-0774","Конструктивные элементы вспомогательного назначения массой не более 50 кг с преобладанием толстолистовой стали собираемые из двух и более деталей, с отверстиями и без отверстий, соединяемые на сварке, С345-3, неогрунтовано","т",5.62E-4,20908.8,null,null,{"$f":"'ВМП по лоту'!AN43","v":0},{"$f":"ROUND(H289*L289,2)","v":0}]
[null,null,null,null,"201-0763","Отдельные конструктивные элементы зданий и сооружений с преобладанием гнутосварных профилей и круглых труб, средняя масса сборочной единицы до 0,1 т, сталь 345-3, неогрунтовано","т",{"$f":"SUM(H291)","v":0.14000000000000001},null,null,null,null,{"$f":"SUM(M291)","v":0}]
[null,1,"ВЛ 6 кВ на куст 3129.1 (габ.110 кВ) Приразломное м/р. Правдинский (КС00091309)","ЛС 04-01-02","201-0763","Отдельные конструктивные элементы зданий и сооружений с преобладанием гнутосварных профилей и круглых труб, средняя масса сборочной единицы до 0,1 т, сталь 345-3, неогрунтовано","т",0.14000000000000001,20860.75,null,null,{"$f":"'ВМП по лоту'!AN45","v":0},{"$f":"ROUND(H291*L291,2)","v":0}]
[null,null,null,null,"201-0756","Отдельные конструктивные элементы зданий и сооружений с преобладанием горячекатаных профилей, средняя масса сборочной единицы от 0,1 до 0,5 т, С345-3, неогрунтовано","т",{"$f":"SUM(H293:H295)","v":1.3538000000000001E-3},null,null,null,null,{"$f":"SUM(M293:M295)","v":0}]
[null,1,"ВЛ 6 кВ на куст 3129.1 (габ.110 кВ) Приразломное м/р. Правдинский (КС00091309)","ЛС 04-01-02","201-0756","Отдельные конструктивные элементы зданий и сооружений с преобладанием горячекатаных профилей, средняя масса сборочной единицы от 0,1 до 0,5 т, С345-3, неогрунтовано","т",8.5610000000000005E-4,14293.92,null,null,{"$f":"'ВМП по лоту'!AN47","v":0},{"$f":"ROUND(H293*L293,2)","v":0}]
[null,2,"ВЛ 6 кВ на куст 3129.2 (габ. 6 кВ) Приразломное м/р. Правдинский (КС00091313)","ЛС 04-02-01","201-0756","Отдельные конструктивные элементы зданий и сооружений с преобладанием горячекатаных профилей, средняя масса сборочной единицы от 0,1 до 0,5 т, С345-3, неогрунтовано","т",2.9859999999999999E-4,14293.92,null,null,{"$f":"'ВМП по лоту'!AN48","v":0},{"$f":"ROUND(H294*L294,2)","v":0}]
[null,3,"ВЛ 6 кВ на куст 3129.1 (габ.110 кВ) Приразломное м/р. Правдинский (КС00091309)","ЛС 04-01-01","201-0756","Отдельные конструктивные элементы зданий и сооружений с преобладанием горячекатаных профилей, средняя масса сборочной единицы от 0,1 до 0,5 т, С345-3, неогрунтовано","т",1.9909999999999999E-4,14293.92,null,null,{"$f":"'ВМП по лоту'!AN49","v":0},{"$f":"ROUND(H295*L295,2)","v":0}]
[null,"Итого (Металлоконструкции поставки Подрядчика)",null,null,null,null,null,null,null,null,null,null,{"$f":"M273+M276+M279+M281+M284+M286+M290+M292","v":0}]
["cont_equipment","Раздел. Оборудование поставки Подрядчика"]
[null,"Итого (Оборудование поставки Подрядчика)"]
[null,"Раздел. Материалы и оборудование, переданные от заказчика к подрядчику"]
["cont_from_cust_materials","Материалы, переданные от заказчика к подрядчику"]
[null,null,null,null,"Цена завода","Изолятор подвесной ПС70-Е, цена 333,9:4,03.1,13","шт.",{"$f":"SUM(H302:H303)","v":415},null,null,null,null,{"$f":"SUM(M302:M303)","v":0}]
[null,1,"ВЛ 6 кВ на куст 3129.1 (габ.110 кВ) Приразломное м/р. Правдинский (КС00091309)","ЛС 04-01-01","Цена завода","Изолятор подвесной ПС70-Е, цена 333,9:4,03.1,13","шт.",268,93.62,null,null,{"$f":"'ВМП по лоту'!AN309","v":0},{"$f":"ROUND(H302*L302,2)","v":0}]
[null,2,"ВЛ 6 кВ на куст 3129.2 (габ. 6 кВ) Приразломное м/р. Правдинский (КС00091313)","ЛС 04-02-01","Цена завода","Изолятор подвесной ПС70-Е, цена 333,9:4,03.1,13","шт.",147,93.62,null,null,{"$f":"'ВМП по лоту'!AN310","v":0},{"$f":"ROUND(H303*L303,2)","v":0}]
[null,null,null,null,"Цена завода","Изолятор штыревой ШС-10Е цена 214,38:4,03.1,13","шт.",{"$f":"SUM(H305)","v":69},null,null,null,null,{"$f":"SUM(M305)","v":0}]
[null,1,"ВЛ 6 кВ на куст 3129.2 (габ. 6 кВ) Приразломное м/р. Правдинский (КС00091313)","ЛС 04-02-01","Цена завода","Изолятор штыревой ШС-10Е цена 214,38:4,03.1,13","шт.",69,60.11,null,null,{"$f":"'ВМП по лоту'!AN312","v":0},{"$f":"ROUND(H305*L305,2)","v":0}]
[null,null,null,null,"Цена завода","Изолятор штыревой ШС-10Г, цена 214,38:4,03.1,13","шт.",{"$f":"SUM(H307)","v":19},null,null,null,null,{"$f":"SUM(M307)","v":0}]
[null,1,"ВЛ 6 кВ на куст 3129.1 (габ.110 кВ) Приразломное м/р. Правдинский (КС00091309)","ЛС 04-01-01","Цена завода","Изолятор штыревой ШС-10Г, цена 214,38:4,03.1,13","шт.",19,60.11,null,null,{"$f":"'ВМП по лоту'!AN314","v":0},{"$f":"ROUND(H307*L307,2)","v":0}]
[null,null,null,null,"101-1602","Ацетилен газообразный технический","м3",{"$f":"SUM(H309:H311)","v":4.5758600000000005},null,null,null,null,{"$f":"SUM(M309:M311)","v":0}]
[null,1,"ВЛ 6 кВ на куст 3129.1 (габ.110 кВ) Приразломное м/р. Правдинский (КС00091309)","ЛС 04-01-01","101-1602","Ацетилен газообразный технический","м3",3.5453000000000001,62.08,null,null,{"$f":"'ВМП по лоту'!AN316","v":0},{"$f":"ROUND(H309*L309,2)","v":0}]
[null,2,"ВЛ 6 кВ на куст 3129.2 (габ. 6 кВ) Приразломное м/р. Правдинский (КС00091313)","ЛС 04-02-01","101-1602","Ацетилен газообразный технический","м3",1.0080800000000001,62.08,null,null,{"$f":"'ВМП по лоту'!AN317","v":0},{"$f":"ROUND(H310*L310,2)","v":0}]
[null,3,"ВЛ 6 кВ на куст 3129.1 (габ.110 кВ) Приразломное м/р. Правдинский (КС00091309)","ЛС 04-01-02","101-1602","Ацетилен газообразный технический","м3",2.248E-2,62.08,null,null,{"$f":"'ВМП по лоту'!AN318","v":0},{"$f":"ROUND(H311*L311,2)","v":0}]
[null,null,null,null,"113-0077","Ксилол нефтяной марки А","т",{"$f":"SUM(H313:H314)","v":5.9080000000000001E-3},null,null,null,null,{"$f":"SUM(M313:M314)","v":0}]
[null,1,"ВЛ 6 кВ на куст 3129.2 (габ. 6 кВ) Приразломное м/р. Правдинский (КС00091313)","ЛС 04-02-01","113-0077","Ксилол нефтяной марки А","т",4.28E-3,8496.2800000000007,null,null,{"$f":"'ВМП по лоту'!AN320","v":0},{"$f":"ROUND(H313*L313,2)","v":0}]
[null,2,"ВЛ 6 кВ на куст 3129.1 (габ.110 кВ) Приразломное м/р. Правдинский (КС00091309)","ЛС 04-01-01","113-0077","Ксилол нефтяной марки А","т",1.6280000000000001E-3,8496.2800000000007,null,null,{"$f":"'ВМП по лоту'!AN321","v":0},{"$f":"ROUND(H314*L314,2)","v":0}]
[null,null,null,null,"101-0069","Бензин авиационный Б-70","т",{"$f":"SUM(H316)","v":3.2000000000000002E-3},null,null,null,null,{"$f":"SUM(M316)","v":0}]
[null,1,"ВЛ 6 кВ на куст 3129.1 (габ.110 кВ) Приразломное м/р. Правдинский (КС00091309)","ЛС 04-01-02","101-0069","Бензин авиационный Б-70","т",3.2000000000000002E-3,6065.37,null,null,{"$f":"'ВМП по лоту'!AN323","v":0},{"$f":"ROUND(H316*L316,2)","v":0}]
[null,null,null,null,"101-1745","Бензин растворитель","т",{"$f":"SUM(H318:H319)","v":1.2666000000000001E-3},null,null,null,null,{"$f":"SUM(M318:M319)","v":0}]
[null,1,"ВЛ 6 кВ на куст 3129.2 (габ. 6 кВ) Приразломное м/р. Правдинский (КС00091313)","ЛС 04-02-01","101-1745","Бензин растворитель","т",9.5940000000000001E-4,8302.3700000000008,null,null,{"$f":"'ВМП по лоту'!AN325","v":0},{"$f":"ROUND(H318*L318,2)","v":0}]
[null,2,"ВЛ 6 кВ на куст 3129.1 (габ.110 кВ) Приразломное м/р. Правдинский (КС00091309)","ЛС 04-01-01","101-1745","Бензин растворитель","т",3.0719999999999999E-4,8302.3700000000008,null,null,{"$f":"'ВМП по лоту'!AN326","v":0},{"$f":"ROUND(H319*L319,2)","v":0}]
[null,"Итого (Материалы, переданные от заказчика к подрядчику)",null,null,null,null,null,null,null,null,null,null,{"$f":"M301+M304+M306+M308+M312+M315+M317","v":0}]
["cont_from_cust_equipment","Оборудование, переданное от заказчика к подрядчику"]
[null,"Итого (Оборудование, переданное от заказчика к подрядчику)"]
[null,"Итого (Материалы и оборудование, переданные от заказчика к подрядчику)",null,null,null,null,null,null,null,null,null,null,{"$f":"M320+M322","v":0}]
[null,"Итого (Материалы, оборудование и металлоконструкции поставки Подрядчика)",null,null,null,null,null,null,null,null,null,null,{"$f":"M271+M298+M296+M323","v":0}]
[null,"Раздел II: МТР, приобретаемые Заказчиком "]
["cust_materials","Раздел. Материалы поставки Заказчика"]
[null,null,null,null,"103-0205","Трубы стальные электросварные прямошовные со снятой фаской из стали марок БСт2кп-БСт4кп и БСт2пс-БСт4пс наружный диаметр 325 мм, толщина стенки 9 мм","т",{"$f":"SUM(H328)","v":157.55099999999999},null,null,{"$f":"SUM(K328)","v":8765526.3399999999}]
[null,1,"ВЛ 6 кВ на куст 3129.1 (габ.110 кВ) Приразломное м/р. Правдинский (КС00091309)","ЛС 04-01-01","103-0205","Трубы стальные электросварные прямошовные со снятой фаской из стали марок БСт2кп-БСт4кп и БСт2пс-БСт4пс наружный диаметр 325 мм, толщина стенки 9 мм","т",157.55099999999999,549.19000000000005,55636.12,{"$f":"ROUND(H328*J328,2)","v":8765526.3399999999}]
[null,null,null,null,"103-0521","Трубы бесшовные обсадные из стали группы Д и Б с короткой треугольной резьбой наружный диаметр 168 мм толщина стенки 8.9 мм. Сваи","т",{"$f":"SUM(H330:H331)","v":72.783000000000001},null,null,{"$f":"SUM(K330:K331)","v":3736802.95}]
[null,1,"ВЛ 6 кВ на куст 3129.1 (габ.110 кВ) Приразломное м/р. Правдинский (КС00091309)","ЛС 04-01-01","103-0521","Трубы бесшовные обсадные из стали группы Д и Б с короткой треугольной резьбой наружный диаметр 168 мм толщина стенки 8.9 мм. Сваи","т",21.6,424.53,51341.7,{"$f":"ROUND(H330*J330,2)","v":1108980.72}]
[null,2,"ВЛ 6 кВ на куст 3129.2 (габ. 6 кВ) Приразломное м/р. Правдинский (КС00091313)","ЛС 04-02-01","103-0521","Трубы бесшовные обсадные из стали группы Д и Б с короткой треугольной резьбой наружный диаметр 168 мм толщина стенки 8.9 мм. Сваи","т",51.183,424.53,51341.7,{"$f":"ROUND(H331*J331,2)","v":2627822.23}]
[null,null,null,null,"201-0917","Опора У110-2+5","шт.",{"$f":"SUM(H333)","v":4},null,null,{"$f":"SUM(K333)","v":2934316}]
[null,1,"ВЛ 6 кВ на куст 3129.1 (габ.110 кВ) Приразломное м/р. Правдинский (КС00091309)","ЛС 04-01-01","201-0917","Опора У110-2+5","шт.",4,31584.29,733579,{"$f":"ROUND(H333*J333,2)","v":2934316}]
[null,null,null,null,"403-8315","Сваи железобетонные безростверковые из бетона В20 (М250) с расходом арматуры 50 кг на м3 бетона (в плотном теле). Сваи С35.12-1 (80 шт.), F200","м3",{"$f":"SUM(H335)","v":117.16},null,null,{"$f":"SUM(K335)","v":2733809.1}]
[null,1,"ВЛ 6 кВ на куст 3129.1 (габ.110 кВ) Приразломное м/р. Правдинский (КС00091309)","ЛС 04-01-01","403-8315","Сваи железобетонные безростверковые из бетона В20 (М250) с расходом арматуры 50 кг на м3 бетона (в плотном теле). Сваи С35.12-1 (80 шт.), F200","м3",117.16,2739.08,23333.98,{"$f":"ROUND(H335*J335,2)","v":2733809.1}]
[null,null,null,null,"201-0917","Опора П110-4В","шт.",{"$f":"SUM(H337)","v":7},null,null,{"$f":"SUM(K337)","v":1800211.42}]
[null,1,"ВЛ 6 кВ на куст 3129.1 (габ.110 кВ) Приразломное м/р. Правдинский (КС00091309)","ЛС 04-01-01","201-0917","Опора П110-4В","шт.",7,31584.29,257173.06,{"$f":"ROUND(H337*J337,2)","v":1800211.42}]
[null,null,null,null,"110-0178","Ростверк Р6-24/20/20-4","шт.",{"$f":"SUM(H339)","v":20},null,null,{"$f":"SUM(K339)","v":1780960}]
[null,1,"ВЛ 6 кВ на куст 3129.1 (габ.110 кВ) Приразломное м/р. Правдинский (КС00091309)","ЛС 04-01-01","110-0178","Ростверк Р6-24/20/20-4","шт.",20,10210.219999999999,89048,{"$f":"ROUND(H339*J339,2)","v":1780960}]
[null,null,null,null,"110-0178","Оголовок 2.1","шт.",{"$f":"SUM(H341)","v":136},null,null,{"$f":"SUM(K341)","v":1062187.2}]
[null,1,"ВЛ 6 кВ на куст 3129.1 (габ.110 кВ) Приразломное м/р. Правдинский (КС00091309)","ЛС 04-01-01","110-0178","Оголовок 2.1","шт.",136,10210.219999999999,7810.2,{"$f":"ROUND(H341*J341,2)","v":1062187.2}]
[null,null,null,null,"502-0322","Провода неизолированные для воздушных линий электропередачи из стальных оцинкованных проволок 1 группы и алюминиевых проволок марки АС, сечением 120/19 мм2","т",{"$f":"SUM(H343)","v":5.6063999999999998},null,null,{"$f":"SUM(K343)","v":844435.97}]
[null,1,"ВЛ 6 кВ на куст 3129.1 (габ.110 кВ) Приразломное м/р. Правдинский (КС00091309)","ЛС 04-01-01","502-0322","Провода неизолированные для воздушных линий электропередачи из стальных оцинкованных проволок 1 группы и алюминиевых проволок марки АС, сечением 120/19 мм2","т",5.6063999999999998,106046.28,150620,{"$f":"ROUND(H343*J343,2)","v":844435.97}]
[null,null,null,null,"Данные заказчика","Привозной грунт (песок)","м3",{"$f":"SUM(H345:H349)","v":5714.1730000000007},null,null,{"$f":"SUM(K345:K349)","v":719985.8}]
[null,1,"ВЛ 6 кВ на куст 3129.1 (габ.110 кВ) Приразломное м/р. Правдинский (КС00091309)","ЛС 08-04-01-02","Данные заказчика","Привозной грунт (песок)","м3",2274.3180000000002,74.569999999999993,126,{"$f":"ROUND(H345*J345,2)","v":286564.07}]
[null,2,"ВЛ 6 кВ на куст 3129.1 (габ.110 кВ) Приразломное м/р. Правдинский (КС00091309)","ЛС 08-04-01-03","Данные заказчика","Привозной грунт (песок)","м3",1363.5,74.569999999999993,126,{"$f":"ROUND(H346*J346,2)","v":171801}]
[null,3,"ВЛ 6 кВ на куст 3129.1 (габ.110 кВ) Приразломное м/р. Правдинский (КС00091309)","ЛС 08-04-01-04","Данные заказчика","Привозной грунт (песок)","м3",795.375,74.569999999999993,126,{"$f":"ROUND(H347*J347,2)","v":100217.25}]
[null,4,"ВЛ 6 кВ на куст 3129.2 (габ. 6 кВ) Приразломное м/р. Правдинский (КС00091313)","ЛС 04-02-01","Данные заказчика","Привозной грунт (песок)","м3",20.5,74.569999999999993,126,{"$f":"ROUND(H348*J348,2)","v":2583}]
[null,5,"ВЛ 6 кВ на куст 3129.2 (габ. 6 кВ) Приразломное м/р. Правдинский (КС00091313)","ЛС 08-04-02-01","Данные заказчика","Привозной грунт (песок)","м3",1260.48,74.569999999999993,126,{"$f":"ROUND(H349*J349,2)","v":158820.48000000001}]
[null,null,null,null,"110-0178","Ростверк Ф4.35-2-20/16","шт.",{"$f":"SUM(H351)","v":20},null,null,{"$f":"SUM(K351)","v":657200}]
[null,1,"ВЛ 6 кВ на куст 3129.1 (габ.110 кВ) Приразломное м/р. Правдинский (КС00091309)","ЛС 04-01-01","110-0178","Ростверк Ф4.35-2-20/16","шт.",20,10210.219999999999,32860,{"$f":"ROUND(H351*J351,2)","v":657200}]
[null,null,null,null,"201-0917","Опора У110-4+5","шт.",{"$f":"SUM(H353)","v":1},null,null,{"$f":"SUM(K353)","v":586222.64}]
[null,1,"ВЛ 6 кВ на куст 3129.1 (габ.110 кВ) Приразломное м/р. Правдинский (КС00091309)","ЛС 04-01-01","201-0917","Опора У110-4+5","шт.",1,31584.29,586222.64,{"$f":"ROUND(H353*J353,2)","v":586222.64}]
[null,null,null,null,"Прайс-лист","Кабель 6 кВ с изоляцией из сшитого полиэтилена ПвВнг-ХЛ 1х120/35 , цена 663500:4,29.1,13","1000 м",{"$f":"SUM(H355)","v":0.44879999999999998},null,null,{"$f":"SUM(K355)","v":337739.95}]
[null,1,"ВЛ 6 кВ на куст 3129.1 (габ.110 кВ) Приразломное м/р. Правдинский (КС00091309)","ЛС 04-01-02","Прайс-лист","Кабель 6 кВ с изоляцией из сшитого полиэтилена ПвВнг-ХЛ 1х120/35 , цена 663500:4,29.1,13","1000 м",0.44879999999999998,174768.07,752540,{"$f":"ROUND(H355*J355,2)","v":337739.95}]
[null,null,null,null,"502-0269","Провода неизолированные для воздушных линий электропередачи алюминиевые марки А, сечением 95 мм2","т",{"$f":"SUM(H357)","v":0.82301360000000001},null,null,{"$f":"SUM(K357)","v":145780.4}]
[null,1,"ВЛ 6 кВ на куст 3129.2 (габ. 6 кВ) Приразломное м/р. Правдинский (КС00091313)","ЛС 04-02-01","502-0269","Провода неизолированные для воздушных линий электропередачи алюминиевые марки А, сечением 95 мм2","т",0.82301360000000001,121408.59,177130,{"$f":"ROUND(H357*J357,2)","v":145780.4}]
[null,null,null,null,"403-8315","Сваи железобетонные безростверковые из бетона В20 (М250) с расходом арматуры 50 кг на м3 бетона (в плотном теле). Сваи С35.12-1 (4 шт.), F200","м3",{"$f":"SUM(H359)","v":5.8579999999999997},null,null,{"$f":"SUM(K359)","v":136690.45000000001}]
[null,1,"ВЛ 6 кВ на куст 3129.2 (габ. 6 кВ) Приразломное м/р. Правдинский (КС00091313)","ЛС 04-02-01","403-8315","Сваи железобетонные безростверковые из бетона В20 (М250) с расходом арматуры 50 кг на м3 бетона (в плотном теле). Сваи С35.12-1 (4 шт.), F200","м3",5.8579999999999997,2739.08,23333.98,{"$f":"ROUND(H359*J359,2)","v":136690.45000000001}]
[null,null,null,null,"201-0917","Портал ПС35-Я3Са","шт.",{"$f":"SUM(H361)","v":1},null,null,{"$f":"SUM(K361)","v":129349.08}]
[null,1,"ВЛ 6 кВ на куст 3129.2 (габ. 6 кВ) Приразломное м/р. Правдинский (КС00091313)","ЛС 04-02-01","201-0917","Портал ПС35-Я3Са","шт.",1,31584.29,129349.08,{"$f":"ROUND(H361*J361,2)","v":129349.08}]
[null,null,null,null,"110-0178","Ростверк Ф2.35-2-20","шт.",{"$f":"SUM(H363)","v":8},null,null,{"$f":"SUM(K363)","v":106004.56}]
[null,1,"ВЛ 6 кВ на куст 3129.1 (габ.110 кВ) Приразломное м/р. Правдинский (КС00091309)","ЛС 04-01-01","110-0178","Ростверк Ф2.35-2-20","шт.",8,10210.219999999999,13250.57,{"$f":"ROUND(H363*J363,2)","v":106004.56}]
[null,null,null,null,"103-0192","Трубы стальные электросварные прямошовные со снятой фаской из стали марок БСт2кп-БСт4кп и БСт2пс-БСт4пс наружный диаметр 219 мм, толщина стенки 8 мм","т",{"$f":"SUM(H365)","v":1.1339999999999999},null,null,{"$f":"SUM(K365)","v":51399.06}]
[null,1,"ВЛ 6 кВ на куст 3129.1 (габ.110 кВ) Приразломное м/р. Правдинский (КС00091309)","ЛС 04-01-02","103-0192","Трубы стальные электросварные прямошовные со снятой фаской из стали марок БСт2кп-БСт4кп и БСт2пс-БСт4пс наружный диаметр 219 мм, толщина стенки 8 мм","т",1.1339999999999999,344.3,45325.45,{"$f":"ROUND(H365*J365,2)","v":51399.06}]
[null,null,null,null,"110-0178","Ростверк ТС-23С","шт.",{"$f":"SUM(H367)","v":2},null,null,{"$f":"SUM(K367)","v":41952.54}]
[null,1,"ВЛ 6 кВ на куст 3129.2 (габ. 6 кВ) Приразломное м/р. Правдинский (КС00091313)","ЛС 04-02-01","110-0178","Ростверк ТС-23С","шт.",2,10210.219999999999,20976.27,{"$f":"ROUND(H367*J367,2)","v":41952.54}]
[null,null,null,null,"502-0271","Провода неизолированные для воздушных линий электропередачи алюминиевые марки А, сечением 120 мм2","т",{"$f":"SUM(H369)","v":0.1205301},null,null,{"$f":"SUM(K369)","v":27924.41}]
[null,1,"ВЛ 6 кВ на куст 3129.1 (габ.110 кВ) Приразломное м/р. Правдинский (КС00091309)","ЛС 04-01-01","502-0271","Провода неизолированные для воздушных линий электропередачи алюминиевые марки А, сечением 120 мм2","т",0.1205301,126562.68,231680,{"$f":"ROUND(H369*J369,2)","v":27924.41}]
[null,null,null,null,"408-0122","Песок природный для строительных работ средний","м3",{"$f":"SUM(H371:H372)","v":156.19999999999999},null,null,{"$f":"SUM(K371:K372)","v":19681.199999999997}]
[null,1,"ВЛ 6 кВ на куст 3129.1 (габ.110 кВ) Приразломное м/р. Правдинский (КС00091309)","ЛС 04-01-01","408-0122","Песок природный для строительных работ средний","м3",155.6,74.569999999999993,126,{"$f":"ROUND(H371*J371,2)","v":19605.599999999999}]
[null,2,"ВЛ 6 кВ на куст 3129.1 (габ.110 кВ) Приразломное м/р. Правдинский (КС00091309)","ЛС 04-01-02","408-0122","Песок природный для строительных работ средний","м3",0.6,74.569999999999993,126,{"$f":"ROUND(H372*J372,2)","v":75.599999999999994}]
[null,null,null,null,"110-0178","Наголовник М42","шт.",{"$f":"SUM(H374)","v":4},null,null,{"$f":"SUM(K374)","v":12652.2}]
[null,1,"ВЛ 6 кВ на куст 3129.2 (габ. 6 кВ) Приразломное м/р. Правдинский (КС00091313)","ЛС 04-02-01","110-0178","Наголовник М42","шт.",4,10210.219999999999,3163.05,{"$f":"ROUND(H374*J374,2)","v":12652.2}]
[null,null,null,null,"408-0015","Щебень из природного камня для строительных работ марка 800, фракция 20-40 мм","м3",{"$f":"SUM(H376:H379)","v":3.3025002999999997},null,null,{"$f":"SUM(K376:K379)","v":6744.29}]
[null,1,"ВЛ 6 кВ на куст 3129.1 (габ.110 кВ) Приразломное м/р. Правдинский (КС00091309)","ЛС 08-04-01-02","408-0015","Щебень из природного камня для строительных работ марка 800, фракция 20-40 мм","м3",1.3191044000000001,184.43,2042.18,{"$f":"ROUND(H376*J376,2)","v":2693.85}]
[null,2,"ВЛ 6 кВ на куст 3129.1 (габ.110 кВ) Приразломное м/р. Правдинский (КС00091309)","ЛС 08-04-01-03","408-0015","Щебень из природного камня для строительных работ марка 800, фракция 20-40 мм","м3",0.79100000000000004,184.43,2042.18,{"$f":"ROUND(H377*J377,2)","v":1615.36}]
[null,3,"ВЛ 6 кВ на куст 3129.1 (габ.110 кВ) Приразломное м/р. Правдинский (КС00091309)","ЛС 08-04-01-04","408-0015","Щебень из природного камня для строительных работ марка 800, фракция 20-40 мм","м3",0.46131750000000005,184.43,2042.18,{"$f":"ROUND(H378*J378,2)","v":942.09}]
[null,4,"ВЛ 6 кВ на куст 3129.2 (габ. 6 кВ) Приразломное м/р. Правдинский (КС00091313)","ЛС 08-04-02-01","408-0015","Щебень из природного камня для строительных работ марка 800, фракция 20-40 мм","м3",0.73107840000000002,184.43,2042.18,{"$f":"ROUND(H379*J379,2)","v":1492.99}]
[null,"Итого (Материалы поставки Заказчика)",null,null,null,null,null,null,null,null,{"$f":"K327+K329+K332+K334+K336+K338+K340+K342+K344+K350+K352+K354+K356+K358+K360+K362+K364+K366+K368+K370+K373+K375","v":26637575.559999991}]
["cust_metal","Раздел. Металлоконструкции поставки Заказчика"]
[null,"Итого (Металлоконструкции поставки Заказчика)"]
["cust_equipment","Раздел. Оборудование поставки Заказчика"]
[null,null,null,null,"Цена завода","Разъединитель трехполюсный РЛК.1а-10.IV/400 УХЛ1 с приводом ПР-01-7УХЛ1, цена 31900:4,4:1,18","комплект",{"$f":"SUM(H385:H386)","v":8},null,null,{"$f":"SUM(K385:K386)","v":238394.8}]
[null,1,"ВЛ 6 кВ на куст 3129.1 (габ.110 кВ) Приразломное м/р. Правдинский (КС00091309)","ЛС 04-01-01","Цена завода","Разъединитель трехполюсный РЛК.1а-10.IV/400 УХЛ1 с приводом ПР-01-7УХЛ1, цена 31900:4,4:1,18","комплект",4,6950.76,29799.35,{"$f":"ROUND(H385*J385,2)","v":119197.4}]
[null,2,"ВЛ 6 кВ на куст 3129.2 (габ. 6 кВ) Приразломное м/р. Правдинский (КС00091313)","ЛС 04-02-01","Цена завода","Разъединитель трехполюсный РЛК.1а-10.IV/400 УХЛ1 с приводом ПР-01-7УХЛ1, цена 31900:4,4:1,18","комплект",4,6950.76,29799.35,{"$f":"ROUND(H386*J386,2)","v":119197.4}]
[null,null,null,null,"Цена завода","Ограничитель перенапряжений МОПН-П-6/7,2/10/400 УХЛ1, цена 4602:4,4","шт.",{"$f":"SUM(H388:H389)","v":18},null,null,{"$f":"SUM(K388:K389)","v":20352.060000000001}]
[null,1,"ВЛ 6 кВ на куст 3129.1 (габ.110 кВ) Приразломное м/р. Правдинский (КС00091309)","ЛС 04-01-01","Цена завода","Ограничитель перенапряжений МОПН-П-6/7,2/10/400 УХЛ1, цена 4602:4,4","шт.",12,1183.23,1130.67,{"$f":"ROUND(H388*J388,2)","v":13568.04}]
[null,2,"ВЛ 6 кВ на куст 3129.2 (габ. 6 кВ) Приразломное м/р. Правдинский (КС00091313)","ЛС 04-02-01","Цена завода","Ограничитель перенапряжений МОПН-П-6/7,2/10/400 УХЛ1, цена 4602:4,4","шт.",6,1183.23,1130.67,{"$f":"ROUND(H389*J389,2)","v":6784.02}]
[null,"Итого (Оборудование поставки Заказчика)",null,null,null,null,null,null,null,null,{"$f":"K384+K387","v":258746.86}]
[null,"Итого (Материалы, оборудование и металлоконструкции поставки Заказчика)",null,null,null,null,null,null,null,null,{"$f":"K380+K390+K382","v":26896322.419999991}]
[null,"ИТОГО, без НДС",null,null,null,null,null,null,null,null,{"$f":"K391","v":26896322.419999991},null,{"$f":"M324","v":0}]
[null,"ВСЕГО, без НДС",null,null,null,null,null,null,null,{"$f":"K392+M392","v":26896322.419999991}]
["5D57A968-2E2D-47A8-B7F4-6C635AF194C3",1,"ВЛ 6 кВ на куст 3129.1 (габ.110 кВ) Приразломное м/р. Правдинский (КС00091309)",null,null,null,null,null,null,null,{"$f":"SUM(K395:K396)","v":23513197.629999999},null,{"$f":"SUM(M395:M396)","v":0}]
[null,null,"Материалы",null,null,null,null,null,null,null,{"$f":"SUMIF(C327:C379,C394,K327:K379)","v":23380432.189999998},null,{"$f":"SUMIF(C18:C25,C394,M18:M25)+SUMIF(C27:C270,C394,M27:M270)+SUMIF(C273:C295,C394,M273:M295)+SUMIF(C301:C319,C394,M301:M319)","v":0}]
[null,null,"Оборудование",null,null,null,null,null,null,null,{"$f":"SUMIF(C384:C389,C394,K384:K389)","v":132765.44},null,0]
["AEEAB128-A9D6-4DE1-ACE9-6CD791FCF82A",2,"ВЛ 6 кВ на куст 3129.2 (габ. 6 кВ) Приразломное м/р. Правдинский (КС00091313)",null,null,null,null,null,null,null,{"$f":"SUM(K398:K399)","v":3383124.7900000005},null,{"$f":"SUM(M398:M399)","v":0}]
[null,null,"Материалы",null,null,null,null,null,null,null,{"$f":"SUMIF(C327:C379,C397,K327:K379)","v":3257143.3700000006},null,{"$f":"SUMIF(C18:C25,C397,M18:M25)+SUMIF(C27:C270,C397,M27:M270)+SUMIF(C273:C295,C397,M273:M295)+SUMIF(C301:C319,C397,M301:M319)","v":0}]
[null,null,"Оборудование",null,null,null,null,null,null,null,{"$f":"SUMIF(C384:C389,C397,K384:K389)","v":125981.42},null,0]
[]
[null,null,"Примечание:"]
[null,null,1]
[null,null,2]
[null,null,3]
[null,null,4]
[null,null,5]
[null,null,6]
[null,null,7]

{"sheet":"Реестр МТР","index":26,"n_rows":252,"n_cols":59,"rows_kept":252,"cut":false,"hidden":true,"merged":[[251,10,251,11],[251,12,251,13],[247,10,247,11],[247,12,247,13],[248,10,248,11],[248,12,248,13],[250,10,250,11],[250,12,250,13],[12,29,13,29],[244,10,244,11],[244,12,244,13],[245,10,245,11],[245,12,245,13],[12,17,13,17],[12,12,13,12],[12,13,13,13],[12,14,13,14],[12,30,13,30],[12,56,12,57],[12,58,13,58],[14,1,14,7],[14,15,14,50],[14,53,14,58],[12,31,13,31],[12,32,13,32],[12,33,12,37],[12,38,13,38],[12,39,13,39],[12,20,12,23],[12,24,13,24],[12,25,13,25],[12,26,12,27],[12,28,13,28],[15,1,15,7],[15,15,15,50],[15,53,15,58],[12,50,13,50],[12,51,13,51],[12,52,13,52],[12,53,13,53],[12,54,13,54],[12,55,13,55],[12,40,13,40],[12,41,13,41],[12,42,13,42],[12,43,12,47],[12,48,13,48],[12,49,13,49],[12,1,13,1],[12,2,13,2],[12,3,13,3],[12,4,13,4],[12,5,13,5],[12,6,13,6],[5,15,6,15],[5,16,6,16],[5,17,6,17],[5,18,6,18],[12,18,12,19],[12,15,13,15],[12,16,13,16],[5,19,6,19],[12,7,13,7],[12,8,13,8],[12,9,13,9],[12,10,13,10],[12,11,13,11],[10,1,10,9],[5,7,5,9],[5,10,6,10],[5,11,6,11],[5,12,6,12],[5,13,6,13],[5,14,6,14],[5,1,6,1],[5,2,6,2],[5,3,6,3],[5,4,6,4],[5,5,5,6],[1,11,2,11],[1,12,2,12],[1,13,2,13],[1,14,2,14],[1,27,1,28],[1,10,2,10],[1,5,2,5],[1,6,2,6],[1,7,2,7],[1,8,2,8],[1,9,2,9]]}
[]
["95B8996E-A92E-40F2-8A9B-251AB1F004D4",null,"2000350438 (680-20-КС(ТЗ))",null,null,"ОК","ОК",null,null,null,null,"ОК","ОК","ОК","ОК",null,null,null,null,null,null,null,null,null,null,null,null,"Ценообразующие",null,null,null,null,null,null,null,null,null,null,null,null,null,null,null,null,null,null,null,null,null,null,"5.50"]
["8C5A24C2-29E5-4B49-AAA2-7CF88482A85D",null,"Реестр стоимости основных материалов и оборудования",null,null,null,null,null,null,null,null,null,null,null,null,null,null,null,null,null,null,null,null,null,null,null,null,"Минимум",0.8]
[null,null,{"$f":"'Исходные данные'!D19","v":"Строительство объектов энергетики Правдинского региона"},null,null,null,null,null,null,null,null,null,null,null,null,null,null,null,null,null,null,null,null,null,null,null,null,"Максимум",0.8]
[]
[null,"№ п/п","Тех. номер объекта","Наименование объекта","Индекс перехода","% Транс. расх. Авто",null,"% Загот. склад. расх.",null,null,"Сумма Заказчика","Сумма заказчика РВ","Сумма подрядчика","Сумма Подрядчика РВ","Сумма ЦО подрядчик","Доля ЦО в чистых МТР подрядчик","Сумма не ЦО подрядчик","Сумма чистые подрядчик","Сумма перенесенные МТР в ПП","Сумма ЦО в чистых МТР подрядчик"]
[null,null,null,null,null,"Рыночные (Ц)","ССЦ (В)","Материалы","Металоконстр.","Оборудование"]
[null,"C10","C11","C12","C13","C14","C15","C16","C17","C18","C19","C20","C21","C22","C23","C24","C25","C26","C27","C28"]
[null,1,"5D57A968-2E2D-47A8-B7F4-6C635AF194C3","ВЛ 6 кВ на куст 3129.1 (габ.110 кВ) Приразломное м/р. Правдинский (КС00091309)",{"$f":"НМЦ!$K$227","v":0},6.59E-2,5.6899999999999999E-2,0.02,7.4999999999999997E-3,1.2E-2,{"$f":"SUMIFS($N$18:$N$234,$L$18:$L$234,\"Заказчик*\",$D$18:$D$234,D9)","v":23513197.629999995},{"$f":"'РВ по лоту'!K394","v":23513197.629999999},{"$f":"SUMIFS($AZ$18:$AZ$234,$L$18:$L$234,\"Подрядчик*\",$D$18:$D$234,D9)","v":8231428.3299999973},{"$f":"'РВ по лоту'!M394","v":0},{"$f":"SUMIFS($AZ$18:$AZ$234,$L$18:$L$234,\"Подрядчик*\",$D$18:$D$234,D9,$AD$18:$AD$234,\"Ц\")","v":7555401.1299999999},{"$f":"T9/R9","v":0.93531099623238134},{"$f":"SUMIFS($AZ$18:$AZ$234,$L$18:$L$234,\"Подрядчик*\",$D$18:$D$234,D9,$AD$18:$AD$234,\"В\")","v":676027.20000000007},{"$f":"SUMIFS($AZ$18:$AZ$234,$L$18:$L$234,\"Подрядчик\",$D$18:$D$234,D9)","v":8077956.0599999977},{"$f":"SUMIFS($AZ$18:$AZ$234,$L$18:$L$234,\"Подрядчик (от Заказчика)\",$D$18:$D$234,D9)","v":153472.27000000002},{"$f":"SUMIFS($AZ$18:$AZ$234,$L$18:$L$234,\"Подрядчик\",$D$18:$D$234,D9,$AD$18:$AD$234,\"Ц\")","v":7555401.1299999999}]
[null,2,"AEEAB128-A9D6-4DE1-ACE9-6CD791FCF82A","ВЛ 6 кВ на куст 3129.2 (габ. 6 кВ) Приразломное м/р. Правдинский (КС00091313)",{"$f":"НМЦ!$K$227","v":0},6.59E-2,5.6899999999999999E-2,0.02,7.4999999999999997E-3,1.2E-2,{"$f":"SUMIFS($N$18:$N$234,$L$18:$L$234,\"Заказчик*\",$D$18:$D$234,D10)","v":3383124.7900000005},{"$f":"'РВ по лоту'!K397","v":3383124.7900000005},{"$f":"SUMIFS($AZ$18:$AZ$234,$L$18:$L$234,\"Подрядчик*\",$D$18:$D$234,D10)","v":3950428.04},{"$f":"'РВ по лоту'!M397","v":0},{"$f":"SUMIFS($AZ$18:$AZ$234,$L$18:$L$234,\"Подрядчик*\",$D$18:$D$234,D10,$AD$18:$AD$234,\"Ц\")","v":3658761.01},{"$f":"T10/R10","v":0.95111258091880313},{"$f":"SUMIFS($AZ$18:$AZ$234,$L$18:$L$234,\"Подрядчик*\",$D$18:$D$234,D10,$AD$18:$AD$234,\"В\")","v":291667.02999999997},{"$f":"SUMIFS($AZ$18:$AZ$234,$L$18:$L$234,\"Подрядчик\",$D$18:$D$234,D10)","v":3846822.2199999997},{"$f":"SUMIFS($AZ$18:$AZ$234,$L$18:$L$234,\"Подрядчик (от Заказчика)\",$D$18:$D$234,D10)","v":103605.82},{"$f":"SUMIFS($AZ$18:$AZ$234,$L$18:$L$234,\"Подрядчик\",$D$18:$D$234,D10,$AD$18:$AD$234,\"Ц\")","v":3658761.01}]
[null,"Итого:",null,null,null,null,null,null,null,null,{"$f":"SUM(K9:K10)","v":26896322.419999994},{"$f":"ROUND('РВ по лоту'!K380+'РВ по лоту'!K382+'РВ по лоту'!K390, 2)","v":26896322.420000002},{"$f":"SUM(M9:M10)","v":12181856.369999997},{"$f":"ROUND('РВ по лоту'!M271+'РВ по лоту'!M296+'РВ по лоту'!M323+'РВ по лоту'!M298, 2)","v":0},{"$f":"SUM(O9:O10)","v":11214162.140000001},{"$f":"T11/R11","v":0.94040844003013224},{"$f":"SUM(Q9:Q10)","v":967694.23},{"$f":"SUM(R9:R10)","v":11924778.279999997},{"$f":"SUM(S9:S10)","v":257078.09000000003},{"$f":"SUM(T9:T10)","v":11214162.140000001}]
[]
[null,"№ п/п","Тех. номер объекта","Наименование объекта","№ ЛСР","Шифр ресурсов | Код ФСНБ1","Наименование материалов | Наименование материала/оборудования","Ед. изм.","Количество","Цена за ед. | Сметная цена за ед.изм. в руб., \nбез НДС в базовом уровне цен","Сумма, руб.","Поставщик | Заказчик/Подрядчик","Цена за единицу заказчика, руб.","Сумма заказчика, руб.","Вид МТР | Материалы / Оборудование / Металлоконструкции","Примечание","Наименование МТР входящих в состав комплектной поставки2","Класс груза","Масса, тн",null,"Цена определена на основании (с указанием номера и даты обосновывающего документа) 3:",null,null,null,"Наименование поставщика и его месторасположение","Наименование изготовителя \nи его месторасположение","Расчет отпускной цены",null,"Отпускная цена за ед.изм. в руб., \nбез НДС в текущем уровне цен","Ценообразующие | Вспомогательные","Дата установления цены","Базис поставки \n(в соответствии с Инкотермс-2010)","Наименование ст. отправления","Транспортные расходы, \nна ед. изм., руб. без НДС",null,null,null,null,"Страхование,  \nна ед. изм., в руб., без НДС","Тара, упаковка, реквизит4, \nна ед. изм., в руб., без НДС","Снабженческо-сбытовая надбавка 5, \nна ед. изм., в руб., без НДС ","Таможенные расходы, \nна ед. изм., в руб., без НДС","Комиссионные и агентские вознаграждения, на ед. изм., в руб., без НДС","Дополнительные расходы \nсвязанные с поставкой оборудования",null,null,null,null,"Заготовительно-складские расходы, \nна ед. изм., в руб., без НДС8","%","ИТОГО , \nза ед. изм., в руб., без НДС \nв текущем уровне цен","ВСЕГО, \nв руб., без НДС","Справочно ВСЕГО по материалу, \nв руб., без НДС","Справочно ВСЕГО % по материалу ","№ страницы\n обосновывающего документа","Индикатор отношения текущей цены \nк уровню цен базового периода","Справочно: по данным \nРегионального ЦЦС9",null,"Примечание УЦП"]
[null,null,null,null,null,null,null,null,null,null,null,null,null,null,null,null,null,null,"масса за ед.изм (тн)","брутто","Аналог","Сметная цена на перевозку 1 тн груза в базисном уровне цен","Тендерная документация","Прайс-лист, коммерческое предложение, счет-фактура",null,null,"Индекс перехода стоимости  \nМТР в текущий уровень цен  ","Отпускная цена ",null,null,null,null,null,"ж/д","авто","%","авиа","Водный транспорт",null,null,null,null,null,"Комплектация оборудования, \n в руб.,  на ед. изм., без НДС6","Комплект запасных частей оборудования, \nна ед. изм., в руб., без НДС6","Шеф монтаж, \nна ед. изм., в руб.,  без НДС","Продление гарантии,  \nна ед. изм., в руб., без НДС","Прочие расходы, \nна ед. изм., в руб.,  без НДС7",null,null,null,null,null,null,null,null,"Сметная цена за ед.изм. в руб., без НДС в уровне цен на дату разработки ССР","Сметная цена за ед.изм. в руб., без НДС в уровне цен на дату заполнения опросного листа"]
[null,"Подрядчик",null,null,null,null,null,null,{"$f":"SUMIFS($I$18:$I$234,$L$18:$L$234,\"Подрядчик*\")","v":6204.3985411000049},null,{"$f":"SUMIFS($K$18:$K$234,$L$18:$L$234,\"Подрядчик*\")","v":3195372.1799999978},null,null,{"$f":"SUMIFS($N$18:$N$234,$L$18:$L$234,\"Подрядчик*\")","v":0},null,null,null,null,null,null,null,null,null,null,null,null,null,null,null,null,null,null,null,null,null,null,null,null,null,null,null,null,null,null,null,null,null,null,null,null,null,{"$f":"SUMIFS($AZ$18:$AZ$234,$L$18:$L$234,\"Подрядчик*\")","v":12181856.370000003}]
[null,"Заказчик",null,null,null,null,null,null,{"$f":"SUMIFS($I$18:$I$234,$L$18:$L$234,\"Заказчик*\")","v":6464.1602440000006},null,{"$f":"SUMIFS($K$18:$K$234,$L$18:$L$234,\"Заказчик*\")","v":4108724.45},null,null,{"$f":"SUMIFS($N$18:$N$234,$L$18:$L$234,\"Заказчик*\")","v":26896322.419999994},null,null,null,null,null,null,null,null,null,null,null,null,null,null,null,null,null,null,null,null,null,null,null,null,null,null,null,null,null,null,null,null,null,null,null,null,null,{"$f":"SUMIFS($AZ$18:$AZ$234,$L$18:$L$234,\"Заказчик*\")","v":0}]
[null,"C10","C66","C67","C11","C12","C13","C14","C15","C16","C17","C18","C62","C63","C19","C64","C20","C21","C22","C23","C24","C25","C26","C27","C28","C29","C30","C31","C32","C65","C33","C34","C35","C36","C38","C39","C40","C42","C44","C45","C46","C47","C48","C49","C50","C51","C52","C53","C54","C55","C56","C57","C68","C69","C58","C59","C60","C61","C70"]
[null,1,"5D57A968-2E2D-47A8-B7F4-6C635AF194C3","ВЛ 6 кВ на куст 3129.1 (габ.110 кВ) Приразломное м/р. Правдинский (КС00091309)","ЛС 08-04-01-02","408-0015","Щебень из природного камня для строительных работ марка 800, фракция 20-40 мм","м3",1.3191044000000001,184.43,{"$f":"ROUND(I18*J18,2)","v":243.28},"Заказчик (ЦАУК)",2042.18,{"$f":"ROUND(I18*M18,2)","v":2693.85},"Материалы",null,"-","-","-","-","-","-","-","-","-","-","-","-","-","-","-","-","-","-","-","-","-","-","-","-","-","-","-","-","-","-","-","-","-","-","-","-","-","-","-","-","-","-","-"]
[null,2,"5D57A968-2E2D-47A8-B7F4-6C635AF194C3","ВЛ 6 кВ на куст 3129.1 (габ.110 кВ) Приразломное м/р. Правдинский (КС00091309)","ЛС 08-04-01-03","408-0015","Щебень из природного камня для строительных работ марка 800, фракция 20-40 мм","м3",0.79100000000000004,184.43,145.88,"Заказчик (ЦАУК)",2042.18,1615.36,"Материалы",null,"-","-","-","-","-","-","-","-","-","-","-","-","-","-","-","-","-","-","-","-","-","-","-","-","-","-","-","-","-","-","-","-","-","-","-","-","-","-","-","-","-","-","-"]
[null,3,"5D57A968-2E2D-47A8-B7F4-6C635AF194C3","ВЛ 6 кВ на куст 3129.1 (габ.110 кВ) Приразломное м/р. Правдинский (КС00091309)","ЛС 08-04-01-04","408-0015","Щебень из природного камня для строительных работ марка 800, фракция 20-40 мм","м3",0.46131750000000005,184.43,85.08,"Заказчик (ЦАУК)",2042.18,942.09,"Материалы",null,"-","-","-","-","-","-","-","-","-","-","-","-","-","-","-","-","-","-","-","-","-","-","-","-","-","-","-","-","-","-","-","-","-","-","-","-","-","-","-","-","-","-","-"]
[null,4,"AEEAB128-A9D6-4DE1-ACE9-6CD791FCF82A","ВЛ 6 кВ на куст 3129.2 (габ. 6 кВ) Приразломное м/р. Правдинский (КС00091313)","ЛС 08-04-02-01","408-0015","Щебень из природного камня для строительных работ марка 800, фракция 20-40 мм","м3",0.73107840000000002,184.43,134.83000000000001,"Заказчик (ЦАУК)",2042.18,1492.99,"Материалы",null,"-","-","-","-","-","-","-","-","-","-","-","-","-","-","-","-","-","-","-","-","-","-","-","-","-","-","-","-","-","-","-","-","-","-","-","-","-","-","-","-","-","-","-"]
[null,5,"5D57A968-2E2D-47A8-B7F4-6C635AF194C3","ВЛ 6 кВ на куст 3129.1 (габ.110 кВ) Приразломное м/р. Правдинский (КС00091309)","ЛС 04-01-01","103-0205","Трубы стальные электросварные прямошовные со снятой фаской из стали марок БСт2кп-БСт4кп и БСт2пс-БСт4пс наружный диаметр 325 мм, толщина стенки 9 мм","т",157.55099999999999,549.19000000000005,86525.43,"Заказчик (ЦАУК)",55636.12,8765526.3399999999,"Материалы",null,"-","-","-","-","-","-","-","-","-","-","-","-","-","-","-","-","-","-","-","-","-","-","-","-","-","-","-","-","-","-","-","-","-","-","-","-","-","-","-","-","-","-","-"]
[null,6,"5D57A968-2E2D-47A8-B7F4-6C635AF194C3","ВЛ 6 кВ на куст 3129.1 (габ.110 кВ) Приразломное м/р. Правдинский (КС00091309)","ЛС 04-01-02","103-0192","Трубы стальные электросварные прямошовные со снятой фаской из стали марок БСт2кп-БСт4кп и БСт2пс-БСт4пс наружный диаметр 219 мм, толщина стенки 8 мм","т",1.1339999999999999,344.3,390.44,"Заказчик (ОГ)",45325.45,51399.06,"Материалы",null,"-","-","-","-","-","-","-","-","-","-","-","-","-","-","-","-","-","-","-","-","-","-","-","-","-","-","-","-","-","-","-","-","-","-","-","-","-","-","-","-","-","-","-"]
[null,7,"5D57A968-2E2D-47A8-B7F4-6C635AF194C3","ВЛ 6 кВ на куст 3129.1 (габ.110 кВ) Приразломное м/р. Правдинский (КС00091309)","ЛС 04-01-01","103-0521","Трубы бесшовные обсадные из стали группы Д и Б с короткой треугольной резьбой наружный диаметр 168 мм толщина стенки 8.9 мм. Сваи","т",21.6,424.53,9169.85,"Заказчик (РОС)",51341.7,1108980.72,"Материалы",null,"-","-","-","-","-","-","-","-","-","-","-","-","-","-","-","-","-","-","-","-","-","-","-","-","-","-","-","-","-","-","-","-","-","-","-","-","-","-","-","-","-","-","-"]
[null,8,"AEEAB128-A9D6-4DE1-ACE9-6CD791FCF82A","ВЛ 6 кВ на куст 3129.2 (габ. 6 кВ) Приразломное м/р. Правдинский (КС00091313)","ЛС 04-02-01","103-0521","Трубы бесшовные обсадные из стали группы Д и Б с короткой треугольной резьбой наружный диаметр 168 мм толщина стенки 8.9 мм. Сваи","т",51.183,424.53,21728.720000000001,"Заказчик (РОС)",51341.7,2627822.23,"Материалы",null,"-","-","-","-","-","-","-","-","-","-","-","-","-","-","-","-","-","-","-","-","-","-","-","-","-","-","-","-","-","-","-","-","-","-","-","-","-","-","-","-","-","-","-"]
[null,9,"5D57A968-2E2D-47A8-B7F4-6C635AF194C3","ВЛ 6 кВ на куст 3129.1 (габ.110 кВ) Приразломное м/р. Правдинский (КС00091309)","ЛС 04-01-01","403-8315","Сваи железобетонные безростверковые из бетона В20 (М250) с расходом арматуры 50 кг на м3 бетона (в плотном теле). Сваи С35.12-1 (80 шт.), F200","м3",117.16,2739.08,320910.61,"Заказчик (ОГ)",23333.98,2733809.1,"Материалы",null,"-","-","-","-","-","-","-","-","-","-","-","-","-","-","-","-","-","-","-","-","-","-","-","-","-","-","-","-","-","-","-","-","-","-","-","-","-","-","-","-","-","-","-"]
[null,10,"AEEAB128-A9D6-4DE1-ACE9-6CD791FCF82A","ВЛ 6 кВ на куст 3129.2 (габ. 6 кВ) Приразломное м/р. Правдинский (КС00091313)","ЛС 04-02-01","403-8315","Сваи железобетонные безростверковые из бетона В20 (М250) с расходом арматуры 50 кг на м3 бетона (в плотном теле). Сваи С35.12-1 (4 шт.), F200","м3",5.8579999999999997,2739.08,16045.53,"Заказчик (ОГ)",23333.98,136690.45000000001,"Материалы",null,"-","-","-","-","-","-","-","-","-","-","-","-","-","-","-","-","-","-","-","-","-","-","-","-","-","-","-","-","-","-","-","-","-","-","-","-","-","-","-","-","-","-","-"]
[null,11,"5D57A968-2E2D-47A8-B7F4-6C635AF194C3","ВЛ 6 кВ на куст 3129.1 (габ.110 кВ) Приразломное м/р. Правдинский (КС00091309)","ЛС 04-01-01","110-0178","Ростверк Ф4.35-2-20/16","шт.",20,10210.219999999999,204204.4,"Заказчик (ОГ)",32860,657200,"Материалы",null,"-","-","-","-","-","-","-","-","-","-","-","-","-","-","-","-","-","-","-","-","-","-","-","-","-","-","-","-","-","-","-","-","-","-","-","-","-","-","-","-","-","-","-"]
[null,12,"5D57A968-2E2D-47A8-B7F4-6C635AF194C3","ВЛ 6 кВ на куст 3129.1 (габ.110 кВ) Приразломное м/р. Правдинский (КС00091309)","ЛС 04-01-01","110-0178","Ростверк Ф2.35-2-20","шт.",8,10210.219999999999,81681.759999999995,"Заказчик (ОГ)",13250.57,106004.56,"Материалы",null,"-","-","-","-","-","-","-","-","-","-","-","-","-","-","-","-","-","-","-","-","-","-","-","-","-","-","-","-","-","-","-","-","-","-","-","-","-","-","-","-","-","-","-"]
[null,13,"AEEAB128-A9D6-4DE1-ACE9-6CD791FCF82A","ВЛ 6 кВ на куст 3129.2 (габ. 6 кВ) Приразломное м/р. Правдинский (КС00091313)","ЛС 04-02-01","110-0178","Ростверк ТС-23С","шт.",2,10210.219999999999,20420.439999999999,"Заказчик (ОГ)",20976.27,41952.54,"Материалы",null,"-","-","-","-","-","-","-","-","-","-","-","-","-","-","-","-","-","-","-","-","-","-","-","-","-","-","-","-","-","-","-","-","-","-","-","-","-","-","-","-","-","-","-"]
[null,14,"5D57A968-2E2D-47A8-B7F4-6C635AF194C3","ВЛ 6 кВ на куст 3129.1 (габ.110 кВ) Приразломное м/р. Правдинский (КС00091309)","ЛС 04-01-01","110-0178","Ростверк Р6-24/20/20-4","шт.",20,10210.219999999999,204204.4,"Заказчик (ОГ)",89048,1780960,"Материалы",null,"-","-","-","-","-","-","-","-","-","-","-","-","-","-","-","-","-","-","-","-","-","-","-","-","-","-","-","-","-","-","-","-","-","-","-","-","-","-","-","-","-","-","-"]
[null,15,"5D57A968-2E2D-47A8-B7F4-6C635AF194C3","ВЛ 6 кВ на куст 3129.1 (габ.110 кВ) Приразломное м/р. Правдинский (КС00091309)","ЛС 04-01-01","502-0322","Провода неизолированные для воздушных линий электропередачи из стальных оцинкованных проволок 1 группы и алюминиевых проволок марки АС, сечением 120/19 мм2","т",5.6063999999999998,106046.28,594537.86,"Заказчик (РОС)",150620,844435.97,"Материалы",null,"-","-","-","-","-","-","-","-","-","-","-","-","-","-","-","-","-","-","-","-","-","-","-","-","-","-","-","-","-","-","-","-","-","-","-","-","-","-","-","-","-","-","-"]
[null,16,"AEEAB128-A9D6-4DE1-ACE9-6CD791FCF82A","ВЛ 6 кВ на куст 3129.2 (габ. 6 кВ) Приразломное м/р. Правдинский (КС00091313)","ЛС 04-02-01","502-0269","Провода неизолированные для воздушных линий электропередачи алюминиевые марки А, сечением 95 мм2","т",0.82301360000000001,121408.59,99920.92,"Заказчик (ОГ)",177130,145780.4,"Материалы",null,"-","-","-","-","-","-","-","-","-","-","-","-","-","-","-","-","-","-","-","-","-","-","-","-","-","-","-","-","-","-","-","-","-","-","-","-","-","-","-","-","-","-","-"]
[null,17,"5D57A968-2E2D-47A8-B7F4-6C635AF194C3","ВЛ 6 кВ на куст 3129.1 (габ.110 кВ) Приразломное м/р. Правдинский (КС00091309)","ЛС 04-01-01","502-0271","Провода неизолированные для воздушных линий электропередачи алюминиевые марки А, сечением 120 мм2","т",0.1205301,126562.68,15254.61,"Заказчик (ОГ)",231680,27924.41,"Материалы",null,"-","-","-","-","-","-","-","-","-","-","-","-","-","-","-","-","-","-","-","-","-","-","-","-","-","-","-","-","-","-","-","-","-","-","-","-","-","-","-","-","-","-","-"]
[null,18,"5D57A968-2E2D-47A8-B7F4-6C635AF194C3","ВЛ 6 кВ на куст 3129.1 (габ.110 кВ) Приразломное м/р. Правдинский (КС00091309)","ЛС 08-04-01-02","Данные заказчика","Привозной грунт (песок)","м3",2274.3180000000002,74.569999999999993,169595.89,"Заказчик (РОС)",126,286564.07,"Материалы",null,"-","-","-","-","-","-","-","-","-","-","-","-","-","-","-","-","-","-","-","-","-","-","-","-","-","-","-","-","-","-","-","-","-","-","-","-","-","-","-","-","-","-","-"]
[null,19,"5D57A968-2E2D-47A8-B7F4-6C635AF194C3","ВЛ 6 кВ на куст 3129.1 (габ.110 кВ) Приразломное м/р. Правдинский (КС00091309)","ЛС 08-04-01-03","Данные заказчика","Привозной грунт (песок)","м3",1363.5,74.569999999999993,101676.2,"Заказчик (РОС)",126,171801,"Материалы",null,"-","-","-","-","-","-","-","-","-","-","-","-","-","-","-","-","-","-","-","-","-","-","-","-","-","-","-","-","-","-","-","-","-","-","-","-","-","-","-","-","-","-","-"]
[null,20,"5D57A968-2E2D-47A8-B7F4-6C635AF194C3","ВЛ 6 кВ на куст 3129.1 (габ.110 кВ) Приразломное м/р. Правдинский (КС00091309)","ЛС 08-04-01-04","Данные заказчика","Привозной грунт (песок)","м3",795.375,74.569999999999993,59311.11,"Заказчик (РОС)",126,100217.25,"Материалы",null,"-","-","-","-","-","-","-","-","-","-","-","-","-","-","-","-","-","-","-","-","-","-","-","-","-","-","-","-","-","-","-","-","-","-","-","-","-","-","-","-","-","-","-"]
[null,21,"AEEAB128-A9D6-4DE1-ACE9-6CD791FCF82A","ВЛ 6 кВ на куст 3129.2 (габ. 6 кВ) Приразломное м/р. Правдинский (КС00091313)","ЛС 04-02-01","Данные заказчика","Привозной грунт (песок)","м3",20.5,74.569999999999993,1528.69,"Заказчик (РОС)",126,2583,"Материалы",null,"-","-","-","-","-","-","-","-","-","-","-","-","-","-","-","-","-","-","-","-","-","-","-","-","-","-","-","-","-","-","-","-","-","-","-","-","-","-","-","-","-","-","-"]
[null,22,"AEEAB128-A9D6-4DE1-ACE9-6CD791FCF82A","ВЛ 6 кВ на куст 3129.2 (габ. 6 кВ) Приразломное м/р. Правдинский (КС00091313)","ЛС 08-04-02-01","Данные заказчика","Привозной грунт (песок)","м3",1260.48,74.569999999999993,93993.99,"Заказчик (РОС)",126,158820.48000000001,"Материалы",null,"-","-","-","-","-","-","-","-","-","-","-","-","-","-","-","-","-","-","-","-","-","-","-","-","-","-","-","-","-","-","-","-","-","-","-","-","-","-","-","-","-","-","-"]
[null,23,"AEEAB128-A9D6-4DE1-ACE9-6CD791FCF82A","ВЛ 6 кВ на куст 3129.2 (габ. 6 кВ) Приразломное м/р. Правдинский (КС00091313)","ЛС 04-02-01","201-0917","Портал ПС35-Я3Са","шт.",1,31584.29,31584.29,"Заказчик (ОГ)",129349.08,129349.08,"Материалы",null,"-","-","-","-","-","-","-","-","-","-","-","-","-","-","-","-","-","-","-","-","-","-","-","-","-","-","-","-","-","-","-","-","-","-","-","-","-","-","-","-","-","-","-"]
[null,24,"5D57A968-2E2D-47A8-B7F4-6C635AF194C3","ВЛ 6 кВ на куст 3129.1 (габ.110 кВ) Приразломное м/р. Правдинский (КС00091309)","ЛС 04-01-01","408-0122","Песок природный для строительных работ средний","м3",155.6,74.569999999999993,11603.09,"Заказчик (РОС)",126,19605.599999999999,"Материалы",null,"-","-","-","-","-","-","-","-","-","-","-","-","-","-","-","-","-","-","-","-","-","-","-","-","-","-","-","-","-","-","-","-","-","-","-","-","-","-","-","-","-","-","-"]
[null,25,"5D57A968-2E2D-47A8-B7F4-6C635AF194C3","ВЛ 6 кВ на куст 3129.1 (габ.110 кВ) Приразломное м/р. Правдинский (КС00091309)","ЛС 04-01-02","408-0122","Песок природный для строительных работ средний","м3",0.6,74.569999999999993,44.74,"Заказчик (РОС)",126,75.599999999999994,"Материалы",null,"-","-","-","-","-","-","-","-","-","-","-","-","-","-","-","-","-","-","-","-","-","-","-","-","-","-","-","-","-","-","-","-","-","-","-","-","-","-","-","-","-","-","-"]
[null,26,"5D57A968-2E2D-47A8-B7F4-6C635AF194C3","ВЛ 6 кВ на куст 3129.1 (габ.110 кВ) Приразломное м/р. Правдинский (КС00091309)","ЛС 04-01-01","201-0917","Опора У110-4+5","шт.",1,31584.29,31584.29,"Заказчик (ЦАУК)",586222.64,586222.64,"Материалы",null,"-","-","-","-","-","-","-","-","-","-","-","-","-","-","-","-","-","-","-","-","-","-","-","-","-","-","-","-","-","-","-","-","-","-","-","-","-","-","-","-","-","-","-"]
[null,27,"5D57A968-2E2D-47A8-B7F4-6C635AF194C3","ВЛ 6 кВ на куст 3129.1 (габ.110 кВ) Приразломное м/р. Правдинский (КС00091309)","ЛС 04-01-01","201-0917","Опора У110-2+5","шт.",4,31584.29,126337.16,"Заказчик (ЦАУК)",733579,2934316,"Материалы",null,"-","-","-","-","-","-","-","-","-","-","-","-","-","-","-","-","-","-","-","-","-","-","-","-","-","-","-","-","-","-","-","-","-","-","-","-","-","-","-","-","-","-","-"]
[null,28,"5D57A968-2E2D-47A8-B7F4-6C635AF194C3","ВЛ 6 кВ на куст 3129.1 (габ.110 кВ) Приразломное м/р. Правдинский (КС00091309)","ЛС 04-01-01","201-0917","Опора П110-4В","шт.",7,31584.29,221090.03,"Заказчик (ЦАУК)",257173.06,1800211.42,"Материалы",null,"-","-","-","-","-","-","-","-","-","-","-","-","-","-","-","-","-","-","-","-","-","-","-","-","-","-","-","-","-","-","-","-","-","-","-","-","-","-","-","-","-","-","-"]
[null,29,"5D57A968-2E2D-47A8-B7F4-6C635AF194C3","ВЛ 6 кВ на куст 3129.1 (габ.110 кВ) Приразломное м/р. Правдинский (КС00091309)","ЛС 04-01-01","110-0178","Оголовок 2.1","шт.",136,10210.219999999999,1388589.92,"Заказчик (ОГ)",7810.2,1062187.2,"Материалы",null,"-","-","-","-","-","-","-","-","-","-","-","-","-","-","-","-","-","-","-","-","-","-","-","-","-","-","-","-","-","-","-","-","-","-","-","-","-","-","-","-","-","-","-"]
[null,30,"AEEAB128-A9D6-4DE1-ACE9-6CD791FCF82A","ВЛ 6 кВ на куст 3129.2 (габ. 6 кВ) Приразломное м/р. Правдинский (КС00091313)","ЛС 04-02-01","110-0178","Наголовник М42","шт.",4,10210.219999999999,40840.879999999997,"Заказчик (ОГ)",3163.05,12652.2,"Материалы",null,"-","-","-","-","-","-","-","-","-","-","-","-","-","-","-","-","-","-","-","-","-","-","-","-","-","-","-","-","-","-","-","-","-","-","-","-","-","-","-","-","-","-","-"]
[null,31,"5D57A968-2E2D-47A8-B7F4-6C635AF194C3","ВЛ 6 кВ на куст 3129.1 (габ.110 кВ) Приразломное м/р. Правдинский (КС00091309)","ЛС 04-01-02","Прайс-лист","Кабель 6 кВ с изоляцией из сшитого полиэтилена ПвВнг-ХЛ 1х120/35 , цена 663500:4,29.1,13","1000 м",0.44879999999999998,174768.07,78435.91,"Заказчик (РОС)",752540,337739.95,"Материалы",null,"-","-","-","-","-","-","-","-","-","-","-","-","-","-","-","-","-","-","-","-","-","-","-","-","-","-","-","-","-","-","-","-","-","-","-","-","-","-","-","-","-","-","-"]
[null,32,"5D57A968-2E2D-47A8-B7F4-6C635AF194C3","ВЛ 6 кВ на куст 3129.1 (габ.110 кВ) Приразломное м/р. Правдинский (КС00091309)","ЛС 04-01-01","Цена завода","Разъединитель трехполюсный РЛК.1а-10.IV/400 УХЛ1 с приводом ПР-01-7УХЛ1, цена 31900:4,4:1,18","комплект",4,6950.76,27803.040000000001,"Заказчик (РОС)",29799.35,119197.4,"Оборудование",null,"-","-","-","-","-","-","-","-","-","-","-","-","-","-","-","-","-","-","-","-","-","-","-","-","-","-","-","-","-","-","-","-","-","-","-","-","-","-","-","-","-","-","-"]
[null,33,"AEEAB128-A9D6-4DE1-ACE9-6CD791FCF82A","ВЛ 6 кВ на куст 3129.2 (габ. 6 кВ) Приразломное м/р. Правдинский (КС00091313)","ЛС 04-02-01","Цена завода","Разъединитель трехполюсный РЛК.1а-10.IV/400 УХЛ1 с приводом ПР-01-7УХЛ1, цена 31900:4,4:1,18","комплект",4,6950.76,27803.040000000001,"Заказчик (РОС)",29799.35,119197.4,"Оборудование",null,"-","-","-","-","-","-","-","-","-","-","-","-","-","-","-","-","-","-","-","-","-","-","-","-","-","-","-","-","-","-","-","-","-","-","-","-","-","-","-","-","-","-","-"]
[null,34,"5D57A968-2E2D-47A8-B7F4-6C635AF194C3","ВЛ 6 кВ на куст 3129.1 (габ.110 кВ) Приразломное м/р. Правдинский (КС00091309)","ЛС 04-01-01","Цена завода","Ограничитель перенапряжений МОПН-П-6/7,2/10/400 УХЛ1, цена 4602:4,4","шт.",12,1183.23,14198.76,"Заказчик (ЕОС ИТ)",1130.67,13568.04,"Оборудование",null,"-","-","-","-","-","-","-","-","-","-","-","-","-","-","-","-","-","-","-","-","-","-","-","-","-","-","-","-","-","-","-","-","-","-","-","-","-","-","-","-","-","-","-"]
[null,35,"AEEAB128-A9D6-4DE1-ACE9-6CD791FCF82A","ВЛ 6 кВ на куст 3129.2 (габ. 6 кВ) Приразломное м/р. Правдинский (КС00091313)","ЛС 04-02-01","Цена завода","Ограничитель перенапряжений МОПН-П-6/7,2/10/400 УХЛ1, цена 4602:4,4","шт.",6,1183.23,7099.38,"Заказчик (ЕОС ИТ)",1130.67,6784.02,"Оборудование",null,"-","-","-","-","-","-","-","-","-","-","-","-","-","-","-","-","-","-","-","-","-","-","-","-","-","-","-","-","-","-","-","-","-","-","-","-","-","-","-","-","-","-","-"]
[null,36,"5D57A968-2E2D-47A8-B7F4-6C635AF194C3","ВЛ 6 кВ на куст 3129.1 (габ.110 кВ) Приразломное м/р. Правдинский (КС00091309)","ЛС 08-04-01-02","102-0008","Лесоматериалы круглые хвойных пород для строительства диаметром 14-24 см, длиной 3-6,5 м","м3",1281.9166154,699.42,896598.12,"Подрядчик","-","-","Материалы",null,"-",null,null,"-","-",null,"-","-",null,"-",null,2350,{"$f":"IF(AA53<>\"\",IF(AB53<>\"\",\"Ошибка\",ROUND(J53*AA53,2)),ROUND(AB53,2))","v":2350},"Ц","-","-","-",null,{"$f":"IF(AND(S53=\"\",V53=\"\"),ROUND((AC53+AW53)*AJ53,2),ROUND(S53*V53*НМЦ!$K$212,2))","v":0},null,null,null,"-","-","-","-","-","-","-","-","-","-",{"$f":"IF(AND(S53=\"\",V53=\"\"),ROUND(AC53*AX53,2),ROUND((AC53+AH53+AI53+AK53+AL53)*AX53,2))","v":0},null,{"$f":"ROUND(AC53+AH53+AI53+AK53+AL53+AW53,2)","v":2350},{"$f":"ROUND(I53*AY53,2)","v":3012504.05},5308151.4400000004,0.52964193890790279,"-","-","-","-"]
[null,37,"AEEAB128-A9D6-4DE1-ACE9-6CD791FCF82A","ВЛ 6 кВ на куст 3129.2 (габ. 6 кВ) Приразломное м/р. Правдинский (КС00091313)","ЛС 08-04-02-01","102-0008","Лесоматериалы круглые хвойных пород для строительства диаметром 14-24 см, длиной 3-6,5 м","м3",699.67384619999996,699.42,489365.88,"Подрядчик","-","-","Материалы",null,"-",null,null,"-","-",null,"-","-",null,"-",null,2350,2350,"Ц","-","-","-",null,{"$f":"IF(AND(S54=\"\",V54=\"\"),ROUND((AC54+AW54)*AJ54,2),ROUND(S54*V54*НМЦ!$K$212,2))","v":0},null,null,null,"-","-","-","-","-","-","-","-","-","-",0,null,2350,1644233.54,5308151.4400000004,0.52964193890790279,"-","-","-","-"]
[null,38,"5D57A968-2E2D-47A8-B7F4-6C635AF194C3","ВЛ 6 кВ на куст 3129.1 (габ.110 кВ) Приразломное м/р. Правдинский (КС00091309)","ЛС 08-04-01-03","102-0008","Лесоматериалы круглые хвойных пород для строительства диаметром 14-24 см, длиной 3-6,5 м","м3",976.5,699.42,682983.63,"Подрядчик","-","-","Материалы",null,"-",null,null,"-","-",null,"-","-",null,"-",null,2350,2350,"Ц","-","-","-",null,{"$f":"IF(AND(S55=\"\",V55=\"\"),ROUND((AC55+AW55)*AJ55,2),ROUND(S55*V55*НМЦ!$K$212,2))","v":0},null,null,null,"-","-","-","-","-","-","-","-","-","-",0,null,2350,2294775,5308151.4400000004,0.52964193890790279,"-","-","-","-"]
[null,39,"5D57A968-2E2D-47A8-B7F4-6C635AF194C3","ВЛ 6 кВ на куст 3129.1 (габ.110 кВ) Приразломное м/р. Правдинский (КС00091309)","ЛС 08-04-01-04","102-0008","Лесоматериалы круглые хвойных пород для строительства диаметром 14-24 см, длиной 3-6,5 м","м3",569.625,699.42,398407.12,"Подрядчик","-","-","Материалы",null,"-",null,null,"-","-",null,"-","-",null,"-",null,2350,2350,"Ц","-","-","-",null,{"$f":"IF(AND(S56=\"\",V56=\"\"),ROUND((AC56+AW56)*AJ56,2),ROUND(S56*V56*НМЦ!$K$212,2))","v":0},null,null,null,"-","-","-","-","-","-","-","-","-","-",0,null,2350,1338618.75,5308151.4400000004,0.52964193890790279,"-","-","-","-"]
[null,40,"5D57A968-2E2D-47A8-B7F4-6C635AF194C3","ВЛ 6 кВ на куст 3129.1 (габ.110 кВ) Приразломное м/р. Правдинский (КС00091309)","ЛС 04-01-01","102-0008","Лесоматериалы круглые хвойных пород для строительства диаметром 14-24 см, длиной 3-6,5 м","м3",0.37580000000000002,699.42,262.83999999999997,"Подрядчик","-","-","Материалы",null,"-",null,null,"-","-",null,"-","-",null,"-",null,2350,2350,"Ц","-","-","-",null,{"$f":"IF(AND(S57=\"\",V57=\"\"),ROUND((AC57+AW57)*AJ57,2),ROUND(S57*V57*НМЦ!$K$212,2))","v":0},null,null,null,"-","-","-","-","-","-","-","-","-","-",0,null,2350,883.13,5308151.4400000004,0.52964193890790279,"-","-","-","-"]
[null,41,"AEEAB128-A9D6-4DE1-ACE9-6CD791FCF82A","ВЛ 6 кВ на куст 3129.2 (габ. 6 кВ) Приразломное м/р. Правдинский (КС00091313)","ЛС 04-02-01","102-0008","Лесоматериалы круглые хвойных пород для строительства диаметром 14-24 см, длиной 3-6,5 м","м3",0.14208599999999999,699.42,99.38,"Подрядчик","-","-","Материалы",null,"-",null,null,"-","-",null,"-","-",null,"-",null,2350,2350,"Ц","-","-","-",null,{"$f":"IF(AND(S58=\"\",V58=\"\"),ROUND((AC58+AW58)*AJ58,2),ROUND(S58*V58*НМЦ!$K$212,2))","v":0},null,null,null,"-","-","-","-","-","-","-","-","-","-",0,null,2350,333.9,5308151.4400000004,0.52964193890790279,"-","-","-","-"]
[null,42,"5D57A968-2E2D-47A8-B7F4-6C635AF194C3","ВЛ 6 кВ на куст 3129.1 (габ.110 кВ) Приразломное м/р. Правдинский (КС00091309)","ЛС 04-01-02","102-0008","Лесоматериалы круглые хвойных пород для строительства диаметром 14-24 см, длиной 3-6,5 м","м3",4.496E-3,699.42,3.14,"Подрядчик","-","-","Материалы",null,"-",null,null,"-","-",null,"-","-",null,"-",null,2350,2350,"Ц","-","-","-",null,{"$f":"IF(AND(S59=\"\",V59=\"\"),ROUND((AC59+AW59)*AJ59,2),ROUND(S59*V59*НМЦ!$K$212,2))","v":0},null,null,null,"-","-","-","-","-","-","-","-","-","-",0,null,2350,10.57,5308151.4400000004,0.52964193890790279,"-","-","-","-"]
[null,43,"5D57A968-2E2D-47A8-B7F4-6C635AF194C3","ВЛ 6 кВ на куст 3129.1 (габ.110 кВ) Приразломное м/р. Правдинский (КС00091309)","ЛС 04-01-01","113-0240","Эмаль ХС-759 белая","т",1.7733840000000001,36209.300000000003,64212.99,"Подрядчик","-","-","Материалы",null,"-",null,null,"-","-",null,"-","-",null,"-",null,126714.8,126714.8,"В","-","-","-",null,{"$f":"IF(AND(S60=\"\",V60=\"\"),ROUND((AC60+AW60)*AJ60,2),ROUND(S60*V60*НМЦ!$K$212,2))","v":8517.52},6.59E-2,null,null,"-","-","-","-","-","-","-","-","-","-",2534.3000000000002,0.02,137766.62,244313.12,308569.12999999995,3.0788713198492444E-2,"-","-","-","-"]
[null,44,"AEEAB128-A9D6-4DE1-ACE9-6CD791FCF82A","ВЛ 6 кВ на куст 3129.2 (габ. 6 кВ) Приразломное м/р. Правдинский (КС00091313)","ЛС 04-02-01","113-0240","Эмаль ХС-759 белая","т",0.45227600000000001,36209.300000000003,16376.6,"Подрядчик","-","-","Материалы",null,"-",null,null,"-","-",null,"-","-",null,"-",null,126714.8,126714.8,"В","-","-","-",null,{"$f":"IF(AND(S61=\"\",V61=\"\"),ROUND((AC61+AW61)*AJ61,2),ROUND(S61*V61*НМЦ!$K$212,2))","v":8517.52},6.59E-2,null,null,"-","-","-","-","-","-","-","-","-","-",2534.3000000000002,0.02,137766.62,62308.54,308569.12999999995,3.0788713198492444E-2,"-","-","-","-"]
[null,45,"5D57A968-2E2D-47A8-B7F4-6C635AF194C3","ВЛ 6 кВ на куст 3129.1 (габ.110 кВ) Приразломное м/р. Правдинский (КС00091309)","ЛС 04-01-02","113-0240","Эмаль ХС-759 белая","т",1.4135999999999999E-2,36209.300000000003,511.85,"Подрядчик","-","-","Материалы",null,"-",null,null,"-","-",null,"-","-",null,"-",null,126714.8,126714.8,"В","-","-","-",null,{"$f":"IF(AND(S62=\"\",V62=\"\"),ROUND((AC62+AW62)*AJ62,2),ROUND(S62*V62*НМЦ!$K$212,2))","v":8517.52},6.59E-2,null,null,"-","-","-","-","-","-","-","-","-","-",2534.3000000000002,0.02,137766.62,1947.47,308569.12999999995,3.0788713198492444E-2,"-","-","-","-"]
[null,46,"5D57A968-2E2D-47A8-B7F4-6C635AF194C3","ВЛ 6 кВ на куст 3129.1 (габ.110 кВ) Приразломное м/р. Правдинский (КС00091309)","ЛС 04-01-01","Цена завода","Изолятор подвесной ПС70-Е, цена 333,9:4,03.1,13","шт.",268,93.62,25090.16,"Подрядчик (от Заказчика)","-","-","Материалы",null,"-",null,null,"-","-",null,"-","-",null,"-",null,497.42,497.42,"В","-","-","-",null,{"$f":"IF(AND(S63=\"\",V63=\"\"),ROUND((AC63+AW63)*AJ63,2),ROUND(S63*V63*НМЦ!$K$212,2))","v":33.44},6.59E-2,null,null,"-","-","-","-","-","-","-","-","-","-",9.9499999999999993,0.02,540.80999999999995,144937.07999999999,224436.15,2.2394010229486762E-2,"-","-","-","-"]
[null,47,"AEEAB128-A9D6-4DE1-ACE9-6CD791FCF82A","ВЛ 6 кВ на куст 3129.2 (габ. 6 кВ) Приразломное м/р. Правдинский (КС00091313)","ЛС 04-02-01","Цена завода","Изолятор подвесной ПС70-Е, цена 333,9:4,03.1,13","шт.",147,93.62,13762.14,"Подрядчик (от Заказчика)","-","-","Материалы",null,"-",null,null,"-","-",null,"-","-",null,"-",null,497.42,497.42,"В","-","-","-",null,{"$f":"IF(AND(S64=\"\",V64=\"\"),ROUND((AC64+AW64)*AJ64,2),ROUND(S64*V64*НМЦ!$K$212,2))","v":33.44},6.59E-2,null,null,"-","-","-","-","-","-","-","-","-","-",9.9499999999999993,0.02,540.80999999999995,79499.070000000007,224436.15,2.2394010229486762E-2,"-","-","-","-"]
[null,48,"5D57A968-2E2D-47A8-B7F4-6C635AF194C3","ВЛ 6 кВ на куст 3129.1 (габ.110 кВ) Приразломное м/р. Правдинский (КС00091309)","ЛС 04-01-01","Цена завода","Гаситель вибрации ГВП-1,6-11-400, цена 956,2:4,03.1,13","шт.",135,268.12,36196.199999999997,"Подрядчик","-","-","Материалы",null,"-",null,null,"-","-",null,"-","-",null,"-",{"$f":"НМЦ!$K$227","v":0},null,0,"В","-","-","-",null,{"$f":"IF(AND(S65=\"\",V65=\"\"),ROUND((AC65+AW65)*AJ65,2),ROUND(S65*V65*НМЦ!$K$212,2))","v":0},null,null,null,"-","-","-","-","-","-","-","-","-","-",0,null,0,0,154919.25,1.5457684821471128E-2,"-","-","-","-"]
[null,49,"5D57A968-2E2D-47A8-B7F4-6C635AF194C3","ВЛ 6 кВ на куст 3129.1 (габ.110 кВ) Приразломное м/р. Правдинский (КС00091309)","ЛС 04-01-01","101-1305","Портландцемент общестроительного назначения бездобавочный марки 400","т",27.224,545.51,14850.96,"Подрядчик","-","-","Материалы",null,"-",null,null,"-","-",null,"-","-",null,"-",null,4836.8599999999997,4836.8599999999997,"В","-","-","-",null,{"$f":"IF(AND(S66=\"\",V66=\"\"),ROUND((AC66+AW66)*AJ66,2),ROUND(S66*V66*НМЦ!$K$212,2))","v":325.12},6.59E-2,null,null,"-","-","-","-","-","-","-","-","-","-",96.74,0.02,5258.72,143163.39000000001,131606.09,1.3131521484942402E-2,"-","-","-","-"]
[null,50,"AEEAB128-A9D6-4DE1-ACE9-6CD791FCF82A","ВЛ 6 кВ на куст 3129.2 (габ. 6 кВ) Приразломное м/р. Правдинский (КС00091313)","ЛС 04-02-01","101-1305","Портландцемент общестроительного назначения бездобавочный марки 400","т",3.5840000000000001,545.51,1955.11,"Подрядчик","-","-","Материалы",null,"-",null,null,"-","-",null,"-","-",null,"-",null,4836.8599999999997,4836.8599999999997,"В","-","-","-",null,{"$f":"IF(AND(S67=\"\",V67=\"\"),ROUND((AC67+AW67)*AJ67,2),ROUND(S67*V67*НМЦ!$K$212,2))","v":325.12},6.59E-2,null,null,"-","-","-","-","-","-","-","-","-","-",96.74,0.02,5258.72,18847.25,131606.09,1.3131521484942402E-2,"-","-","-","-"]
[null,51,"5D57A968-2E2D-47A8-B7F4-6C635AF194C3","ВЛ 6 кВ на куст 3129.1 (габ.110 кВ) Приразломное м/р. Правдинский (КС00091309)","ЛС 04-01-02","101-1305","Портландцемент общестроительного назначения бездобавочный марки 400","т",9.8000000000000004E-2,545.51,53.46,"Подрядчик","-","-","Материалы",null,"-",null,null,"-","-",null,"-","-",null,"-",null,4836.8599999999997,4836.8599999999997,"В","-","-","-",null,{"$f":"IF(AND(S68=\"\",V68=\"\"),ROUND((AC68+AW68)*AJ68,2),ROUND(S68*V68*НМЦ!$K$212,2))","v":325.12},6.59E-2,null,null,"-","-","-","-","-","-","-","-","-","-",96.74,0.02,5258.72,515.35,131606.09,1.3131521484942402E-2,"-","-","-","-"]
[null,52,"5D57A968-2E2D-47A8-B7F4-6C635AF194C3","ВЛ 6 кВ на куст 3129.1 (габ.110 кВ) Приразломное м/р. Правдинский (КС00091309)","ЛС 04-01-01","509-8110","Трос грозозащитный. МЗ-9,2-ОЖ-Н-Р","т",1.1000000000000001,18075.88,19883.47,"Подрядчик","-","-","Материалы",null,"-",null,null,"-","-",null,"-","-",null,"-",{"$f":"НМЦ!$K$227","v":0},null,0,"В","-","-","-",null,{"$f":"IF(AND(S69=\"\",V69=\"\"),ROUND((AC69+AW69)*AJ69,2),ROUND(S69*V69*НМЦ!$K$212,2))","v":0},5.6899999999999999E-2,null,null,"-","-","-","-","-","-","-","-","-","-",0,null,0,0,89943.51,8.9744717284445715E-3,"-","-","-","-"]
[null,53,"5D57A968-2E2D-47A8-B7F4-6C635AF194C3","ВЛ 6 кВ на куст 3129.1 (габ.110 кВ) Приразломное м/р. Правдинский (КС00091309)","ЛС 04-01-01","Цена завода","Зажим натяжной НБ-2-6","шт.",86,149.41,12849.26,"Подрядчик","-","-","Материалы",null,"-",null,null,"-","-",null,"-","-",null,"-",{"$f":"НМЦ!$K$227","v":0},null,0,"В","-","-","-",null,{"$f":"IF(AND(S70=\"\",V70=\"\"),ROUND((AC70+AW70)*AJ70,2),ROUND(S70*V70*НМЦ!$K$212,2))","v":0},null,null,null,"-","-","-","-","-","-","-","-","-","-",0,null,0,0,83977.42,8.3791813508024716E-3,"-","-","-","-"]
[null,54,"AEEAB128-A9D6-4DE1-ACE9-6CD791FCF82A","ВЛ 6 кВ на куст 3129.2 (габ. 6 кВ) Приразломное м/р. Правдинский (КС00091313)","ЛС 04-02-01","Цена завода","Зажим натяжной НБ-2-6","шт.",75,90.29,6771.75,"Подрядчик","-","-","Материалы",null,"-",null,null,"-","-",null,"-","-",null,"-",{"$f":"НМЦ!$K$227","v":0},null,0,"В","-","-","-",null,{"$f":"IF(AND(S71=\"\",V71=\"\"),ROUND((AC71+AW71)*AJ71,2),ROUND(S71*V71*НМЦ!$K$212,2))","v":0},null,null,null,"-","-","-","-","-","-","-","-","-","-",0,null,0,0,83977.42,8.3791813508024716E-3,"-","-","-","-"]
[null,55,"AEEAB128-A9D6-4DE1-ACE9-6CD791FCF82A","ВЛ 6 кВ на куст 3129.2 (габ. 6 кВ) Приразломное м/р. Правдинский (КС00091313)","ЛС 04-02-01","113-0449","Грунтовка полиуретановая цинконаполненая, композиция ЦИНОТАН","кг",95.004000000000005,4.1100000000000003,390.47,"Подрядчик","-","-","Материалы",null,"-",null,null,"-","-",null,"-","-",null,"-",null,447.67,447.67,"В","-","-","-",null,{"$f":"IF(AND(S72=\"\",V72=\"\"),ROUND((AC72+AW72)*AJ72,2),ROUND(S72*V72*НМЦ!$K$212,2))","v":30.09},6.59E-2,null,null,"-","-","-","-","-","-","-","-","-","-",8.9499999999999993,0.02,486.71,46239.4,72244.320000000007,7.2084645949519067E-3,"-","-","-","-"]
[null,56,"5D57A968-2E2D-47A8-B7F4-6C635AF194C3","ВЛ 6 кВ на куст 3129.1 (габ.110 кВ) Приразломное м/р. Правдинский (КС00091309)","ЛС 04-01-01","113-0449","Грунтовка полиуретановая цинконаполненая, композиция ЦИНОТАН","кг",38.493000000000002,4.1100000000000003,158.21,"Подрядчик","-","-","Материалы",null,"-",null,null,"-","-",null,"-","-",null,"-",null,447.67,447.67,"В","-","-","-",null,{"$f":"IF(AND(S73=\"\",V73=\"\"),ROUND((AC73+AW73)*AJ73,2),ROUND(S73*V73*НМЦ!$K$212,2))","v":30.09},6.59E-2,null,null,"-","-","-","-","-","-","-","-","-","-",8.9499999999999993,0.02,486.71,18734.93,72244.320000000007,7.2084645949519067E-3,"-","-","-","-"]
[null,57,"5D57A968-2E2D-47A8-B7F4-6C635AF194C3","ВЛ 6 кВ на куст 3129.1 (габ.110 кВ) Приразломное м/р. Правдинский (КС00091309)","ЛС 04-01-02","113-0449","Грунтовка полиуретановая цинконаполненая, композиция ЦИНОТАН","кг",14.936999999999999,4.1100000000000003,61.39,"Подрядчик","-","-","Материалы",null,"-",null,null,"-","-",null,"-","-",null,"-",null,447.67,447.67,"В","-","-","-",null,{"$f":"IF(AND(S74=\"\",V74=\"\"),ROUND((AC74+AW74)*AJ74,2),ROUND(S74*V74*НМЦ!$K$212,2))","v":30.09},6.59E-2,null,null,"-","-","-","-","-","-","-","-","-","-",8.9499999999999993,0.02,486.71,7269.99,72244.320000000007,7.2084645949519067E-3,"-","-","-","-"]
[null,58,"5D57A968-2E2D-47A8-B7F4-6C635AF194C3","ВЛ 6 кВ на куст 3129.1 (габ.110 кВ) Приразломное м/р. Правдинский (КС00091309)","ЛС 04-01-01","113-0030","Грунтовка ХС-059 красно-коричневая","т",0.37334400000000001,28666.34,10702.41,"Подрядчик","-","-","Материалы",null,"-",null,null,"-","-",null,"-","-",null,"-",{"$f":"НМЦ!$K$227","v":0},null,0,"В","-","-","-",null,{"$f":"IF(AND(S75=\"\",V75=\"\"),ROUND((AC75+AW75)*AJ75,2),ROUND(S75*V75*НМЦ!$K$212,2))","v":0},5.6899999999999999E-2,null,null,"-","-","-","-","-","-","-","-","-","-",0,null,0,0,61145.540000000008,6.1010396419983693E-3,"-","-","-","-"]
[null,59,"AEEAB128-A9D6-4DE1-ACE9-6CD791FCF82A","ВЛ 6 кВ на куст 3129.2 (габ. 6 кВ) Приразломное м/р. Правдинский (КС00091313)","ЛС 04-02-01","113-0030","Грунтовка ХС-059 красно-коричневая","т",9.5215999999999995E-2,28666.34,2729.49,"Подрядчик","-","-","Материалы",null,"-",null,null,"-","-",null,"-","-",null,"-",{"$f":"НМЦ!$K$227","v":0},null,0,"В","-","-","-",null,{"$f":"IF(AND(S76=\"\",V76=\"\"),ROUND((AC76+AW76)*AJ76,2),ROUND(S76*V76*НМЦ!$K$212,2))","v":0},5.6899999999999999E-2,null,null,"-","-","-","-","-","-","-","-","-","-",0,null,0,0,61145.540000000008,6.1010396419983693E-3,"-","-","-","-"]
[null,60,"5D57A968-2E2D-47A8-B7F4-6C635AF194C3","ВЛ 6 кВ на куст 3129.1 (габ.110 кВ) Приразломное м/р. Правдинский (КС00091309)","ЛС 04-01-02","113-0030","Грунтовка ХС-059 красно-коричневая","т",2.9759999999999999E-3,28666.34,85.31,"Подрядчик","-","-","Материалы",null,"-",null,null,"-","-",null,"-","-",null,"-",{"$f":"НМЦ!$K$227","v":0},null,0,"В","-","-","-",null,{"$f":"IF(AND(S77=\"\",V77=\"\"),ROUND((AC77+AW77)*AJ77,2),ROUND(S77*V77*НМЦ!$K$212,2))","v":0},5.6899999999999999E-2,null,null,"-","-","-","-","-","-","-","-","-","-",0,null,0,0,61145.540000000008,6.1010396419983693E-3,"-","-","-","-"]
[null,61,"AEEAB128-A9D6-4DE1-ACE9-6CD791FCF82A","ВЛ 6 кВ на куст 3129.2 (габ. 6 кВ) Приразломное м/р. Правдинский (КС00091313)","ЛС 04-02-01","113-8098","Эмаль полиуретановая защитно-декоративная \"Политон-УР\"","кг",82.215000000000003,139.38999999999999,11459.95,"Подрядчик","-","-","Материалы",null,"-",null,null,"-","-",null,"-","-",null,"-",null,412.26,412.26,"В","-","-","-",null,{"$f":"IF(AND(S78=\"\",V78=\"\"),ROUND((AC78+AW78)*AJ78,2),ROUND(S78*V78*НМЦ!$K$212,2))","v":27.71},6.59E-2,null,null,"-","-","-","-","-","-","-","-","-","-",8.25,0.02,448.22,36850.410000000003,57574.98000000001,5.7447728054615807E-3,"-","-","-","-"]
[null,62,"5D57A968-2E2D-47A8-B7F4-6C635AF194C3","ВЛ 6 кВ на куст 3129.1 (габ.110 кВ) Приразломное м/р. Правдинский (КС00091309)","ЛС 04-01-01","113-8098","Эмаль полиуретановая защитно-декоративная \"Политон-УР\"","кг",33.311250000000001,139.38999999999999,4643.26,"Подрядчик","-","-","Материалы",null,"-",null,null,"-","-",null,"-","-",null,"-",null,412.26,412.26,"В","-","-","-",null,{"$f":"IF(AND(S79=\"\",V79=\"\"),ROUND((AC79+AW79)*AJ79,2),ROUND(S79*V79*НМЦ!$K$212,2))","v":27.71},6.59E-2,null,null,"-","-","-","-","-","-","-","-","-","-",8.25,0.02,448.22,14930.77,57574.98000000001,5.7447728054615807E-3,"-","-","-","-"]
[null,63,"5D57A968-2E2D-47A8-B7F4-6C635AF194C3","ВЛ 6 кВ на куст 3129.1 (габ.110 кВ) Приразломное м/р. Правдинский (КС00091309)","ЛС 04-01-02","113-8098","Эмаль полиуретановая защитно-декоративная \"Политон-УР\"","кг",12.92625,139.38999999999999,1801.79,"Подрядчик","-","-","Материалы",null,"-",null,null,"-","-",null,"-","-",null,"-",null,412.26,412.26,"В","-","-","-",null,{"$f":"IF(AND(S80=\"\",V80=\"\"),ROUND((AC80+AW80)*AJ80,2),ROUND(S80*V80*НМЦ!$K$212,2))","v":27.71},6.59E-2,null,null,"-","-","-","-","-","-","-","-","-","-",8.25,0.02,448.22,5793.8,57574.98000000001,5.7447728054615807E-3,"-","-","-","-"]
[null,64,"5D57A968-2E2D-47A8-B7F4-6C635AF194C3","ВЛ 6 кВ на куст 3129.1 (габ.110 кВ) Приразломное м/р. Правдинский (КС00091309)","ЛС 04-01-01","101-2467","Растворитель марки Р-4","т",0.5642102,15736.71,8878.81,"Подрядчик","-","-","Материалы",null,"-",null,null,"-","-",null,"-","-",null,"-",4.28,null,67353.119999999995,"В","-","-","-",null,{"$f":"IF(AND(S81=\"\",V81=\"\"),ROUND((AC81+AW81)*AJ81,2),ROUND(S81*V81*НМЦ!$K$212,2))","v":3832.39},5.6899999999999999E-2,null,null,"-","-","-","-","-","-","-","-","-","-",0,null,71185.509999999995,40163.589999999997,50881.63,5.0769171664767935E-3,"-","-","-","-"]
[null,65,"AEEAB128-A9D6-4DE1-ACE9-6CD791FCF82A","ВЛ 6 кВ на куст 3129.2 (габ. 6 кВ) Приразломное м/р. Правдинский (КС00091313)","ЛС 04-02-01","101-2467","Растворитель марки Р-4","т",0.13952400000000001,15736.71,{"$f":"ROUND(I82*J82,2)","v":2195.65},"Подрядчик","-","-","Материалы",null,"-",null,null,"-","-",null,"-","-",null,"-",4.28,null,67353.119999999995,"В","-","-","-",null,{"$f":"IF(AND(S82=\"\",V82=\"\"),ROUND((AC82+AW82)*AJ82,2),ROUND(S82*V82*НМЦ!$K$212,2))","v":3832.39},5.6899999999999999E-2,null,null,"-","-","-","-","-","-","-","-","-","-",0,null,71185.509999999995,9932.09,50881.63,5.0769171664767935E-3,"-","-","-","-"]
[null,66,"5D57A968-2E2D-47A8-B7F4-6C635AF194C3","ВЛ 6 кВ на куст 3129.1 (габ.110 кВ) Приразломное м/р. Правдинский (КС00091309)","ЛС 04-01-02","101-2467","Растворитель марки Р-4","т",5.0058000000000004E-3,15736.71,78.77,"Подрядчик","-","-","Материалы",null,"-",null,null,"-","-",null,"-","-",null,"-",4.28,null,67353.119999999995,"В","-","-","-",null,{"$f":"IF(AND(S83=\"\",V83=\"\"),ROUND((AC83+AW83)*AJ83,2),ROUND(S83*V83*НМЦ!$K$212,2))","v":3832.39},5.6899999999999999E-2,null,null,"-","-","-","-","-","-","-","-","-","-",0,null,71185.509999999995,356.34,50881.63,5.0769171664767935E-3,"-","-","-","-"]
[null,67,"AEEAB128-A9D6-4DE1-ACE9-6CD791FCF82A","ВЛ 6 кВ на куст 3129.2 (габ. 6 кВ) Приразломное м/р. Правдинский (КС00091313)","ЛС 04-02-01","509-0455","Соединитель алюминиевых и сталеалюминиевых проводов (СОАС) 062-3","шт.",54.366,147.22,8003.76,"Подрядчик","-","-","Материалы",null,"-",null,null,"-","-",null,"-","-",null,"-",{"$f":"НМЦ!$K$227","v":0},null,0,"В","-","-","-",null,{"$f":"IF(AND(S84=\"\",V84=\"\"),ROUND((AC84+AW84)*AJ84,2),ROUND(S84*V84*НМЦ!$K$212,2))","v":0},5.6899999999999999E-2,null,null,"-","-","-","-","-","-","-","-","-","-",0,null,0,0,47797.9,4.7692257310062817E-3,"-","-","-","-"]
[null,68,"5D57A968-2E2D-47A8-B7F4-6C635AF194C3","ВЛ 6 кВ на куст 3129.1 (габ.110 кВ) Приразломное м/р. Правдинский (КС00091309)","ЛС 04-01-01","509-0455","Соединитель алюминиевых и сталеалюминиевых проводов (СОАС) 062-3","шт.",17.408000000000001,147.22,2562.81,"Подрядчик","-","-","Материалы",null,"-",null,null,"-","-",null,"-","-",null,"-",{"$f":"НМЦ!$K$227","v":0},null,{"$f":"IF(AA85<>\"\",IF(AB85<>\"\",\"Ошибка\",ROUND(J85*AA85,2)),ROUND(AB85,2))","v":0},"В","-","-","-",null,{"$f":"IF(AND(S85=\"\",V85=\"\"),ROUND((AC85+AW85)*AJ85,2),ROUND(S85*V85*НМЦ!$K$212,2))","v":0},5.6899999999999999E-2,null,null,"-","-","-","-","-","-","-","-","-","-",{"$f":"IF(AND(S85=\"\",V85=\"\"),ROUND(AC85*AX85,2),ROUND((AC85+AH85+AI85+AK85+AL85)*AX85,2))","v":0},null,{"$f":"ROUND(AC85+AH85+AI85+AK85+AL85+AW85,2)","v":0},{"$f":"ROUND(I85*AY85,2)","v":0},47797.9,4.7692257310062817E-3,"-","-","-","-"]
[null,69,"5D57A968-2E2D-47A8-B7F4-6C635AF194C3","ВЛ 6 кВ на куст 3129.1 (габ.110 кВ) Приразломное м/р. Правдинский (КС00091309)","ЛС 04-01-01","509-2853","Скоба СК-12-1А","шт.",98,91.37,8954.26,"Подрядчик","-","-","Материалы",null,"-",null,null,"-","-",null,"-","-",null,"-",{"$f":"НМЦ!$K$227","v":0},null,0,"В","-","-","-",null,{"$f":"IF(AND(S86=\"\",V86=\"\"),ROUND((AC86+AW86)*AJ86,2),ROUND(S86*V86*НМЦ!$K$212,2))","v":0},5.6899999999999999E-2,null,null,"-","-","-","-","-","-","-","-","-","-",0,null,0,0,40504.379999999997,4.0414857413078016E-3,"-","-","-","-"]
[null,70,"5D57A968-2E2D-47A8-B7F4-6C635AF194C3","ВЛ 6 кВ на куст 3129.1 (габ.110 кВ) Приразломное м/р. Правдинский (КС00091309)","ЛС 04-01-01","101-1805","Гвозди строительные","т",0.4640108,12841.36,5958.53,"Подрядчик","-","-","Материалы",null,"-",null,null,"-","-",null,"-","-",null,"-",{"$f":"НМЦ!$K$227","v":0},null,0,"В","-","-","-",null,{"$f":"IF(AND(S87=\"\",V87=\"\"),ROUND((AC87+AW87)*AJ87,2),ROUND(S87*V87*НМЦ!$K$212,2))","v":0},5.6899999999999999E-2,null,null,"-","-","-","-","-","-","-","-","-","-",0,null,0,0,29818.36,2.9752455603365099E-3,"-","-","-","-"]
[null,71,"AEEAB128-A9D6-4DE1-ACE9-6CD791FCF82A","ВЛ 6 кВ на куст 3129.2 (габ. 6 кВ) Приразломное м/р. Правдинский (КС00091313)","ЛС 04-02-01","101-1805","Гвозди строительные","т",4.9317399999999997E-2,12841.36,633.29999999999995,"Подрядчик","-","-","Материалы",null,"-",null,null,"-","-",null,"-","-",null,"-",{"$f":"НМЦ!$K$227","v":0},null,0,"В","-","-","-",null,{"$f":"IF(AND(S88=\"\",V88=\"\"),ROUND((AC88+AW88)*AJ88,2),ROUND(S88*V88*НМЦ!$K$212,2))","v":0},5.6899999999999999E-2,null,null,"-","-","-","-","-","-","-","-","-","-",0,null,0,0,29818.36,2.9752455603365099E-3,"-","-","-","-"]
[null,72,"5D57A968-2E2D-47A8-B7F4-6C635AF194C3","ВЛ 6 кВ на куст 3129.1 (габ.110 кВ) Приразломное м/р. Правдинский (КС00091309)","ЛС 04-01-01","101-1513","Электроды диаметром 4 мм Э42","т",0.42782609999999999,11058.49,4731.1099999999997,"Подрядчик","-","-","Материалы",null,"-",null,null,"-","-",null,"-","-",null,"-",{"$f":"НМЦ!$K$227","v":0},null,0,"В","-","-","-",null,{"$f":"IF(AND(S89=\"\",V89=\"\"),ROUND((AC89+AW89)*AJ89,2),ROUND(S89*V89*НМЦ!$K$212,2))","v":0},5.6899999999999999E-2,null,null,"-","-","-","-","-","-","-","-","-","-",0,null,0,0,28220.960000000003,2.8158586169203885E-3,"-","-","-","-"]
[null,73,"AEEAB128-A9D6-4DE1-ACE9-6CD791FCF82A","ВЛ 6 кВ на куст 3129.2 (габ. 6 кВ) Приразломное м/р. Правдинский (КС00091313)","ЛС 04-02-01","101-1513","Электроды диаметром 4 мм Э42","т",0.13402839999999999,11058.49,1482.15,"Подрядчик","-","-","Материалы",null,"-",null,null,"-","-",null,"-","-",null,"-",{"$f":"НМЦ!$K$227","v":0},null,0,"В","-","-","-",null,{"$f":"IF(AND(S90=\"\",V90=\"\"),ROUND((AC90+AW90)*AJ90,2),ROUND(S90*V90*НМЦ!$K$212,2))","v":0},5.6899999999999999E-2,null,null,"-","-","-","-","-","-","-","-","-","-",0,null,0,0,28220.960000000003,2.8158586169203885E-3,"-","-","-","-"]
[null,74,"5D57A968-2E2D-47A8-B7F4-6C635AF194C3","ВЛ 6 кВ на куст 3129.1 (габ.110 кВ) Приразломное м/р. Правдинский (КС00091309)","ЛС 04-01-02","101-1513","Электроды диаметром 4 мм Э42","т",2.3004000000000002E-3,11058.49,25.44,"Подрядчик","-","-","Материалы",null,"-",null,null,"-","-",null,"-","-",null,"-",{"$f":"НМЦ!$K$227","v":0},null,0,"В","-","-","-",null,{"$f":"IF(AND(S91=\"\",V91=\"\"),ROUND((AC91+AW91)*AJ91,2),ROUND(S91*V91*НМЦ!$K$212,2))","v":0},5.6899999999999999E-2,null,null,"-","-","-","-","-","-","-","-","-","-",0,null,0,0,28220.960000000003,2.8158586169203885E-3,"-","-","-","-"]
[null,75,"5D57A968-2E2D-47A8-B7F4-6C635AF194C3","ВЛ 6 кВ на куст 3129.1 (габ.110 кВ) Приразломное м/р. Правдинский (КС00091309)","ЛС 04-01-01","113-0250","Эмаль кремнийорганическая КО-88 серебристая термостойкая","т",7.6770000000000005E-2,113779.3,8734.84,"Подрядчик","-","-","Материалы",null,"-",null,null,"-","-",null,"-","-",null,"-",null,189681.74,189681.74,"В","-","-","-",null,{"$f":"IF(AND(S92=\"\",V92=\"\"),ROUND((AC92+AW92)*AJ92,2),ROUND(S92*V92*НМЦ!$K$212,2))","v":12750.03},6.59E-2,null,null,"-","-","-","-","-","-","-","-","-","-",3793.63,0.02,206225.4,15831.92,25879.22,2.5822021871750095E-3,"-","-","-","-"]
[null,76,"AEEAB128-A9D6-4DE1-ACE9-6CD791FCF82A","ВЛ 6 кВ на куст 3129.2 (габ. 6 кВ) Приразломное м/р. Правдинский (КС00091313)","ЛС 04-02-01","113-0250","Эмаль кремнийорганическая КО-88 серебристая термостойкая","т",4.8719999999999999E-2,113779.3,5543.33,"Подрядчик","-","-","Материалы",null,"-",null,null,"-","-",null,"-","-",null,"-",null,189681.74,189681.74,"В","-","-","-",null,{"$f":"IF(AND(S93=\"\",V93=\"\"),ROUND((AC93+AW93)*AJ93,2),ROUND(S93*V93*НМЦ!$K$212,2))","v":12750.03},6.59E-2,null,null,"-","-","-","-","-","-","-","-","-","-",3793.63,0.02,206225.4,10047.299999999999,25879.22,2.5822021871750095E-3,"-","-","-","-"]
[null,77,"5D57A968-2E2D-47A8-B7F4-6C635AF194C3","ВЛ 6 кВ на куст 3129.1 (габ.110 кВ) Приразломное м/р. Правдинский (КС00091309)","ЛС 04-01-01","509-1772","Ушко двухлапчатое У2-7-16, У2К-7-16","шт.",49,103.7,5081.3,"Подрядчик","-","-","Материалы",null,"-",null,null,"-","-",null,"-","-",null,"-",{"$f":"НМЦ!$K$227","v":0},null,0,"В","-","-","-",null,{"$f":"IF(AND(S94=\"\",V94=\"\"),ROUND((AC94+AW94)*AJ94,2),ROUND(S94*V94*НМЦ!$K$212,2))","v":0},5.6899999999999999E-2,null,null,"-","-","-","-","-","-","-","-","-","-",0,null,0,0,22985.41,2.2934607756769456E-3,"-","-","-","-"]
[null,78,"AEEAB128-A9D6-4DE1-ACE9-6CD791FCF82A","ВЛ 6 кВ на куст 3129.2 (габ. 6 кВ) Приразломное м/р. Правдинский (КС00091313)","ЛС 04-02-01","Цена завода","Изолятор штыревой ШС-10Е цена 214,38:4,03.1,13","шт.",69,60.11,4147.59,"Подрядчик (от Заказчика)","-","-","Материалы",null,"-",null,null,"-","-",null,"-","-",null,"-",null,304.14,304.14,"В","-","-","-",null,{"$f":"IF(AND(S95=\"\",V95=\"\"),ROUND((AC95+AW95)*AJ95,2),ROUND(S95*V95*НМЦ!$K$212,2))","v":20.440000000000001},6.59E-2,null,null,"-","-","-","-","-","-","-","-","-","-",6.08,0.02,330.66,22815.54,22815.54,2.2765113202630879E-3,"-","-","-","-"]
[null,79,"5D57A968-2E2D-47A8-B7F4-6C635AF194C3","ВЛ 6 кВ на куст 3129.1 (габ.110 кВ) Приразломное м/р. Правдинский (КС00091309)","ЛС 04-01-01","Цена завода","Гаситель вибрации ГВП-0,8-9,1-350, цена 662:4,03.1,13","шт.",23,185.68,4270.6400000000003,"Подрядчик","-","-","Материалы",null,"-",null,null,"-","-",null,"-","-",null,"-",{"$f":"НМЦ!$K$227","v":0},null,0,"В","-","-","-",null,{"$f":"IF(AND(S96=\"\",V96=\"\"),ROUND((AC96+AW96)*AJ96,2),ROUND(S96*V96*НМЦ!$K$212,2))","v":0},null,null,null,"-","-","-","-","-","-","-","-","-","-",0,null,0,0,18278.330000000002,1.823793132246899E-3,"-","-","-","-"]
[null,80,"5D57A968-2E2D-47A8-B7F4-6C635AF194C3","ВЛ 6 кВ на куст 3129.1 (габ.110 кВ) Приразломное м/р. Правдинский (КС00091309)","ЛС 04-01-01","509-1771","Ушко однолапчатое У1-7-16, У1К-7-16","шт.",58,65.680000000000007,3809.44,"Подрядчик","-","-","Материалы",null,"-",null,null,"-","-",null,"-","-",null,"-",{"$f":"НМЦ!$K$227","v":0},null,0,"В","-","-","-",null,{"$f":"IF(AND(S97=\"\",V97=\"\"),ROUND((AC97+AW97)*AJ97,2),ROUND(S97*V97*НМЦ!$K$212,2))","v":0},5.6899999999999999E-2,null,null,"-","-","-","-","-","-","-","-","-","-",0,null,0,0,17232.38,1.7194293076155651E-3,"-","-","-","-"]
[null,81,"5D57A968-2E2D-47A8-B7F4-6C635AF194C3","ВЛ 6 кВ на куст 3129.1 (габ.110 кВ) Приразломное м/р. Правдинский (КС00091309)","ЛС 04-01-01","101-1518","Электроды диаметром 4 мм Э50А","т",0.23760000000000001,12322.45,2927.81,"Подрядчик","-","-","Материалы",null,"-",null,null,"-","-",null,"-","-",null,"-",{"$f":"НМЦ!$K$227","v":0},null,0,"В","-","-","-",null,{"$f":"IF(AND(S98=\"\",V98=\"\"),ROUND((AC98+AW98)*AJ98,2),ROUND(S98*V98*НМЦ!$K$212,2))","v":0},5.6899999999999999E-2,null,null,"-","-","-","-","-","-","-","-","-","-",0,null,0,0,16454.739999999998,1.6418371812363783E-3,"-","-","-","-"]
[null,82,"AEEAB128-A9D6-4DE1-ACE9-6CD791FCF82A","ВЛ 6 кВ на куст 3129.2 (габ. 6 кВ) Приразломное м/р. Правдинский (КС00091313)","ЛС 04-02-01","101-1518","Электроды диаметром 4 мм Э50А","т",5.7599999999999998E-2,12322.45,709.77,"Подрядчик","-","-","Материалы",null,"-",null,null,"-","-",null,"-","-",null,"-",{"$f":"НМЦ!$K$227","v":0},null,0,"В","-","-","-",null,{"$f":"IF(AND(S99=\"\",V99=\"\"),ROUND((AC99+AW99)*AJ99,2),ROUND(S99*V99*НМЦ!$K$212,2))","v":0},5.6899999999999999E-2,null,null,"-","-","-","-","-","-","-","-","-","-",0,null,0,0,16454.739999999998,1.6418371812363783E-3,"-","-","-","-"]
[null,83,"5D57A968-2E2D-47A8-B7F4-6C635AF194C3","ВЛ 6 кВ на куст 3129.1 (габ.110 кВ) Приразломное м/р. Правдинский (КС00091309)","ЛС 04-01-02","Прайс-лист","Короб глухой металлический с крышкой 100х200х2000,цена 592,46:4,05.1,13","шт.",23,165.3,3801.9,"Подрядчик","-","-","Материалы",null,"-",null,null,"-","-",null,"-","-",null,"-",{"$f":"НМЦ!$K$227","v":0},null,0,"В","-","-","-",null,{"$f":"IF(AND(S100=\"\",V100=\"\"),ROUND((AC100+AW100)*AJ100,2),ROUND(S100*V100*НМЦ!$K$212,2))","v":0},null,null,null,"-","-","-","-","-","-","-","-","-","-",0,null,0,0,16272.04,1.6236075615029834E-3,"-","-","-","-"]
[null,84,"AEEAB128-A9D6-4DE1-ACE9-6CD791FCF82A","ВЛ 6 кВ на куст 3129.2 (габ. 6 кВ) Приразломное м/р. Правдинский (КС00091313)","ЛС 04-02-01","Цена завода","Звено промежуточное трехлапчатое ПРТ-7-1","шт.",75,32.869999999999997,2465.25,"Подрядчик","-","-","Материалы",null,"-",null,null,"-","-",null,"-","-",null,"-",{"$f":"НМЦ!$K$227","v":0},null,0,"В","-","-","-",null,{"$f":"IF(AND(S101=\"\",V101=\"\"),ROUND((AC101+AW101)*AJ101,2),ROUND(S101*V101*НМЦ!$K$212,2))","v":0},null,null,null,"-","-","-","-","-","-","-","-","-","-",0,null,0,0,15756.16,1.5721335810538104E-3,"-","-","-","-"]
[null,85,"5D57A968-2E2D-47A8-B7F4-6C635AF194C3","ВЛ 6 кВ на куст 3129.1 (габ.110 кВ) Приразломное м/р. Правдинский (КС00091309)","ЛС 04-01-01","Цена завода","Звено промежуточное трехлапчатое ПРТ-7-1","шт.",37,32.869999999999997,1216.19,"Подрядчик","-","-","Материалы",null,"-",null,null,"-","-",null,"-","-",null,"-",{"$f":"НМЦ!$K$227","v":0},null,0,"В","-","-","-",null,{"$f":"IF(AND(S102=\"\",V102=\"\"),ROUND((AC102+AW102)*AJ102,2),ROUND(S102*V102*НМЦ!$K$212,2))","v":0},null,null,null,"-","-","-","-","-","-","-","-","-","-",0,null,0,0,15756.16,1.5721335810538104E-3,"-","-","-","-"]
[null,86,"5D57A968-2E2D-47A8-B7F4-6C635AF194C3","ВЛ 6 кВ на куст 3129.1 (габ.110 кВ) Приразломное м/р. Правдинский (КС00091309)","ЛС 04-01-01","101-2557","Патроны термитные со спичками","комплект",42,76.77,3224.34,"Подрядчик","-","-","Материалы",null,"-",null,null,"-","-",null,"-","-",null,"-",{"$f":"НМЦ!$K$227","v":0},null,0,"В","-","-","-",null,{"$f":"IF(AND(S103=\"\",V103=\"\"),ROUND((AC103+AW103)*AJ103,2),ROUND(S103*V103*НМЦ!$K$212,2))","v":0},5.6899999999999999E-2,null,null,"-","-","-","-","-","-","-","-","-","-",0,null,0,0,14585.76,1.4553522623019458E-3,"-","-","-","-"]
[null,87,"5D57A968-2E2D-47A8-B7F4-6C635AF194C3","ВЛ 6 кВ на куст 3129.1 (габ.110 кВ) Приразломное м/р. Правдинский (КС00091309)","ЛС 04-01-02","Прайс-лист","Муфта концевая термоусаживаемая 10кВ для одножильного кабеля из сшитого полиэтилена наружной установки РОLT-12D/1XО-L12А, цена 6730:3,97.1,13:1,18","комплект",2,1623.38,3246.76,"Подрядчик","-","-","Материалы",null,"-",null,null,"-","-",null,"-","-",null,"-",{"$f":"НМЦ!$K$227","v":0},null,0,"В","-","-","-",null,{"$f":"IF(AND(S104=\"\",V104=\"\"),ROUND((AC104+AW104)*AJ104,2),ROUND(S104*V104*НМЦ!$K$212,2))","v":0},null,null,null,"-","-","-","-","-","-","-","-","-","-",0,null,0,0,13896.14,1.3865426817844639E-3,"-","-","-","-"]
[null,88,"5D57A968-2E2D-47A8-B7F4-6C635AF194C3","ВЛ 6 кВ на куст 3129.1 (габ.110 кВ) Приразломное м/р. Правдинский (КС00091309)","ЛС 04-01-01","509-1768","Скоба СК-7-1А","шт.",54,46.9,2532.6,"Подрядчик","-","-","Материалы",null,"-",null,null,"-","-",null,"-","-",null,"-",{"$f":"НМЦ!$K$227","v":0},null,0,"В","-","-","-",null,{"$f":"IF(AND(S105=\"\",V105=\"\"),ROUND((AC105+AW105)*AJ105,2),ROUND(S105*V105*НМЦ!$K$212,2))","v":0},5.6899999999999999E-2,null,null,"-","-","-","-","-","-","-","-","-","-",0,null,0,0,11456.1,1.1430779782580628E-3,"-","-","-","-"]
[null,89,"5D57A968-2E2D-47A8-B7F4-6C635AF194C3","ВЛ 6 кВ на куст 3129.1 (габ.110 кВ) Приразломное м/р. Правдинский (КС00091309)","ЛС 04-01-01","101-1522","Электроды диаметром 5 мм Э42А","т",0.1807397,11108.9,2007.82,"Подрядчик","-","-","Материалы",null,"-",null,null,"-","-",null,"-","-",null,"-",{"$f":"НМЦ!$K$227","v":0},null,0,"В","-","-","-",null,{"$f":"IF(AND(S106=\"\",V106=\"\"),ROUND((AC106+AW106)*AJ106,2),ROUND(S106*V106*НМЦ!$K$212,2))","v":0},5.6899999999999999E-2,null,null,"-","-","-","-","-","-","-","-","-","-",0,null,0,0,11445.89,1.1420592348673788E-3,"-","-","-","-"]
[null,90,"AEEAB128-A9D6-4DE1-ACE9-6CD791FCF82A","ВЛ 6 кВ на куст 3129.2 (габ. 6 кВ) Приразломное м/р. Правдинский (КС00091313)","ЛС 04-02-01","101-1522","Электроды диаметром 5 мм Э42А","т",4.5402900000000003E-2,11108.9,504.38,"Подрядчик","-","-","Материалы",null,"-",null,null,"-","-",null,"-","-",null,"-",{"$f":"НМЦ!$K$227","v":0},null,0,"В","-","-","-",null,{"$f":"IF(AND(S107=\"\",V107=\"\"),ROUND((AC107+AW107)*AJ107,2),ROUND(S107*V107*НМЦ!$K$212,2))","v":0},5.6899999999999999E-2,null,null,"-","-","-","-","-","-","-","-","-","-",0,null,0,0,11445.89,1.1420592348673788E-3,"-","-","-","-"]
[null,91,"5D57A968-2E2D-47A8-B7F4-6C635AF194C3","ВЛ 6 кВ на куст 3129.1 (габ.110 кВ) Приразломное м/р. Правдинский (КС00091309)","ЛС 04-01-02","101-1522","Электроды диаметром 5 мм Э42А","т",1.6298E-3,11108.9,18.11,"Подрядчик","-","-","Материалы",null,"-",null,null,"-","-",null,"-","-",null,"-",{"$f":"НМЦ!$K$227","v":0},null,0,"В","-","-","-",null,{"$f":"IF(AND(S108=\"\",V108=\"\"),ROUND((AC108+AW108)*AJ108,2),ROUND(S108*V108*НМЦ!$K$212,2))","v":0},5.6899999999999999E-2,null,null,"-","-","-","-","-","-","-","-","-","-",0,null,0,0,11445.89,1.1420592348673788E-3,"-","-","-","-"]
[null,92,"5D57A968-2E2D-47A8-B7F4-6C635AF194C3","ВЛ 6 кВ на куст 3129.1 (габ.110 кВ) Приразломное м/р. Правдинский (КС00091309)","ЛС 04-01-01","Цена завода","Узел крепления КГП-7-2Б, цена 187,98:4,03.1,13","шт.",50,52.71,2635.5,"Подрядчик","-","-","Материалы",null,"-",null,null,"-","-",null,"-","-",null,"-",{"$f":"НМЦ!$K$227","v":0},null,0,"В","-","-","-",null,{"$f":"IF(AND(S109=\"\",V109=\"\"),ROUND((AC109+AW109)*AJ109,2),ROUND(S109*V109*НМЦ!$K$212,2))","v":0},null,null,null,"-","-","-","-","-","-","-","-","-","-",0,null,0,0,11280,1.1255068997958247E-3,"-","-","-","-"]
[null,93,"5D57A968-2E2D-47A8-B7F4-6C635AF194C3","ВЛ 6 кВ на куст 3129.1 (габ.110 кВ) Приразломное м/р. Правдинский (КС00091309)","ЛС 04-01-01","509-1771","Ушко однолапчатое У1-7-16","шт.",37,65.680000000000007,2430.16,"Подрядчик","-","-","Материалы",null,"-",null,null,"-","-",null,"-","-",null,"-",{"$f":"НМЦ!$K$227","v":0},null,0,"В","-","-","-",null,{"$f":"IF(AND(S110=\"\",V110=\"\"),ROUND((AC110+AW110)*AJ110,2),ROUND(S110*V110*НМЦ!$K$212,2))","v":0},5.6899999999999999E-2,null,null,"-","-","-","-","-","-","-","-","-","-",0,null,0,0,10993.07,1.0968773169271709E-3,"-","-","-","-"]
[null,94,"5D57A968-2E2D-47A8-B7F4-6C635AF194C3","ВЛ 6 кВ на куст 3129.1 (габ.110 кВ) Приразломное м/р. Правдинский (КС00091309)","ЛС 04-01-01","110-0322","Звено промежуточное прямое ПР-7-6","шт.",49,45.17,2213.33,"Подрядчик","-","-","Материалы",null,"-",null,null,"-","-",null,"-","-",null,"-",{"$f":"НМЦ!$K$227","v":0},null,0,"В","-","-","-",null,{"$f":"IF(AND(S111=\"\",V111=\"\"),ROUND((AC111+AW111)*AJ111,2),ROUND(S111*V111*НМЦ!$K$212,2))","v":0},5.6899999999999999E-2,null,null,"-","-","-","-","-","-","-","-","-","-",0,null,0,0,10012.17,9.9900411497595406E-4,"-","-","-","-"]
[null,95,"5D57A968-2E2D-47A8-B7F4-6C635AF194C3","ВЛ 6 кВ на куст 3129.1 (габ.110 кВ) Приразломное м/р. Правдинский (КС00091309)","ЛС 04-01-02","Прайс-лист","Муфта концевая термоусаживаемая 10кВ для одножильного кабеля из сшитого полиэтилена внутренней установки РОLT-12D/1XI-L12А, цена 4730:3,97.1,13:1,18","комплект",2,1140.95,2281.9,"Подрядчик","-","-","Материалы",null,"-",null,null,"-","-",null,"-","-",null,"-",{"$f":"НМЦ!$K$227","v":0},null,0,"В","-","-","-",null,{"$f":"IF(AND(S112=\"\",V112=\"\"),ROUND((AC112+AW112)*AJ112,2),ROUND(S112*V112*НМЦ!$K$212,2))","v":0},null,null,null,"-","-","-","-","-","-","-","-","-","-",0,null,0,0,9766.5400000000009,9.7449540400105638E-4,"-","-","-","-"]
[null,96,"5D57A968-2E2D-47A8-B7F4-6C635AF194C3","ВЛ 6 кВ на куст 3129.1 (габ.110 кВ) Приразломное м/р. Правдинский (КС00091309)","ЛС 04-01-01","102-0020","Лесоматериалы круглые березовые и мягких лиственных пород для строительства длиной 4-6,5 м, диаметром 12-24 см","м3",4.1399999999999997,490.37,2030.13,"Подрядчик","-","-","Материалы",null,"-",null,null,"-","-",null,"-","-",null,"-",null,2350,2350,"В","-","-","-",null,{"$f":"IF(AND(S113=\"\",V113=\"\"),ROUND((AC113+AW113)*AJ113,2),ROUND(S113*V113*НМЦ!$K$212,2))","v":0},null,null,null,"-","-","-","-","-","-","-","-","-","-",0,null,2350,9729,9729,9.7074970107389883E-4,"-","-","-","-"]
[null,97,"AEEAB128-A9D6-4DE1-ACE9-6CD791FCF82A","ВЛ 6 кВ на куст 3129.2 (габ. 6 кВ) Приразломное м/р. Правдинский (КС00091313)","ЛС 04-02-01","506-0853","Проволока из алюминия диаметром 3 мм","т",3.1980000000000001E-2,48459.13,1549.72,"Подрядчик","-","-","Материалы",null,"-",null,null,"-","-",null,"-","-",null,"-",{"$f":"НМЦ!$K$227","v":0},null,0,"В","-","-","-",null,{"$f":"IF(AND(S114=\"\",V114=\"\"),ROUND((AC114+AW114)*AJ114,2),ROUND(S114*V114*НМЦ!$K$212,2))","v":0},5.6899999999999999E-2,null,null,"-","-","-","-","-","-","-","-","-","-",0,null,0,0,9254.89,9.2344348863930678E-4,"-","-","-","-"]
[null,98,"5D57A968-2E2D-47A8-B7F4-6C635AF194C3","ВЛ 6 кВ на куст 3129.1 (габ.110 кВ) Приразломное м/р. Правдинский (КС00091309)","ЛС 04-01-01","506-0853","Проволока из алюминия диаметром 3 мм","т",1.0240000000000001E-2,48459.13,496.22,"Подрядчик","-","-","Материалы",null,"-",null,null,"-","-",null,"-","-",null,"-",{"$f":"НМЦ!$K$227","v":0},null,0,"В","-","-","-",null,{"$f":"IF(AND(S115=\"\",V115=\"\"),ROUND((AC115+AW115)*AJ115,2),ROUND(S115*V115*НМЦ!$K$212,2))","v":0},5.6899999999999999E-2,null,null,"-","-","-","-","-","-","-","-","-","-",0,null,0,0,9254.89,9.2344348863930678E-4,"-","-","-","-"]
[null,99,"AEEAB128-A9D6-4DE1-ACE9-6CD791FCF82A","ВЛ 6 кВ на куст 3129.2 (габ. 6 кВ) Приразломное м/р. Правдинский (КС00091313)","ЛС 04-02-01","Цена завода","Ушко однолапчатое У1-7-16, цена 101,11:4,03.1,13","шт.",75,28.35,2126.25,"Подрядчик","-","-","Материалы",null,"-",null,null,"-","-",null,"-","-",null,"-",{"$f":"НМЦ!$K$227","v":0},null,0,"В","-","-","-",null,{"$f":"IF(AND(S116=\"\",V116=\"\"),ROUND((AC116+AW116)*AJ116,2),ROUND(S116*V116*НМЦ!$K$212,2))","v":0},null,null,null,"-","-","-","-","-","-","-","-","-","-",0,null,0,0,9100.5,9.0803861184325381E-4,"-","-","-","-"]
[null,100,"5D57A968-2E2D-47A8-B7F4-6C635AF194C3","ВЛ 6 кВ на куст 3129.1 (габ.110 кВ) Приразломное м/р. Правдинский (КС00091309)","ЛС 04-01-01","101-1619","Сталь круглая углеродистая обыкновенного качества марки ВСт3пс5-1 диаметром 18 мм . Круг В18 ГОСТ 2590-2006","т",0.28771200000000002,6376.37,1834.56,"Подрядчик","-","-","Материалы",null,"-",null,null,"-","-",null,"-","-",null,"-",{"$f":"НМЦ!$K$227","v":0},null,{"$f":"IF(AA117<>\"\",IF(AB117<>\"\",\"Ошибка\",ROUND(J117*AA117,2)),ROUND(AB117,2))","v":0},"В","-","-","-",null,{"$f":"IF(AND(S117=\"\",V117=\"\"),ROUND((AC117+AW117)*AJ117,2),ROUND(S117*V117*НМЦ!$K$212,2))","v":0},5.6899999999999999E-2,null,null,"-","-","-","-","-","-","-","-","-","-",{"$f":"IF(AND(S117=\"\",V117=\"\"),ROUND(AC117*AX117,2),ROUND((AC117+AH117+AI117+AK117+AL117)*AX117,2))","v":0},null,{"$f":"ROUND(AC117+AH117+AI117+AK117+AL117+AW117,2)","v":0},{"$f":"ROUND(I117*AY117,2)","v":0},8298.68,8.2803382971610067E-4,"-","-","-","-"]
[null,101,"5D57A968-2E2D-47A8-B7F4-6C635AF194C3","ВЛ 6 кВ на куст 3129.1 (габ.110 кВ) Приразломное м/р. Правдинский (КС00091309)","ЛС 04-01-01","101-1547","Эмаль кремнийорганическая КО-174 разных цветов","т",8.5120000000000001E-2,41381.26,3522.37,"Подрядчик","-","-","Материалы",null,"-",null,null,"-","-",null,"-","-",null,"-",null,86856.05,86856.05,"В","-","-","-",null,{"$f":"IF(AND(S118=\"\",V118=\"\"),ROUND((AC118+AW118)*AJ118,2),ROUND(S118*V118*НМЦ!$K$212,2))","v":5838.29},6.59E-2,null,null,"-","-","-","-","-","-","-","-","-","-",1737.12,0.02,94431.46,8038.01,8038.01,8.0202444287480826E-4,"-","-","-","-"]
[null,102,"5D57A968-2E2D-47A8-B7F4-6C635AF194C3","ВЛ 6 кВ на куст 3129.1 (габ.110 кВ) Приразломное м/р. Правдинский (КС00091309)","ЛС 04-01-01","Цена завода","Зажим поддерживающий ПГН-3-5, цена 146,37:4,03.1,13","шт.",43,41.04,1764.72,"Подрядчик","-","-","Материалы",null,"-",null,null,"-","-",null,"-","-",null,"-",{"$f":"НМЦ!$K$227","v":0},null,0,"В","-","-","-",null,{"$f":"IF(AND(S119=\"\",V119=\"\"),ROUND((AC119+AW119)*AJ119,2),ROUND(S119*V119*НМЦ!$K$212,2))","v":0},null,null,null,"-","-","-","-","-","-","-","-","-","-",0,null,0,0,7552.95,7.536256506039782E-4,"-","-","-","-"]
[null,103,"5D57A968-2E2D-47A8-B7F4-6C635AF194C3","ВЛ 6 кВ на куст 3129.1 (габ.110 кВ) Приразломное м/р. Правдинский (КС00091309)","ЛС 04-01-01","102-0024","Бруски обрезные хвойных пород длиной 4-6,5 м, шириной 75-150 мм, толщиной 40-75 мм, II сорта","м3",0.69599999999999995,1948.74,1356.32,"Подрядчик","-","-","Материалы",null,"-",null,null,"-","-",null,"-","-",null,"-",4.28,null,8340.61,"В","-","-","-",null,{"$f":"IF(AND(S120=\"\",V120=\"\"),ROUND((AC120+AW120)*AJ120,2),ROUND(S120*V120*НМЦ!$K$212,2))","v":474.58},5.6899999999999999E-2,null,null,"-","-","-","-","-","-","-","-","-","-",0,null,8815.19,6135.37,6548.5599999999995,6.5340864040132492E-4,"-","-","-","-"]
[null,104,"AEEAB128-A9D6-4DE1-ACE9-6CD791FCF82A","ВЛ 6 кВ на куст 3129.2 (габ. 6 кВ) Приразломное м/р. Правдинский (КС00091313)","ЛС 04-02-01","102-0024","Бруски обрезные хвойных пород длиной 4-6,5 м, шириной 75-150 мм, толщиной 40-75 мм, II сорта","м3",4.0599999999999997E-2,1948.74,79.12,"Подрядчик","-","-","Материалы",null,"-",null,null,"-","-",null,"-","-",null,"-",4.28,null,8340.61,"В","-","-","-",null,{"$f":"IF(AND(S121=\"\",V121=\"\"),ROUND((AC121+AW121)*AJ121,2),ROUND(S121*V121*НМЦ!$K$212,2))","v":474.58},5.6899999999999999E-2,null,null,"-","-","-","-","-","-","-","-","-","-",0,null,8815.19,357.9,6548.5599999999995,6.5340864040132492E-4,"-","-","-","-"]
[null,105,"AEEAB128-A9D6-4DE1-ACE9-6CD791FCF82A","ВЛ 6 кВ на куст 3129.2 (габ. 6 кВ) Приразломное м/р. Правдинский (КС00091313)","ЛС 04-02-01","Цена завода","Скоба СК-7-1А, цена 72,49:4,03.1,13","шт.",75,20.329999999999998,1524.75,"Подрядчик","-","-","Материалы",null,"-",null,null,"-","-",null,"-","-",null,"-",{"$f":"НМЦ!$K$227","v":0},null,0,"В","-","-","-",null,{"$f":"IF(AND(S122=\"\",V122=\"\"),ROUND((AC122+AW122)*AJ122,2),ROUND(S122*V122*НМЦ!$K$212,2))","v":0},null,null,null,"-","-","-","-","-","-","-","-","-","-",0,null,0,0,6525.75,6.5113268185661383E-4,"-","-","-","-"]
[null,106,"5D57A968-2E2D-47A8-B7F4-6C635AF194C3","ВЛ 6 кВ на куст 3129.1 (габ.110 кВ) Приразломное м/р. Правдинский (КС00091309)","ЛС 04-01-01","Цена завода","Изолятор штыревой ШС-10Г, цена 214,38:4,03.1,13","шт.",19,60.11,1142.0899999999999,"Подрядчик (от Заказчика)","-","-","Материалы",null,"-",null,null,"-","-",null,"-","-",null,"-",null,304.14,304.14,"В","-","-","-",null,{"$f":"IF(AND(S123=\"\",V123=\"\"),ROUND((AC123+AW123)*AJ123,2),ROUND(S123*V123*НМЦ!$K$212,2))","v":20.440000000000001},6.59E-2,null,null,"-","-","-","-","-","-","-","-","-","-",6.08,0.02,330.66,6282.54,6282.54,6.2686543601447344E-4,"-","-","-","-"]
[null,107,"5D57A968-2E2D-47A8-B7F4-6C635AF194C3","ВЛ 6 кВ на куст 3129.1 (габ.110 кВ) Приразломное м/р. Правдинский (КС00091309)","ЛС 04-01-01","Цена завода","Зажим аппаратный А2А-120-2АТ(П), цена 104,99:4,03.1,13","шт.",48,29.44,1413.12,"Подрядчик","-","-","Материалы",null,"-",null,null,"-","-",null,"-","-",null,"-",{"$f":"НМЦ!$K$227","v":0},null,0,"В","-","-","-",null,{"$f":"IF(AND(S124=\"\",V124=\"\"),ROUND((AC124+AW124)*AJ124,2),ROUND(S124*V124*НМЦ!$K$212,2))","v":0},null,null,null,"-","-","-","-","-","-","-","-","-","-",0,null,0,0,6048,6.0346327393308048E-4,"-","-","-","-"]
[null,108,"AEEAB128-A9D6-4DE1-ACE9-6CD791FCF82A","ВЛ 6 кВ на куст 3129.2 (габ. 6 кВ) Приразломное м/р. Правдинский (КС00091313)","ЛС 04-02-01","Цена завода","Серьга СРС-7-16, цена 56,32:4,03.1,13","шт.",75,15.79,1184.25,"Подрядчик","-","-","Материалы",null,"-",null,null,"-","-",null,"-","-",null,"-",{"$f":"НМЦ!$K$227","v":0},null,0,"В","-","-","-",null,{"$f":"IF(AND(S125=\"\",V125=\"\"),ROUND((AC125+AW125)*AJ125,2),ROUND(S125*V125*НМЦ!$K$212,2))","v":0},null,null,null,"-","-","-","-","-","-","-","-","-","-",0,null,0,0,5068.5,5.0572976255453352E-4,"-","-","-","-"]
[null,109,"5D57A968-2E2D-47A8-B7F4-6C635AF194C3","ВЛ 6 кВ на куст 3129.1 (габ.110 кВ) Приразломное м/р. Правдинский (КС00091309)","ЛС 04-01-01","509-2950","Серьга СР-12-16","шт.",49,22.2,1087.8,"Подрядчик","-","-","Материалы",null,"-",null,null,"-","-",null,"-","-",null,"-",{"$f":"НМЦ!$K$227","v":0},null,0,"В","-","-","-",null,{"$f":"IF(AND(S126=\"\",V126=\"\"),ROUND((AC126+AW126)*AJ126,2),ROUND(S126*V126*НМЦ!$K$212,2))","v":0},5.6899999999999999E-2,null,null,"-","-","-","-","-","-","-","-","-","-",0,null,0,0,4921.07,4.9101934746260988E-4,"-","-","-","-"]
[null,110,"AEEAB128-A9D6-4DE1-ACE9-6CD791FCF82A","ВЛ 6 кВ на куст 3129.2 (габ. 6 кВ) Приразломное м/р. Правдинский (КС00091313)","ЛС 04-02-01","Цена завода","Зажим плашечный ПА-3-2А, цена 49,18:4,03.1,13","шт.",43,13.79,592.97,"Подрядчик","-","-","Материалы",null,"-",null,null,"-","-",null,"-","-",null,"-",{"$f":"НМЦ!$K$227","v":0},null,0,"В","-","-","-",null,{"$f":"IF(AND(S127=\"\",V127=\"\"),ROUND((AC127+AW127)*AJ127,2),ROUND(S127*V127*НМЦ!$K$212,2))","v":0},null,null,null,"-","-","-","-","-","-","-","-","-","-",0,null,0,0,4367.4799999999996,4.3578270165959827E-4,"-","-","-","-"]
[null,111,"5D57A968-2E2D-47A8-B7F4-6C635AF194C3","ВЛ 6 кВ на куст 3129.1 (габ.110 кВ) Приразломное м/р. Правдинский (КС00091309)","ЛС 04-01-01","Цена завода","Зажим плашечный ПА-3-2А, цена 49,18:4,03.1,13","шт.",31,13.79,427.49,"Подрядчик","-","-","Материалы",null,"-",null,null,"-","-",null,"-","-",null,"-",{"$f":"НМЦ!$K$227","v":0},null,0,"В","-","-","-",null,{"$f":"IF(AND(S128=\"\",V128=\"\"),ROUND((AC128+AW128)*AJ128,2),ROUND(S128*V128*НМЦ!$K$212,2))","v":0},null,null,null,"-","-","-","-","-","-","-","-","-","-",0,null,0,0,4367.4799999999996,4.3578270165959827E-4,"-","-","-","-"]
[null,112,"5D57A968-2E2D-47A8-B7F4-6C635AF194C3","ВЛ 6 кВ на куст 3129.1 (габ.110 кВ) Приразломное м/р. Правдинский (КС00091309)","ЛС 04-01-02","Прайс-лист","Арматура для непаянного соединения ЕАКТ1656, цена 1020:3,97.1,13:1,18","комплект",4,246.04,984.16,"Подрядчик","-","-","Материалы",null,"-",null,null,"-","-",null,"-","-",null,"-",{"$f":"НМЦ!$K$227","v":0},null,0,"В","-","-","-",null,{"$f":"IF(AND(S129=\"\",V129=\"\"),ROUND((AC129+AW129)*AJ129,2),ROUND(S129*V129*НМЦ!$K$212,2))","v":0},null,null,null,"-","-","-","-","-","-","-","-","-","-",0,null,0,0,4212.2,4.202890215709196E-4,"-","-","-","-"]
[null,113,"5D57A968-2E2D-47A8-B7F4-6C635AF194C3","ВЛ 6 кВ на куст 3129.1 (габ.110 кВ) Приразломное м/р. Правдинский (КС00091309)","ЛС 04-01-01","Цена завода","Зажим заземляющий ЗПС-50-3, цена 110,84:4,03.1,13","шт.",31,31.08,963.48,"Подрядчик","-","-","Материалы",null,"-",null,null,"-","-",null,"-","-",null,"-",{"$f":"НМЦ!$K$227","v":0},null,0,"В","-","-","-",null,{"$f":"IF(AND(S130=\"\",V130=\"\"),ROUND((AC130+AW130)*AJ130,2),ROUND(S130*V130*НМЦ!$K$212,2))","v":0},null,null,null,"-","-","-","-","-","-","-","-","-","-",0,null,0,0,4123.62,4.1145059948014705E-4,"-","-","-","-"]
[null,114,"5D57A968-2E2D-47A8-B7F4-6C635AF194C3","ВЛ 6 кВ на куст 3129.1 (габ.110 кВ) Приразломное м/р. Правдинский (КС00091309)","ЛС 04-01-01","101-1714","Болты с гайками и шайбами строительные","кг",46.708800000000004,9.6999999999999993,453.08,"Подрядчик","-","-","Материалы",null,"-",null,null,"-","-",null,"-","-",null,"-",4.28,null,41.52,"В","-","-","-",null,{"$f":"IF(AND(S131=\"\",V131=\"\"),ROUND((AC131+AW131)*AJ131,2),ROUND(S131*V131*НМЦ!$K$212,2))","v":2.36},5.6899999999999999E-2,null,null,"-","-","-","-","-","-","-","-","-","-",0,null,43.88,2049.58,3921.92,3.9132517911766323E-4,"-","-","-","-"]
[null,115,"AEEAB128-A9D6-4DE1-ACE9-6CD791FCF82A","ВЛ 6 кВ на куст 3129.2 (габ. 6 кВ) Приразломное м/р. Правдинский (КС00091313)","ЛС 04-02-01","101-1714","Болты с гайками и шайбами строительные","кг",37.681700000000006,9.6999999999999993,365.51,"Подрядчик","-","-","Материалы",null,"-",null,null,"-","-",null,"-","-",null,"-",4.28,null,41.52,"В","-","-","-",null,{"$f":"IF(AND(S132=\"\",V132=\"\"),ROUND((AC132+AW132)*AJ132,2),ROUND(S132*V132*НМЦ!$K$212,2))","v":2.36},5.6899999999999999E-2,null,null,"-","-","-","-","-","-","-","-","-","-",0,null,43.88,1653.47,3921.92,3.9132517911766323E-4,"-","-","-","-"]
[null,116,"5D57A968-2E2D-47A8-B7F4-6C635AF194C3","ВЛ 6 кВ на куст 3129.1 (габ.110 кВ) Приразломное м/р. Правдинский (КС00091309)","ЛС 04-01-02","101-1714","Болты с гайками и шайбами строительные","кг",4.2206000000000001,9.6999999999999993,40.94,"Подрядчик","-","-","Материалы",null,"-",null,null,"-","-",null,"-","-",null,"-",4.28,null,41.52,"В","-","-","-",null,{"$f":"IF(AND(S133=\"\",V133=\"\"),ROUND((AC133+AW133)*AJ133,2),ROUND(S133*V133*НМЦ!$K$212,2))","v":2.36},5.6899999999999999E-2,null,null,"-","-","-","-","-","-","-","-","-","-",0,null,43.88,185.2,3921.92,3.9132517911766323E-4,"-","-","-","-"]
[null,117,"5D57A968-2E2D-47A8-B7F4-6C635AF194C3","ВЛ 6 кВ на куст 3129.1 (габ.110 кВ) Приразломное м/р. Правдинский (КС00091309)","ЛС 04-01-01","101-0324","Кислород технический газообразный","м3",54.855716000000001,11.75,644.54999999999995,"Подрядчик","-","-","Материалы",null,"-",null,null,"-","-",null,"-","-",null,"-",{"$f":"НМЦ!$K$227","v":0},null,0,"В","-","-","-",null,{"$f":"IF(AND(S134=\"\",V134=\"\"),ROUND((AC134+AW134)*AJ134,2),ROUND(S134*V134*НМЦ!$K$212,2))","v":0},5.6899999999999999E-2,null,null,"-","-","-","-","-","-","-","-","-","-",0,null,0,0,3906.0899999999997,3.8974567785669085E-4,"-","-","-","-"]
[null,118,"AEEAB128-A9D6-4DE1-ACE9-6CD791FCF82A","ВЛ 6 кВ на куст 3129.2 (габ. 6 кВ) Приразломное м/р. Правдинский (КС00091313)","ЛС 04-02-01","101-0324","Кислород технический газообразный","м3",17.495861999999999,11.75,205.58,"Подрядчик","-","-","Материалы",null,"-",null,null,"-","-",null,"-","-",null,"-",{"$f":"НМЦ!$K$227","v":0},null,0,"В","-","-","-",null,{"$f":"IF(AND(S135=\"\",V135=\"\"),ROUND((AC135+AW135)*AJ135,2),ROUND(S135*V135*НМЦ!$K$212,2))","v":0},5.6899999999999999E-2,null,null,"-","-","-","-","-","-","-","-","-","-",0,null,0,0,3906.0899999999997,3.8974567785669085E-4,"-","-","-","-"]
[null,119,"5D57A968-2E2D-47A8-B7F4-6C635AF194C3","ВЛ 6 кВ на куст 3129.1 (габ.110 кВ) Приразломное м/р. Правдинский (КС00091309)","ЛС 04-01-02","101-0324","Кислород технический газообразный","м3",1.1402300000000001,11.75,13.4,"Подрядчик","-","-","Материалы",null,"-",null,null,"-","-",null,"-","-",null,"-",{"$f":"НМЦ!$K$227","v":0},null,0,"В","-","-","-",null,{"$f":"IF(AND(S136=\"\",V136=\"\"),ROUND((AC136+AW136)*AJ136,2),ROUND(S136*V136*НМЦ!$K$212,2))","v":0},5.6899999999999999E-2,null,null,"-","-","-","-","-","-","-","-","-","-",0,null,0,0,3906.0899999999997,3.8974567785669085E-4,"-","-","-","-"]
[null,120,"5D57A968-2E2D-47A8-B7F4-6C635AF194C3","ВЛ 6 кВ на куст 3129.1 (габ.110 кВ) Приразломное м/р. Правдинский (КС00091309)","ЛС 04-01-01","101-0782","Поковки из квадратных заготовок, масса 1,8 кг","т",9.0759500000000007E-2,6537.73,593.36,"Подрядчик","-","-","Материалы",null,"-",null,null,"-","-",null,"-","-",null,"-",{"$f":"НМЦ!$K$227","v":0},null,0,"В","-","-","-",null,{"$f":"IF(AND(S137=\"\",V137=\"\"),ROUND((AC137+AW137)*AJ137,2),ROUND(S137*V137*НМЦ!$K$212,2))","v":0},5.6899999999999999E-2,null,null,"-","-","-","-","-","-","-","-","-","-",0,null,0,0,3568.1,3.5602138024481224E-4,"-","-","-","-"]
[null,121,"AEEAB128-A9D6-4DE1-ACE9-6CD791FCF82A","ВЛ 6 кВ на куст 3129.2 (габ. 6 кВ) Приразломное м/р. Правдинский (КС00091313)","ЛС 04-02-01","101-0782","Поковки из квадратных заготовок, масса 1,8 кг","т",2.93298E-2,6537.73,191.75,"Подрядчик","-","-","Материалы",null,"-",null,null,"-","-",null,"-","-",null,"-",{"$f":"НМЦ!$K$227","v":0},null,0,"В","-","-","-",null,{"$f":"IF(AND(S138=\"\",V138=\"\"),ROUND((AC138+AW138)*AJ138,2),ROUND(S138*V138*НМЦ!$K$212,2))","v":0},5.6899999999999999E-2,null,null,"-","-","-","-","-","-","-","-","-","-",0,null,0,0,3568.1,3.5602138024481224E-4,"-","-","-","-"]
[null,122,"5D57A968-2E2D-47A8-B7F4-6C635AF194C3","ВЛ 6 кВ на куст 3129.1 (габ.110 кВ) Приразломное м/р. Правдинский (КС00091309)","ЛС 04-01-02","101-0782","Поковки из квадратных заготовок, масса 1,8 кг","т",5.62E-4,6537.73,3.67,"Подрядчик","-","-","Материалы",null,"-",null,null,"-","-",null,"-","-",null,"-",{"$f":"НМЦ!$K$227","v":0},null,0,"В","-","-","-",null,{"$f":"IF(AND(S139=\"\",V139=\"\"),ROUND((AC139+AW139)*AJ139,2),ROUND(S139*V139*НМЦ!$K$212,2))","v":0},5.6899999999999999E-2,null,null,"-","-","-","-","-","-","-","-","-","-",0,null,0,0,3568.1,3.5602138024481224E-4,"-","-","-","-"]
[null,123,"5D57A968-2E2D-47A8-B7F4-6C635AF194C3","ВЛ 6 кВ на куст 3129.1 (габ.110 кВ) Приразломное м/р. Правдинский (КС00091309)","ЛС 04-01-02","Прайс-лист","Узел крепления кабеля 1-УК-1-3-245-УХЛ1, цена 228,6:4,05.1,13:1,18","шт.",15,54.05,810.75,"Подрядчик","-","-","Материалы",null,"-",null,null,"-","-",null,"-","-",null,"-",{"$f":"НМЦ!$K$227","v":0},null,0,"В","-","-","-",null,{"$f":"IF(AND(S140=\"\",V140=\"\"),ROUND((AC140+AW140)*AJ140,2),ROUND(S140*V140*НМЦ!$K$212,2))","v":0},null,null,null,"-","-","-","-","-","-","-","-","-","-",0,null,0,0,3469.95,3.4622807331086185E-4,"-","-","-","-"]
[null,124,"AEEAB128-A9D6-4DE1-ACE9-6CD791FCF82A","ВЛ 6 кВ на куст 3129.2 (габ. 6 кВ) Приразломное м/р. Правдинский (КС00091313)","ЛС 04-02-01","Цена завода","Зажим аппаратный А2А-95-2АТ(П), цена 96,81:4,03.1,13","шт.",25,27.15,678.75,"Подрядчик","-","-","Материалы",null,"-",null,null,"-","-",null,"-","-",null,"-",{"$f":"НМЦ!$K$227","v":0},null,0,"В","-","-","-",null,{"$f":"IF(AND(S141=\"\",V141=\"\"),ROUND((AC141+AW141)*AJ141,2),ROUND(S141*V141*НМЦ!$K$212,2))","v":0},null,null,null,"-","-","-","-","-","-","-","-","-","-",0,null,0,0,2905,2.8985793828961622E-4,"-","-","-","-"]
[null,125,"5D57A968-2E2D-47A8-B7F4-6C635AF194C3","ВЛ 6 кВ на куст 3129.1 (габ.110 кВ) Приразломное м/р. Правдинский (КС00091309)","ЛС 04-01-01","509-1719","Серьга СРС-7-16","шт.",37,16.75,619.75,"Подрядчик","-","-","Материалы",null,"-",null,null,"-","-",null,"-","-",null,"-",{"$f":"НМЦ!$K$227","v":0},null,0,"В","-","-","-",null,{"$f":"IF(AND(S142=\"\",V142=\"\"),ROUND((AC142+AW142)*AJ142,2),ROUND(S142*V142*НМЦ!$K$212,2))","v":0},5.6899999999999999E-2,null,null,"-","-","-","-","-","-","-","-","-","-",0,null,0,0,2803.49,2.7972937398125855E-4,"-","-","-","-"]
[null,126,"5D57A968-2E2D-47A8-B7F4-6C635AF194C3","ВЛ 6 кВ на куст 3129.1 (габ.110 кВ) Приразломное м/р. Правдинский (КС00091309)","ЛС 04-01-01","Цена завода","Зажим плашечный ПА-4-1, цена 114,81:4,03.1,13","шт.",19,32.19,611.61,"Подрядчик","-","-","Материалы",null,"-",null,null,"-","-",null,"-","-",null,"-",{"$f":"НМЦ!$K$227","v":0},null,0,"В","-","-","-",null,{"$f":"IF(AND(S143=\"\",V143=\"\"),ROUND((AC143+AW143)*AJ143,2),ROUND(S143*V143*НМЦ!$K$212,2))","v":0},null,null,null,"-","-","-","-","-","-","-","-","-","-",0,null,0,0,2617.63,2.6118445266955188E-4,"-","-","-","-"]
[null,127,"5D57A968-2E2D-47A8-B7F4-6C635AF194C3","ВЛ 6 кВ на куст 3129.1 (габ.110 кВ) Приразломное м/р. Правдинский (КС00091309)","ЛС 04-01-01","Цена завода","Зажим аппаратный А1А-120-2АТ(П), цена 86,31:4,03.1,13","шт.",24,24.2,580.79999999999995,"Подрядчик","-","-","Материалы",null,"-",null,null,"-","-",null,"-","-",null,"-",{"$f":"НМЦ!$K$227","v":0},null,0,"В","-","-","-",null,{"$f":"IF(AND(S144=\"\",V144=\"\"),ROUND((AC144+AW144)*AJ144,2),ROUND(S144*V144*НМЦ!$K$212,2))","v":0},null,null,null,"-","-","-","-","-","-","-","-","-","-",0,null,0,0,2485.92,2.4804256315074795E-4,"-","-","-","-"]
[null,128,"5D57A968-2E2D-47A8-B7F4-6C635AF194C3","ВЛ 6 кВ на куст 3129.1 (габ.110 кВ) Приразломное м/р. Правдинский (КС00091309)","ЛС 04-01-02","509-3610","Полка кабельная оцинкованная К-1163ц . К-1163цУТ1,5","1000 шт.",2.8000000000000001E-2,19388.57,542.88,"Подрядчик","-","-","Материалы",null,"-",null,null,"-","-",null,"-","-",null,"-",{"$f":"НМЦ!$K$227","v":0},null,0,"В","-","-","-",null,{"$f":"IF(AND(S145=\"\",V145=\"\"),ROUND((AC145+AW145)*AJ145,2),ROUND(S145*V145*НМЦ!$K$212,2))","v":0},5.6899999999999999E-2,null,null,"-","-","-","-","-","-","-","-","-","-",0,null,0,0,2455.73,2.4503023573010647E-4,"-","-","-","-"]
[null,129,"5D57A968-2E2D-47A8-B7F4-6C635AF194C3","ВЛ 6 кВ на куст 3129.1 (габ.110 кВ) Приразломное м/р. Правдинский (КС00091309)","ЛС 04-01-01","102-8009","Доски дубовые II сорта","м3",0.24360000000000001,1893.34,{"$f":"ROUND(I146*J146,2)","v":461.22},"Подрядчик","-","-","Материалы",null,"-",null,null,"-","-",null,"-","-",null,"-",4.28,null,8103.5,"В","-","-","-",null,{"$f":"IF(AND(S146=\"\",V146=\"\"),ROUND((AC146+AW146)*AJ146,2),ROUND(S146*V146*НМЦ!$K$212,2))","v":461.09},5.6899999999999999E-2,null,null,"-","-","-","-","-","-","-","-","-","-",0,null,8564.59,2086.33,2329.54,2.3243912618354305E-4,"-","-","-","-"]
[null,130,"AEEAB128-A9D6-4DE1-ACE9-6CD791FCF82A","ВЛ 6 кВ на куст 3129.2 (габ. 6 кВ) Приразломное м/р. Правдинский (КС00091313)","ЛС 04-02-01","102-8009","Доски дубовые II сорта","м3",2.6100000000000002E-2,1893.34,49.42,"Подрядчик","-","-","Материалы",null,"-",null,null,"-","-",null,"-","-",null,"-",4.28,null,8103.5,"В","-","-","-",null,{"$f":"IF(AND(S147=\"\",V147=\"\"),ROUND((AC147+AW147)*AJ147,2),ROUND(S147*V147*НМЦ!$K$212,2))","v":461.09},5.6899999999999999E-2,null,null,"-","-","-","-","-","-","-","-","-","-",0,null,8564.59,223.54,2329.54,2.3243912618354305E-4,"-","-","-","-"]
[null,131,"5D57A968-2E2D-47A8-B7F4-6C635AF194C3","ВЛ 6 кВ на куст 3129.1 (габ.110 кВ) Приразломное м/р. Правдинский (КС00091309)","ЛС 04-01-01","101-1617","Сталь круглая углеродистая обыкновенного качества марки ВСт3пс5-1 диаметром 12 мм","т",5.3268000000000003E-2,6366.03,339.11,"Подрядчик","-","-","Материалы",null,"-",null,null,"-","-",null,"-","-",null,"-",{"$f":"НМЦ!$K$227","v":0},null,0,"В","-","-","-",null,{"$f":"IF(AND(S148=\"\",V148=\"\"),ROUND((AC148+AW148)*AJ148,2),ROUND(S148*V148*НМЦ!$K$212,2))","v":0},5.6899999999999999E-2,null,null,"-","-","-","-","-","-","-","-","-","-",0,null,0,0,2300.94,2.2958544734186215E-4,"-","-","-","-"]
[null,132,"AEEAB128-A9D6-4DE1-ACE9-6CD791FCF82A","ВЛ 6 кВ на куст 3129.2 (габ. 6 кВ) Приразломное м/р. Правдинский (КС00091313)","ЛС 04-02-01","101-1617","Сталь круглая углеродистая обыкновенного качества марки ВСт3пс5-1 диаметром 12 мм","т",2.6634000000000001E-2,6366.03,169.55,"Подрядчик","-","-","Материалы",null,"-",null,null,"-","-",null,"-","-",null,"-",{"$f":"НМЦ!$K$227","v":0},null,{"$f":"IF(AA149<>\"\",IF(AB149<>\"\",\"Ошибка\",ROUND(J149*AA149,2)),ROUND(AB149,2))","v":0},"В","-","-","-",null,{"$f":"IF(AND(S149=\"\",V149=\"\"),ROUND((AC149+AW149)*AJ149,2),ROUND(S149*V149*НМЦ!$K$212,2))","v":0},5.6899999999999999E-2,null,null,"-","-","-","-","-","-","-","-","-","-",{"$f":"IF(AND(S149=\"\",V149=\"\"),ROUND(AC149*AX149,2),ROUND((AC149+AH149+AI149+AK149+AL149)*AX149,2))","v":0},null,{"$f":"ROUND(AC149+AH149+AI149+AK149+AL149+AW149,2)","v":0},{"$f":"ROUND(I149*AY149,2)","v":0},2300.94,2.2958544734186215E-4,"-","-","-","-"]
[null,133,"5D57A968-2E2D-47A8-B7F4-6C635AF194C3","ВЛ 6 кВ на куст 3129.1 (габ.110 кВ) Приразломное м/р. Правдинский (КС00091309)","ЛС 04-01-02","509-3616","Стойка кабельная оцинкованная К-1150ц . К-1150цУТ1,5","1000 шт.",2.8000000000000001E-2,18096.009999999998,506.69,"Подрядчик","-","-","Материалы",null,"-",null,null,"-","-",null,"-","-",null,"-",{"$f":"НМЦ!$K$227","v":0},null,0,"В","-","-","-",null,{"$f":"IF(AND(S150=\"\",V150=\"\"),ROUND((AC150+AW150)*AJ150,2),ROUND(S150*V150*НМЦ!$K$212,2))","v":0},5.6899999999999999E-2,null,null,"-","-","-","-","-","-","-","-","-","-",0,null,0,0,2292.02,2.2869541883599524E-4,"-","-","-","-"]
[null,134,"5D57A968-2E2D-47A8-B7F4-6C635AF194C3","ВЛ 6 кВ на куст 3129.1 (габ.110 кВ) Приразломное м/р. Правдинский (КС00091309)","ЛС 04-01-01","502-0791","Соединители овальные марки СОАС-120-3","шт.",6,83.55,501.3,"Подрядчик","-","-","Материалы",null,"-",null,null,"-","-",null,"-","-",null,"-",{"$f":"НМЦ!$K$227","v":0},null,0,"В","-","-","-",null,{"$f":"IF(AND(S151=\"\",V151=\"\"),ROUND((AC151+AW151)*AJ151,2),ROUND(S151*V151*НМЦ!$K$212,2))","v":0},5.6899999999999999E-2,null,null,"-","-","-","-","-","-","-","-","-","-",0,null,0,0,2267.64,2.2626280729193298E-4,"-","-","-","-"]
[null,135,"5D57A968-2E2D-47A8-B7F4-6C635AF194C3","ВЛ 6 кВ на куст 3129.1 (габ.110 кВ) Приразломное м/р. Правдинский (КС00091309)","ЛС 04-01-01","101-1602","Ацетилен газообразный технический","м3",3.5453000000000001,62.08,220.09,"Подрядчик (от Заказчика)","-","-","Материалы",null,"-",null,null,"-","-",null,"-","-",null,"-",null,440.11,440.11,"В","-","-","-",null,{"$f":"IF(AND(S152=\"\",V152=\"\"),ROUND((AC152+AW152)*AJ152,2),ROUND(S152*V152*НМЦ!$K$212,2))","v":29.58},6.59E-2,null,null,"-","-","-","-","-","-","-","-","-","-",8.8000000000000007,0.02,478.49,1696.39,2189.5100000000002,2.1846707554715926E-4,"-","-","-","-"]
[null,136,"AEEAB128-A9D6-4DE1-ACE9-6CD791FCF82A","ВЛ 6 кВ на куст 3129.2 (габ. 6 кВ) Приразломное м/р. Правдинский (КС00091313)","ЛС 04-02-01","101-1602","Ацетилен газообразный технический","м3",1.0080800000000001,62.08,62.58,"Подрядчик (от Заказчика)","-","-","Материалы",null,"-",null,null,"-","-",null,"-","-",null,"-",null,440.11,440.11,"В","-","-","-",null,{"$f":"IF(AND(S153=\"\",V153=\"\"),ROUND((AC153+AW153)*AJ153,2),ROUND(S153*V153*НМЦ!$K$212,2))","v":29.58},6.59E-2,null,null,"-","-","-","-","-","-","-","-","-","-",8.8000000000000007,0.02,478.49,482.36,2189.5100000000002,2.1846707554715926E-4,"-","-","-","-"]
[null,137,"5D57A968-2E2D-47A8-B7F4-6C635AF194C3","ВЛ 6 кВ на куст 3129.1 (габ.110 кВ) Приразломное м/р. Правдинский (КС00091309)","ЛС 04-01-02","101-1602","Ацетилен газообразный технический","м3",2.248E-2,62.08,1.4,"Подрядчик (от Заказчика)","-","-","Материалы",null,"-",null,null,"-","-",null,"-","-",null,"-",null,440.11,440.11,"В","-","-","-",null,{"$f":"IF(AND(S154=\"\",V154=\"\"),ROUND((AC154+AW154)*AJ154,2),ROUND(S154*V154*НМЦ!$K$212,2))","v":29.58},6.59E-2,null,null,"-","-","-","-","-","-","-","-","-","-",8.8000000000000007,0.02,478.49,10.76,2189.5100000000002,2.1846707554715926E-4,"-","-","-","-"]
[null,138,"5D57A968-2E2D-47A8-B7F4-6C635AF194C3","ВЛ 6 кВ на куст 3129.1 (габ.110 кВ) Приразломное м/р. Правдинский (КС00091309)","ЛС 04-01-01","Цена завода","Шнек буровой диаметром 300мм ШБ 300х114/1400/200-Т90, цена 10860:3,61.1,13","шт.",0.13524,3399.39,459.73,"Подрядчик","-","-","Материалы",null,"-",null,null,"-","-",null,"-","-",null,"-",{"$f":"НМЦ!$K$227","v":0},null,0,"В","-","-","-",null,{"$f":"IF(AND(S155=\"\",V155=\"\"),ROUND((AC155+AW155)*AJ155,2),ROUND(S155*V155*НМЦ!$K$212,2))","v":0},null,null,null,"-","-","-","-","-","-","-","-","-","-",0,null,0,0,1967.66,1.9633110872803659E-4,"-","-","-","-"]
[null,139,"AEEAB128-A9D6-4DE1-ACE9-6CD791FCF82A","ВЛ 6 кВ на куст 3129.2 (габ. 6 кВ) Приразломное м/р. Правдинский (КС00091313)","ЛС 04-02-01","Цена завода","Зажим ответвительный прессуемый ОА-120Т-2, цена 220,43:4,03.1,13","шт.",7,61.81,432.67,"Подрядчик","-","-","Материалы",null,"-",null,null,"-","-",null,"-","-",null,"-",{"$f":"НМЦ!$K$227","v":0},null,0,"В","-","-","-",null,{"$f":"IF(AND(S156=\"\",V156=\"\"),ROUND((AC156+AW156)*AJ156,2),ROUND(S156*V156*НМЦ!$K$212,2))","v":0},null,null,null,"-","-","-","-","-","-","-","-","-","-",0,null,0,0,1851.85,1.8477570499883847E-4,"-","-","-","-"]
[null,140,"5D57A968-2E2D-47A8-B7F4-6C635AF194C3","ВЛ 6 кВ на куст 3129.1 (габ.110 кВ) Приразломное м/р. Правдинский (КС00091309)","ЛС 04-01-01","Цена завода","Зажим натяжной НКК-1-1Б, цена 185,44:4,03.1,13","шт.",8,52,416,"Подрядчик","-","-","Материалы",null,"-",null,null,"-","-",null,"-","-",null,"-",{"$f":"НМЦ!$K$227","v":0},null,0,"В","-","-","-",null,{"$f":"IF(AND(S157=\"\",V157=\"\"),ROUND((AC157+AW157)*AJ157,2),ROUND(S157*V157*НМЦ!$K$212,2))","v":0},null,null,null,"-","-","-","-","-","-","-","-","-","-",0,null,0,0,1780.48,1.7765447916209842E-4,"-","-","-","-"]
[null,141,"5D57A968-2E2D-47A8-B7F4-6C635AF194C3","ВЛ 6 кВ на куст 3129.1 (габ.110 кВ) Приразломное м/р. Правдинский (КС00091309)","ЛС 04-01-01","101-2468","Растворитель марки Р-5","т",1.5354E-2,14863,228.21,"Подрядчик","-","-","Материалы",null,"-",null,null,"-","-",null,"-","-",null,"-",4.28,null,63613.64,"В","-","-","-",null,{"$f":"IF(AND(S158=\"\",V158=\"\"),ROUND((AC158+AW158)*AJ158,2),ROUND(S158*V158*НМЦ!$K$212,2))","v":3619.62},5.6899999999999999E-2,null,null,"-","-","-","-","-","-","-","-","-","-",0,null,67233.259999999995,1032.3,1701.79,1.698028711882568E-4,"-","-","-","-"]
[null,142,"AEEAB128-A9D6-4DE1-ACE9-6CD791FCF82A","ВЛ 6 кВ на куст 3129.2 (габ. 6 кВ) Приразломное м/р. Правдинский (КС00091313)","ЛС 04-02-01","101-2468","Растворитель марки Р-5","т",9.7439999999999992E-3,14863,144.83000000000001,"Подрядчик","-","-","Материалы",null,"-",null,null,"-","-",null,"-","-",null,"-",4.28,null,63613.64,"В","-","-","-",null,{"$f":"IF(AND(S159=\"\",V159=\"\"),ROUND((AC159+AW159)*AJ159,2),ROUND(S159*V159*НМЦ!$K$212,2))","v":3619.62},5.6899999999999999E-2,null,null,"-","-","-","-","-","-","-","-","-","-",0,null,67233.259999999995,655.12,1701.79,1.698028711882568E-4,"-","-","-","-"]
[null,143,"AEEAB128-A9D6-4DE1-ACE9-6CD791FCF82A","ВЛ 6 кВ на куст 3129.2 (габ. 6 кВ) Приразломное м/р. Правдинский (КС00091313)","ЛС 04-02-01","101-1619","Сталь круглая углеродистая обыкновенного качества марки ВСт3пс5-1 диаметром 18 мм. Круг В18 ГОСТ 2590-2006","т",4.7952000000000002E-2,6376.37,305.76,"Подрядчик","-","-","Материалы",null,"-",null,null,"-","-",null,"-","-",null,"-",{"$f":"НМЦ!$K$227","v":0},null,0,"В","-","-","-",null,{"$f":"IF(AND(S160=\"\",V160=\"\"),ROUND((AC160+AW160)*AJ160,2),ROUND(S160*V160*НМЦ!$K$212,2))","v":0},5.6899999999999999E-2,null,null,"-","-","-","-","-","-","-","-","-","-",0,null,0,0,1383.11,1.3800530568941518E-4,"-","-","-","-"]
[null,144,"AEEAB128-A9D6-4DE1-ACE9-6CD791FCF82A","ВЛ 6 кВ на куст 3129.2 (габ. 6 кВ) Приразломное м/р. Правдинский (КС00091313)","ЛС 04-02-01","Цена завода","Зажим аппаратный А1А-95-2АТ(П), цена 83,03:4,03.1,13","шт.",13,23.28,302.64,"Подрядчик","-","-","Материалы",null,"-",null,null,"-","-",null,"-","-",null,"-",{"$f":"НМЦ!$K$227","v":0},null,0,"В","-","-","-",null,{"$f":"IF(AND(S161=\"\",V161=\"\"),ROUND((AC161+AW161)*AJ161,2),ROUND(S161*V161*НМЦ!$K$212,2))","v":0},null,null,null,"-","-","-","-","-","-","-","-","-","-",0,null,0,0,1295.32,1.2924570899322055E-4,"-","-","-","-"]
[null,145,"5D57A968-2E2D-47A8-B7F4-6C635AF194C3","ВЛ 6 кВ на куст 3129.1 (габ.110 кВ) Приразломное м/р. Правдинский (КС00091309)","ЛС 04-01-01","509-1935","Зажим поддерживающий ПГН-2-6","шт.",8,29.6,236.8,"Подрядчик","-","-","Материалы",null,"-",null,null,"-","-",null,"-","-",null,"-",{"$f":"НМЦ!$K$227","v":0},null,0,"В","-","-","-",null,{"$f":"IF(AND(S162=\"\",V162=\"\"),ROUND((AC162+AW162)*AJ162,2),ROUND(S162*V162*НМЦ!$K$212,2))","v":0},5.6899999999999999E-2,null,null,"-","-","-","-","-","-","-","-","-","-",0,null,0,0,1071.2,1.0688324388841202E-4,"-","-","-","-"]
[null,146,"AEEAB128-A9D6-4DE1-ACE9-6CD791FCF82A","ВЛ 6 кВ на куст 3129.2 (габ. 6 кВ) Приразломное м/р. Правдинский (КС00091313)","ЛС 04-02-01","113-0077","Ксилол нефтяной марки А","т",4.28E-3,8496.2800000000007,36.36,"Подрядчик (от Заказчика)","-","-","Материалы",null,"-",null,null,"-","-",null,"-","-",null,"-",null,158216.29999999999,158216.29999999999,"В","-","-","-",null,{"$f":"IF(AND(S163=\"\",V163=\"\"),ROUND((AC163+AW163)*AJ163,2),ROUND(S163*V163*НМЦ!$K$212,2))","v":10634.98},6.59E-2,null,null,"-","-","-","-","-","-","-","-","-","-",3164.33,0.02,172015.61,736.23,1016.27,1.0140238449073606E-4,"-","-","-","-"]
[null,147,"5D57A968-2E2D-47A8-B7F4-6C635AF194C3","ВЛ 6 кВ на куст 3129.1 (габ.110 кВ) Приразломное м/р. Правдинский (КС00091309)","ЛС 04-01-01","113-0077","Ксилол нефтяной марки А","т",1.6280000000000001E-3,8496.2800000000007,13.83,"Подрядчик (от Заказчика)","-","-","Материалы",null,"-",null,null,"-","-",null,"-","-",null,"-",null,158216.29999999999,158216.29999999999,"В","-","-","-",null,{"$f":"IF(AND(S164=\"\",V164=\"\"),ROUND((AC164+AW164)*AJ164,2),ROUND(S164*V164*НМЦ!$K$212,2))","v":10634.98},6.59E-2,null,null,"-","-","-","-","-","-","-","-","-","-",3164.33,0.02,172015.61,280.04000000000002,1016.27,1.0140238449073606E-4,"-","-","-","-"]
[null,148,"5D57A968-2E2D-47A8-B7F4-6C635AF194C3","ВЛ 6 кВ на куст 3129.1 (габ.110 кВ) Приразломное м/р. Правдинский (КС00091309)","ЛС 04-01-01","101-0388","Краски масляные земляные марки МА-0115 мумия, сурик железный","т",6.4779E-3,20274.98,131.34,"Подрядчик","-","-","Материалы",null,"-",null,null,"-","-",null,"-","-",null,"-",{"$f":"НМЦ!$K$227","v":0},null,0,"В","-","-","-",null,{"$f":"IF(AND(S165=\"\",V165=\"\"),ROUND((AC165+AW165)*AJ165,2),ROUND(S165*V165*НМЦ!$K$212,2))","v":0},5.6899999999999999E-2,null,null,"-","-","-","-","-","-","-","-","-","-",0,null,0,0,738.12,7.3648861070682106E-5,"-","-","-","-"]
[null,149,"AEEAB128-A9D6-4DE1-ACE9-6CD791FCF82A","ВЛ 6 кВ на куст 3129.2 (габ. 6 кВ) Приразломное м/р. Правдинский (КС00091313)","ЛС 04-02-01","101-0388","Краски масляные земляные марки МА-0115 мумия, сурик железный","т",1.5701000000000001E-3,20274.98,31.83,"Подрядчик","-","-","Материалы",null,"-",null,null,"-","-",null,"-","-",null,"-",{"$f":"НМЦ!$K$227","v":0},null,0,"В","-","-","-",null,{"$f":"IF(AND(S166=\"\",V166=\"\"),ROUND((AC166+AW166)*AJ166,2),ROUND(S166*V166*НМЦ!$K$212,2))","v":0},5.6899999999999999E-2,null,null,"-","-","-","-","-","-","-","-","-","-",0,null,0,0,738.12,7.3648861070682106E-5,"-","-","-","-"]
[null,150,"5D57A968-2E2D-47A8-B7F4-6C635AF194C3","ВЛ 6 кВ на куст 3129.1 (габ.110 кВ) Приразломное м/р. Правдинский (КС00091309)","ЛС 04-01-01","101-0816","Проволока светлая диаметром 1,1 мм","т",1.4999999999999999E-2,10836.68,162.55000000000001,"Подрядчик","-","-","Материалы",null,"-",null,null,"-","-",null,"-","-",null,"-",{"$f":"НМЦ!$K$227","v":0},null,0,"В","-","-","-",null,{"$f":"IF(AND(S167=\"\",V167=\"\"),ROUND((AC167+AW167)*AJ167,2),ROUND(S167*V167*НМЦ!$K$212,2))","v":0},5.6899999999999999E-2,null,null,"-","-","-","-","-","-","-","-","-","-",0,null,0,0,735.3,7.3367484345733148E-5,"-","-","-","-"]
[null,151,"AEEAB128-A9D6-4DE1-ACE9-6CD791FCF82A","ВЛ 6 кВ на куст 3129.2 (габ. 6 кВ) Приразломное м/р. Правдинский (КС00091313)","ЛС 04-02-01","101-1292","Уайт-спирит","т",8.0286000000000003E-3,12417.07,99.69,"Подрядчик","-","-","Материалы",null,"-",null,null,"-","-",null,"-","-",null,"-",4.28,null,53145.06,"В","-","-","-",null,{"$f":"IF(AND(S168=\"\",V168=\"\"),ROUND((AC168+AW168)*AJ168,2),ROUND(S168*V168*НМЦ!$K$212,2))","v":3023.95},5.6899999999999999E-2,null,null,"-","-","-","-","-","-","-","-","-","-",0,null,56169.01,450.96,716.08,7.1449732340939207E-5,"-","-","-","-"]
[null,152,"5D57A968-2E2D-47A8-B7F4-6C635AF194C3","ВЛ 6 кВ на куст 3129.1 (габ.110 кВ) Приразломное м/р. Правдинский (КС00091309)","ЛС 04-01-01","101-1292","Уайт-спирит","т",3.5400000000000002E-3,12417.07,43.96,"Подрядчик","-","-","Материалы",null,"-",null,null,"-","-",null,"-","-",null,"-",4.28,null,53145.06,"В","-","-","-",null,{"$f":"IF(AND(S169=\"\",V169=\"\"),ROUND((AC169+AW169)*AJ169,2),ROUND(S169*V169*НМЦ!$K$212,2))","v":3023.95},5.6899999999999999E-2,null,null,"-","-","-","-","-","-","-","-","-","-",0,null,56169.01,198.84,716.08,7.1449732340939207E-5,"-","-","-","-"]
[null,153,"5D57A968-2E2D-47A8-B7F4-6C635AF194C3","ВЛ 6 кВ на куст 3129.1 (габ.110 кВ) Приразломное м/р. Правдинский (КС00091309)","ЛС 04-01-02","101-1292","Уайт-спирит","т",1.0724E-3,12417.07,13.32,"Подрядчик","-","-","Материалы",null,"-",null,null,"-","-",null,"-","-",null,"-",4.28,null,53145.06,"В","-","-","-",null,{"$f":"IF(AND(S170=\"\",V170=\"\"),ROUND((AC170+AW170)*AJ170,2),ROUND(S170*V170*НМЦ!$K$212,2))","v":3023.95},5.6899999999999999E-2,null,null,"-","-","-","-","-","-","-","-","-","-",0,null,56169.01,60.24,716.08,7.1449732340939207E-5,"-","-","-","-"]
[null,154,"5D57A968-2E2D-47A8-B7F4-6C635AF194C3","ВЛ 6 кВ на куст 3129.1 (габ.110 кВ) Приразломное м/р. Правдинский (КС00091309)","ЛС 04-01-01","509-2949","Серьга СР-7-16","шт.",9,15.65,140.85,"Подрядчик","-","-","Материалы",null,"-",null,null,"-","-",null,"-","-",null,"-",{"$f":"НМЦ!$K$227","v":0},null,0,"В","-","-","-",null,{"$f":"IF(AND(S171=\"\",V171=\"\"),ROUND((AC171+AW171)*AJ171,2),ROUND(S171*V171*НМЦ!$K$212,2))","v":0},5.6899999999999999E-2,null,null,"-","-","-","-","-","-","-","-","-","-",0,null,0,0,637.11,6.3570186252563641E-5,"-","-","-","-"]
[null,155,"5D57A968-2E2D-47A8-B7F4-6C635AF194C3","ВЛ 6 кВ на куст 3129.1 (габ.110 кВ) Приразломное м/р. Правдинский (КС00091309)","ЛС 04-01-02","506-1362","Припои оловянно-свинцовые бессурьмянистые марки ПОС30","кг",1.1000000000000001,113.68,125.05,"Подрядчик","-","-","Материалы",null,"-",null,null,"-","-",null,"-","-",null,"-",{"$f":"НМЦ!$K$227","v":0},null,0,"В","-","-","-",null,{"$f":"IF(AND(S172=\"\",V172=\"\"),ROUND((AC172+AW172)*AJ172,2),ROUND(S172*V172*НМЦ!$K$212,2))","v":0},5.6899999999999999E-2,null,null,"-","-","-","-","-","-","-","-","-","-",0,null,0,0,565.65,5.643998030758052E-5,"-","-","-","-"]
[null,156,"5D57A968-2E2D-47A8-B7F4-6C635AF194C3","ВЛ 6 кВ на куст 3129.1 (габ.110 кВ) Приразломное м/р. Правдинский (КС00091309)","ЛС 04-01-02","101-0865","Роли свинцовые марки С1 толщиной 1,0 мм","т",2.728E-3,43143.360000000001,117.7,"Подрядчик","-","-","Материалы",null,"-",null,null,"-","-",null,"-","-",null,"-",{"$f":"НМЦ!$K$227","v":0},null,0,"В","-","-","-",null,{"$f":"IF(AND(S173=\"\",V173=\"\"),ROUND((AC173+AW173)*AJ173,2),ROUND(S173*V173*НМЦ!$K$212,2))","v":0},5.6899999999999999E-2,null,null,"-","-","-","-","-","-","-","-","-","-",0,null,0,0,532.4,5.3122329206675271E-5,"-","-","-","-"]
[null,157,"5D57A968-2E2D-47A8-B7F4-6C635AF194C3","ВЛ 6 кВ на куст 3129.1 (габ.110 кВ) Приразломное м/р. Правдинский (КС00091309)","ЛС 04-01-01","101-2278","Пропан-бутан, смесь техническая","кг",7.7765598000000002,10.19,79.239999999999995,"Подрядчик","-","-","Материалы",null,"-",null,null,"-","-",null,"-","-",null,"-",{"$f":"НМЦ!$K$227","v":0},null,0,"В","-","-","-",null,{"$f":"IF(AND(S174=\"\",V174=\"\"),ROUND((AC174+AW174)*AJ174,2),ROUND(S174*V174*НМЦ!$K$212,2))","v":0},5.6899999999999999E-2,null,null,"-","-","-","-","-","-","-","-","-","-",0,null,0,0,529.73,5.2855919328798073E-5,"-","-","-","-"]
[null,158,"AEEAB128-A9D6-4DE1-ACE9-6CD791FCF82A","ВЛ 6 кВ на куст 3129.2 (габ. 6 кВ) Приразломное м/р. Правдинский (КС00091313)","ЛС 04-02-01","101-2278","Пропан-бутан, смесь техническая","кг",2.8078506000000001,10.19,28.61,"Подрядчик","-","-","Материалы",null,"-",null,null,"-","-",null,"-","-",null,"-",{"$f":"НМЦ!$K$227","v":0},null,0,"В","-","-","-",null,{"$f":"IF(AND(S175=\"\",V175=\"\"),ROUND((AC175+AW175)*AJ175,2),ROUND(S175*V175*НМЦ!$K$212,2))","v":0},5.6899999999999999E-2,null,null,"-","-","-","-","-","-","-","-","-","-",0,null,0,0,529.73,5.2855919328798073E-5,"-","-","-","-"]
[null,159,"5D57A968-2E2D-47A8-B7F4-6C635AF194C3","ВЛ 6 кВ на куст 3129.1 (габ.110 кВ) Приразломное м/р. Правдинский (КС00091309)","ЛС 04-01-02","101-2278","Пропан-бутан, смесь техническая","кг",0.90911900000000001,10.19,9.26,"Подрядчик","-","-","Материалы",null,"-",null,null,"-","-",null,"-","-",null,"-",{"$f":"НМЦ!$K$227","v":0},null,0,"В","-","-","-",null,{"$f":"IF(AND(S176=\"\",V176=\"\"),ROUND((AC176+AW176)*AJ176,2),ROUND(S176*V176*НМЦ!$K$212,2))","v":0},5.6899999999999999E-2,null,null,"-","-","-","-","-","-","-","-","-","-",0,null,0,0,529.73,5.2855919328798073E-5,"-","-","-","-"]
[null,160,"5D57A968-2E2D-47A8-B7F4-6C635AF194C3","ВЛ 6 кВ на куст 3129.1 (габ.110 кВ) Приразломное м/р. Правдинский (КС00091309)","ЛС 04-01-01","Цена завода","Долота II ДЛШ-320МС Т90, цена 13630:3,61.1,13","шт.",2.8223999999999999E-2,4266.45,120.42,"Подрядчик","-","-","Материалы",null,"-",null,null,"-","-",null,"-","-",null,"-",{"$f":"НМЦ!$K$227","v":0},null,0,"В","-","-","-",null,{"$f":"IF(AND(S177=\"\",V177=\"\"),ROUND((AC177+AW177)*AJ177,2),ROUND(S177*V177*НМЦ!$K$212,2))","v":0},null,null,null,"-","-","-","-","-","-","-","-","-","-",0,null,0,0,515.38,5.1424090958933705E-5,"-","-","-","-"]
[null,161,"AEEAB128-A9D6-4DE1-ACE9-6CD791FCF82A","ВЛ 6 кВ на куст 3129.2 (габ. 6 кВ) Приразломное м/р. Правдинский (КС00091313)","ЛС 04-02-01","113-0263","Эмаль кремнийорганическая КО-174","т",5.0920000000000002E-3,55378.92,281.99,"Подрядчик","-","-","Материалы",null,"-",null,null,"-","-",null,"-","-",null,"-",null,86856.05,86856.05,"В","-","-","-",null,{"$f":"IF(AND(S178=\"\",V178=\"\"),ROUND((AC178+AW178)*AJ178,2),ROUND(S178*V178*НМЦ!$K$212,2))","v":5838.29},6.59E-2,null,null,"-","-","-","-","-","-","-","-","-","-",1737.12,0.02,94431.46,480.84,480.84,4.7977724973211378E-5,"-","-","-","-"]
[null,162,"5D57A968-2E2D-47A8-B7F4-6C635AF194C3","ВЛ 6 кВ на куст 3129.1 (габ.110 кВ) Приразломное м/р. Правдинский (КС00091309)","ЛС 04-01-02","509-0104","Скобы двухлапковые. Дополнительно к учтенным в расценке","10 шт.",4.3680000000000003,17.28,75.48,"Подрядчик","-","-","Материалы",null,"-",null,null,"-","-",null,"-","-",null,"-",{"$f":"НМЦ!$K$227","v":0},null,0,"В","-","-","-",null,{"$f":"IF(AND(S179=\"\",V179=\"\"),ROUND((AC179+AW179)*AJ179,2),ROUND(S179*V179*НМЦ!$K$212,2))","v":0},5.6899999999999999E-2,null,null,"-","-","-","-","-","-","-","-","-","-",0,null,0,0,341.45,3.4069532884333721E-5,"-","-","-","-"]
[null,163,"AEEAB128-A9D6-4DE1-ACE9-6CD791FCF82A","ВЛ 6 кВ на куст 3129.2 (габ. 6 кВ) Приразломное м/р. Правдинский (КС00091313)","ЛС 04-02-01","101-2349","Смазка ЗЭС","кг",1.839,24.06,44.25,"Подрядчик","-","-","Материалы",null,"-",null,null,"-","-",null,"-","-",null,"-",{"$f":"НМЦ!$K$227","v":0},null,0,"В","-","-","-",null,{"$f":"IF(AND(S180=\"\",V180=\"\"),ROUND((AC180+AW180)*AJ180,2),ROUND(S180*V180*НМЦ!$K$212,2))","v":0},5.6899999999999999E-2,null,null,"-","-","-","-","-","-","-","-","-","-",0,null,0,0,303.77999999999997,3.0310858689714151E-5,"-","-","-","-"]
[null,164,"5D57A968-2E2D-47A8-B7F4-6C635AF194C3","ВЛ 6 кВ на куст 3129.1 (габ.110 кВ) Приразломное м/р. Правдинский (КС00091309)","ЛС 04-01-01","101-2349","Смазка ЗЭС","кг",0.95199999999999996,24.06,22.91,"Подрядчик","-","-","Материалы",null,"-",null,null,"-","-",null,"-","-",null,"-",{"$f":"НМЦ!$K$227","v":0},null,{"$f":"IF(AA181<>\"\",IF(AB181<>\"\",\"Ошибка\",ROUND(J181*AA181,2)),ROUND(AB181,2))","v":0},"В","-","-","-",null,{"$f":"IF(AND(S181=\"\",V181=\"\"),ROUND((AC181+AW181)*AJ181,2),ROUND(S181*V181*НМЦ!$K$212,2))","v":0},5.6899999999999999E-2,null,null,"-","-","-","-","-","-","-","-","-","-",{"$f":"IF(AND(S181=\"\",V181=\"\"),ROUND(AC181*AX181,2),ROUND((AC181+AH181+AI181+AK181+AL181)*AX181,2))","v":0},null,{"$f":"ROUND(AC181+AH181+AI181+AK181+AL181+AW181,2)","v":0},{"$f":"ROUND(I181*AY181,2)","v":0},303.77999999999997,3.0310858689714151E-5,"-","-","-","-"]
[null,165,"5D57A968-2E2D-47A8-B7F4-6C635AF194C3","ВЛ 6 кВ на куст 3129.1 (габ.110 кВ) Приразломное м/р. Правдинский (КС00091309)","ЛС 04-01-02","101-3911","Дюбели для пристрелки стальные","10 шт.",9.1660000000000004,6.13,56.19,"Подрядчик","-","-","Материалы",null,"-",null,null,"-","-",null,"-","-",null,"-",{"$f":"НМЦ!$K$227","v":0},null,0,"В","-","-","-",null,{"$f":"IF(AND(S182=\"\",V182=\"\"),ROUND((AC182+AW182)*AJ182,2),ROUND(S182*V182*НМЦ!$K$212,2))","v":0},5.6899999999999999E-2,null,null,"-","-","-","-","-","-","-","-","-","-",0,null,0,0,254.17,2.5360823468183048E-5,"-","-","-","-"]
[null,166,"AEEAB128-A9D6-4DE1-ACE9-6CD791FCF82A","ВЛ 6 кВ на куст 3129.2 (габ. 6 кВ) Приразломное м/р. Правдинский (КС00091313)","ЛС 04-02-01","101-1515","Электроды диаметром 4 мм Э46","т",2.0763000000000001E-3,11523.77,23.93,"Подрядчик","-","-","Материалы",null,"-",null,null,"-","-",null,"-","-",null,"-",{"$f":"НМЦ!$K$227","v":0},null,0,"В","-","-","-",null,{"$f":"IF(AND(S183=\"\",V183=\"\"),ROUND((AC183+AW183)*AJ183,2),ROUND(S183*V183*НМЦ!$K$212,2))","v":0},5.6899999999999999E-2,null,null,"-","-","-","-","-","-","-","-","-","-",0,null,0,0,250.24,2.4968692074903122E-5,"-","-","-","-"]
[null,167,"5D57A968-2E2D-47A8-B7F4-6C635AF194C3","ВЛ 6 кВ на куст 3129.1 (габ.110 кВ) Приразломное м/р. Правдинский (КС00091309)","ЛС 04-01-02","101-1515","Электроды диаметром 4 мм Э46","т",1.4498E-3,11523.77,16.71,"Подрядчик","-","-","Материалы",null,"-",null,null,"-","-",null,"-","-",null,"-",{"$f":"НМЦ!$K$227","v":0},null,0,"В","-","-","-",null,{"$f":"IF(AND(S184=\"\",V184=\"\"),ROUND((AC184+AW184)*AJ184,2),ROUND(S184*V184*НМЦ!$K$212,2))","v":0},5.6899999999999999E-2,null,null,"-","-","-","-","-","-","-","-","-","-",0,null,0,0,250.24,2.4968692074903122E-5,"-","-","-","-"]
[null,168,"5D57A968-2E2D-47A8-B7F4-6C635AF194C3","ВЛ 6 кВ на куст 3129.1 (габ.110 кВ) Приразломное м/р. Правдинский (КС00091309)","ЛС 04-01-01","101-1515","Электроды диаметром 4 мм Э46","т",1.2742999999999999E-3,11523.77,14.68,"Подрядчик","-","-","Материалы",null,"-",null,null,"-","-",null,"-","-",null,"-",{"$f":"НМЦ!$K$227","v":0},null,0,"В","-","-","-",null,{"$f":"IF(AND(S185=\"\",V185=\"\"),ROUND((AC185+AW185)*AJ185,2),ROUND(S185*V185*НМЦ!$K$212,2))","v":0},5.6899999999999999E-2,null,null,"-","-","-","-","-","-","-","-","-","-",0,null,0,0,250.24,2.4968692074903122E-5,"-","-","-","-"]
[null,169,"5D57A968-2E2D-47A8-B7F4-6C635AF194C3","ВЛ 6 кВ на куст 3129.1 (габ.110 кВ) Приразломное м/р. Правдинский (КС00091309)","ЛС 04-01-02","101-0069","Бензин авиационный Б-70","т",3.2000000000000002E-3,6065.37,19.41,"Подрядчик (от Заказчика)","-","-","Материалы",null,"-",null,null,"-","-",null,"-","-",null,"-",null,69620,69620,"В","-","-","-",null,{"$f":"IF(AND(S186=\"\",V186=\"\"),ROUND((AC186+AW186)*AJ186,2),ROUND(S186*V186*НМЦ!$K$212,2))","v":4679.72},6.59E-2,null,null,"-","-","-","-","-","-","-","-","-","-",1392.4,0.02,75692.12,242.21,242.21,2.4167466861661944E-5,"-","-","-","-"]
[null,170,"5D57A968-2E2D-47A8-B7F4-6C635AF194C3","ВЛ 6 кВ на куст 3129.1 (габ.110 кВ) Приразломное м/р. Правдинский (КС00091309)","ЛС 04-01-02","509-1519","Скоба У1078","шт.",5.0599999999999996,10.31,52.17,"Подрядчик","-","-","Материалы",null,"-",null,null,"-","-",null,"-","-",null,"-",{"$f":"НМЦ!$K$227","v":0},null,0,"В","-","-","-",null,{"$f":"IF(AND(S187=\"\",V187=\"\"),ROUND((AC187+AW187)*AJ187,2),ROUND(S187*V187*НМЦ!$K$212,2))","v":0},5.6899999999999999E-2,null,null,"-","-","-","-","-","-","-","-","-","-",0,null,0,0,236,2.3547839392891369E-5,"-","-","-","-"]
[null,171,"5D57A968-2E2D-47A8-B7F4-6C635AF194C3","ВЛ 6 кВ на куст 3129.1 (габ.110 кВ) Приразломное м/р. Правдинский (КС00091309)","ЛС 04-01-02","101-1924","Электроды диаметром 4 мм Э42А","кг",4.1768000000000001,11.33,47.32,"Подрядчик","-","-","Материалы",null,"-",null,null,"-","-",null,"-","-",null,"-",{"$f":"НМЦ!$K$227","v":0},null,0,"В","-","-","-",null,{"$f":"IF(AND(S188=\"\",V188=\"\"),ROUND((AC188+AW188)*AJ188,2),ROUND(S188*V188*НМЦ!$K$212,2))","v":0},5.6899999999999999E-2,null,null,"-","-","-","-","-","-","-","-","-","-",0,null,0,0,214.06,2.1358688561196299E-5,"-","-","-","-"]
[null,172,"AEEAB128-A9D6-4DE1-ACE9-6CD791FCF82A","ВЛ 6 кВ на куст 3129.2 (габ. 6 кВ) Приразломное м/р. Правдинский (КС00091313)","ЛС 04-02-01","101-1019","Швеллеры № 40 из стали марки Ст0","т",3.3722000000000001E-3,5988.69,20.2,"Подрядчик","-","-","Материалы",null,"-",null,null,"-","-",null,"-","-",null,"-",{"$f":"НМЦ!$K$227","v":0},null,0,"В","-","-","-",null,{"$f":"IF(AND(S189=\"\",V189=\"\"),ROUND((AC189+AW189)*AJ189,2),ROUND(S189*V189*НМЦ!$K$212,2))","v":0},5.6899999999999999E-2,null,null,"-","-","-","-","-","-","-","-","-","-",0,null,0,0,211.88,2.1141170383753489E-5,"-","-","-","-"]
[null,173,"5D57A968-2E2D-47A8-B7F4-6C635AF194C3","ВЛ 6 кВ на куст 3129.1 (габ.110 кВ) Приразломное м/р. Правдинский (КС00091309)","ЛС 04-01-02","101-1019","Швеллеры № 40 из стали марки Ст0","т",2.3533E-3,5988.69,14.09,"Подрядчик","-","-","Материалы",null,"-",null,null,"-","-",null,"-","-",null,"-",{"$f":"НМЦ!$K$227","v":0},null,0,"В","-","-","-",null,{"$f":"IF(AND(S190=\"\",V190=\"\"),ROUND((AC190+AW190)*AJ190,2),ROUND(S190*V190*НМЦ!$K$212,2))","v":0},5.6899999999999999E-2,null,null,"-","-","-","-","-","-","-","-","-","-",0,null,0,0,211.88,2.1141170383753489E-5,"-","-","-","-"]
[null,174,"5D57A968-2E2D-47A8-B7F4-6C635AF194C3","ВЛ 6 кВ на куст 3129.1 (габ.110 кВ) Приразломное м/р. Правдинский (КС00091309)","ЛС 04-01-01","101-1019","Швеллеры № 40 из стали марки Ст0","т",2.0958999999999999E-3,5988.69,12.55,"Подрядчик","-","-","Материалы",null,"-",null,null,"-","-",null,"-","-",null,"-",{"$f":"НМЦ!$K$227","v":0},null,0,"В","-","-","-",null,{"$f":"IF(AND(S191=\"\",V191=\"\"),ROUND((AC191+AW191)*AJ191,2),ROUND(S191*V191*НМЦ!$K$212,2))","v":0},5.6899999999999999E-2,null,null,"-","-","-","-","-","-","-","-","-","-",0,null,0,0,211.88,2.1141170383753489E-5,"-","-","-","-"]
[null,175,"5D57A968-2E2D-47A8-B7F4-6C635AF194C3","ВЛ 6 кВ на куст 3129.1 (габ.110 кВ) Приразломное м/р. Правдинский (КС00091309)","ЛС 04-01-02","113-1786","Лак битумный БТ-123","т",3.4228000000000001E-3,13074.07,44.75,"Подрядчик","-","-","Материалы",null,"-",null,null,"-","-",null,"-","-",null,"-",{"$f":"НМЦ!$K$227","v":0},null,0,"В","-","-","-",null,{"$f":"IF(AND(S192=\"\",V192=\"\"),ROUND((AC192+AW192)*AJ192,2),ROUND(S192*V192*НМЦ!$K$212,2))","v":0},5.6899999999999999E-2,null,null,"-","-","-","-","-","-","-","-","-","-",0,null,0,0,202.43,2.0198259018233052E-5,"-","-","-","-"]
[null,176,"5D57A968-2E2D-47A8-B7F4-6C635AF194C3","ВЛ 6 кВ на куст 3129.1 (габ.110 кВ) Приразломное м/р. Правдинский (КС00091309)","ЛС 04-01-02","101-1699","Патроны для пристрелки","10 шт.",9.1660000000000004,3.99,36.57,"Подрядчик","-","-","Материалы",null,"-",null,null,"-","-",null,"-","-",null,"-",{"$f":"НМЦ!$K$227","v":0},null,0,"В","-","-","-",null,{"$f":"IF(AND(S193=\"\",V193=\"\"),ROUND((AC193+AW193)*AJ193,2),ROUND(S193*V193*НМЦ!$K$212,2))","v":0},5.6899999999999999E-2,null,null,"-","-","-","-","-","-","-","-","-","-",0,null,0,0,165.45,1.6508432320143546E-5,"-","-","-","-"]
[null,177,"5D57A968-2E2D-47A8-B7F4-6C635AF194C3","ВЛ 6 кВ на куст 3129.1 (габ.110 кВ) Приразломное м/р. Правдинский (КС00091309)","ЛС 04-01-02","101-1481","Шурупы с полукруглой головкой 4x40 мм","т",2.728E-3,13325.92,36.35,"Подрядчик","-","-","Материалы",null,"-",null,null,"-","-",null,"-","-",null,"-",{"$f":"НМЦ!$K$227","v":0},null,0,"В","-","-","-",null,{"$f":"IF(AND(S194=\"\",V194=\"\"),ROUND((AC194+AW194)*AJ194,2),ROUND(S194*V194*НМЦ!$K$212,2))","v":0},5.6899999999999999E-2,null,null,"-","-","-","-","-","-","-","-","-","-",0,null,0,0,164.44,1.6407655549860409E-5,"-","-","-","-"]
[null,178,"5D57A968-2E2D-47A8-B7F4-6C635AF194C3","ВЛ 6 кВ на куст 3129.1 (габ.110 кВ) Приразломное м/р. Правдинский (КС00091309)","ЛС 04-01-02","101-2478","Лента К226","100 м",0.1174,200.44,23.53,"Подрядчик","-","-","Материалы",null,"-",null,null,"-","-",null,"-","-",null,"-",{"$f":"НМЦ!$K$227","v":0},null,0,"В","-","-","-",null,{"$f":"IF(AND(S195=\"\",V195=\"\"),ROUND((AC195+AW195)*AJ195,2),ROUND(S195*V195*НМЦ!$K$212,2))","v":0},5.6899999999999999E-2,null,null,"-","-","-","-","-","-","-","-","-","-",0,null,0,0,106.45,1.0621472471920705E-5,"-","-","-","-"]
[null,179,"5D57A968-2E2D-47A8-B7F4-6C635AF194C3","ВЛ 6 кВ на куст 3129.1 (габ.110 кВ) Приразломное м/р. Правдинский (КС00091309)","ЛС 04-01-02","509-0104","Скобы двухлапковые","10 шт.",1.232,17.28,21.29,"Подрядчик","-","-","Материалы",null,"-",null,null,"-","-",null,"-","-",null,"-",{"$f":"НМЦ!$K$227","v":0},null,0,"В","-","-","-",null,{"$f":"IF(AND(S196=\"\",V196=\"\"),ROUND((AC196+AW196)*AJ196,2),ROUND(S196*V196*НМЦ!$K$212,2))","v":0},5.6899999999999999E-2,null,null,"-","-","-","-","-","-","-","-","-","-",0,null,0,0,96.31,9.6097136098702029E-6,"-","-","-","-"]
[null,180,"AEEAB128-A9D6-4DE1-ACE9-6CD791FCF82A","ВЛ 6 кВ на куст 3129.2 (габ. 6 кВ) Приразломное м/р. Правдинский (КС00091313)","ЛС 04-02-01","101-1745","Бензин растворитель","т",9.5940000000000001E-4,8302.3700000000008,7.97,"Подрядчик (от Заказчика)","-","-","Материалы",null,"-",null,null,"-","-",null,"-","-",null,"-",null,69620,69620,"В","-","-","-",null,{"$f":"IF(AND(S197=\"\",V197=\"\"),ROUND((AC197+AW197)*AJ197,2),ROUND(S197*V197*НМЦ!$K$212,2))","v":4679.72},6.59E-2,null,null,"-","-","-","-","-","-","-","-","-","-",1392.4,0.02,75692.12,72.62,95.87,9.5658108584597282E-6,"-","-","-","-"]
[null,181,"5D57A968-2E2D-47A8-B7F4-6C635AF194C3","ВЛ 6 кВ на куст 3129.1 (габ.110 кВ) Приразломное м/р. Правдинский (КС00091309)","ЛС 04-01-01","101-1745","Бензин растворитель","т",3.0719999999999999E-4,8302.3700000000008,2.5499999999999998,"Подрядчик (от Заказчика)","-","-","Материалы",null,"-",null,null,"-","-",null,"-","-",null,"-",null,69620,69620,"В","-","-","-",null,{"$f":"IF(AND(S198=\"\",V198=\"\"),ROUND((AC198+AW198)*AJ198,2),ROUND(S198*V198*НМЦ!$K$212,2))","v":4679.72},6.59E-2,null,null,"-","-","-","-","-","-","-","-","-","-",1392.4,0.02,75692.12,23.25,95.87,9.5658108584597282E-6,"-","-","-","-"]
[null,182,"AEEAB128-A9D6-4DE1-ACE9-6CD791FCF82A","ВЛ 6 кВ на куст 3129.2 (габ. 6 кВ) Приразломное м/р. Правдинский (КС00091313)","ЛС 04-02-01","101-0309","Канаты пеньковые пропитанные","т",1.738E-4,51206.53,8.9,"Подрядчик","-","-","Материалы",null,"-",null,null,"-","-",null,"-","-",null,"-",{"$f":"НМЦ!$K$227","v":0},null,0,"В","-","-","-",null,{"$f":"IF(AND(S199=\"\",V199=\"\"),ROUND((AC199+AW199)*AJ199,2),ROUND(S199*V199*НМЦ!$K$212,2))","v":0},5.6899999999999999E-2,null,null,"-","-","-","-","-","-","-","-","-","-",0,null,0,0,93.38,9.3173611970686271E-6,"-","-","-","-"]
[null,183,"5D57A968-2E2D-47A8-B7F4-6C635AF194C3","ВЛ 6 кВ на куст 3129.1 (габ.110 кВ) Приразломное м/р. Правдинский (КС00091309)","ЛС 04-01-02","101-0309","Канаты пеньковые пропитанные","т",1.2129999999999999E-4,51206.53,6.21,"Подрядчик","-","-","Материалы",null,"-",null,null,"-","-",null,"-","-",null,"-",{"$f":"НМЦ!$K$227","v":0},null,0,"В","-","-","-",null,{"$f":"IF(AND(S200=\"\",V200=\"\"),ROUND((AC200+AW200)*AJ200,2),ROUND(S200*V200*НМЦ!$K$212,2))","v":0},5.6899999999999999E-2,null,null,"-","-","-","-","-","-","-","-","-","-",0,null,0,0,93.38,9.3173611970686271E-6,"-","-","-","-"]
[null,184,"5D57A968-2E2D-47A8-B7F4-6C635AF194C3","ВЛ 6 кВ на куст 3129.1 (габ.110 кВ) Приразломное м/р. Правдинский (КС00091309)","ЛС 04-01-01","101-0309","Канаты пеньковые пропитанные","т",1.08E-4,51206.53,5.53,"Подрядчик","-","-","Материалы",null,"-",null,null,"-","-",null,"-","-",null,"-",{"$f":"НМЦ!$K$227","v":0},null,0,"В","-","-","-",null,{"$f":"IF(AND(S201=\"\",V201=\"\"),ROUND((AC201+AW201)*AJ201,2),ROUND(S201*V201*НМЦ!$K$212,2))","v":0},5.6899999999999999E-2,null,null,"-","-","-","-","-","-","-","-","-","-",0,null,0,0,93.38,9.3173611970686271E-6,"-","-","-","-"]
[null,185,"5D57A968-2E2D-47A8-B7F4-6C635AF194C3","ВЛ 6 кВ на куст 3129.1 (габ.110 кВ) Приразломное м/р. Правдинский (КС00091309)","ЛС 04-01-01","113-0079","Лак БТ-577","т",8.0000000000000004E-4,12980.43,10.38,"Подрядчик","-","-","Материалы",null,"-",null,null,"-","-",null,"-","-",null,"-",{"$f":"НМЦ!$K$227","v":0},null,0,"В","-","-","-",null,{"$f":"IF(AND(S202=\"\",V202=\"\"),ROUND((AC202+AW202)*AJ202,2),ROUND(S202*V202*НМЦ!$K$212,2))","v":0},5.6899999999999999E-2,null,null,"-","-","-","-","-","-","-","-","-","-",0,null,0,0,82.199999999999989,8.2018321953206367E-6,"-","-","-","-"]
[null,186,"AEEAB128-A9D6-4DE1-ACE9-6CD791FCF82A","ВЛ 6 кВ на куст 3129.2 (габ. 6 кВ) Приразломное м/р. Правдинский (КС00091313)","ЛС 04-02-01","113-0079","Лак БТ-577","т",5.9999999999999995E-4,12980.43,7.79,"Подрядчик","-","-","Материалы",null,"-",null,null,"-","-",null,"-","-",null,"-",{"$f":"НМЦ!$K$227","v":0},null,0,"В","-","-","-",null,{"$f":"IF(AND(S203=\"\",V203=\"\"),ROUND((AC203+AW203)*AJ203,2),ROUND(S203*V203*НМЦ!$K$212,2))","v":0},5.6899999999999999E-2,null,null,"-","-","-","-","-","-","-","-","-","-",0,null,0,0,82.199999999999989,8.2018321953206367E-6,"-","-","-","-"]
[null,187,"5D57A968-2E2D-47A8-B7F4-6C635AF194C3","ВЛ 6 кВ на куст 3129.1 (габ.110 кВ) Приразломное м/р. Правдинский (КС00091309)","ЛС 04-01-02","Прайс-лист","Ключ для крепления полок к стойкам К1156цУТ1,5 , цена 21:3,95.1,13","шт.",3,6.01,18.03,"Подрядчик","-","-","Материалы",null,"-",null,null,"-","-",null,"-","-",null,"-",{"$f":"НМЦ!$K$227","v":0},null,0,"В","-","-","-",null,{"$f":"IF(AND(S204=\"\",V204=\"\"),ROUND((AC204+AW204)*AJ204,2),ROUND(S204*V204*НМЦ!$K$212,2))","v":0},null,null,null,"-","-","-","-","-","-","-","-","-","-",0,null,0,0,77.16,7.698946133709737E-6,"-","-","-","-"]
[null,188,"5D57A968-2E2D-47A8-B7F4-6C635AF194C3","ВЛ 6 кВ на куст 3129.1 (габ.110 кВ) Приразломное м/р. Правдинский (КС00091309)","ЛС 04-01-02","101-3914","Дюбели распорные полипропиленовые","100 шт.",0.184,48.88,8.99,"Подрядчик","-","-","Материалы",null,"-",null,null,"-","-",null,"-","-",null,"-",{"$f":"НМЦ!$K$227","v":0},null,0,"В","-","-","-",null,{"$f":"IF(AND(S205=\"\",V205=\"\"),ROUND((AC205+AW205)*AJ205,2),ROUND(S205*V205*НМЦ!$K$212,2))","v":0},5.6899999999999999E-2,null,null,"-","-","-","-","-","-","-","-","-","-",0,null,0,0,40.68,4.0590089258594103E-6,"-","-","-","-"]
[null,189,"AEEAB128-A9D6-4DE1-ACE9-6CD791FCF82A","ВЛ 6 кВ на куст 3129.2 (габ. 6 кВ) Приразломное м/р. Правдинский (КС00091313)","ЛС 04-02-01","102-0023","Бруски обрезные хвойных пород длиной 4-6,5 м, шириной 75-150 мм, толщиной 40-75 мм, I сорта","м3",1.5376999999999999E-3,2069.25,3.18,"Подрядчик","-","-","Материалы",null,"-",null,null,"-","-",null,"-","-",null,"-",4.28,null,8856.39,"В","-","-","-",null,{"$f":"IF(AND(S206=\"\",V206=\"\"),ROUND((AC206+AW206)*AJ206,2),ROUND(S206*V206*НМЦ!$K$212,2))","v":503.93},5.6899999999999999E-2,null,null,"-","-","-","-","-","-","-","-","-","-",0,null,9360.32,14.39,34.07,3.3994698648974955E-6,"-","-","-","-"]
[null,190,"5D57A968-2E2D-47A8-B7F4-6C635AF194C3","ВЛ 6 кВ на куст 3129.1 (габ.110 кВ) Приразломное м/р. Правдинский (КС00091309)","ЛС 04-01-02","102-0023","Бруски обрезные хвойных пород длиной 4-6,5 м, шириной 75-150 мм, толщиной 40-75 мм, I сорта","м3",1.0455E-3,2069.25,2.16,"Подрядчик","-","-","Материалы",null,"-",null,null,"-","-",null,"-","-",null,"-",4.28,null,8856.39,"В","-","-","-",null,{"$f":"IF(AND(S207=\"\",V207=\"\"),ROUND((AC207+AW207)*AJ207,2),ROUND(S207*V207*НМЦ!$K$212,2))","v":503.93},5.6899999999999999E-2,null,null,"-","-","-","-","-","-","-","-","-","-",0,null,9360.32,9.7899999999999991,34.07,3.3994698648974955E-6,"-","-","-","-"]
[null,191,"5D57A968-2E2D-47A8-B7F4-6C635AF194C3","ВЛ 6 кВ на куст 3129.1 (габ.110 кВ) Приразломное м/р. Правдинский (КС00091309)","ЛС 04-01-01","102-0023","Бруски обрезные хвойных пород длиной 4-6,5 м, шириной 75-150 мм, толщиной 40-75 мм, I сорта","м3",1.0256E-3,2069.25,2.12,"Подрядчик","-","-","Материалы",null,"-",null,null,"-","-",null,"-","-",null,"-",4.28,null,8856.39,"В","-","-","-",null,{"$f":"IF(AND(S208=\"\",V208=\"\"),ROUND((AC208+AW208)*AJ208,2),ROUND(S208*V208*НМЦ!$K$212,2))","v":503.93},5.6899999999999999E-2,null,null,"-","-","-","-","-","-","-","-","-","-",0,null,9360.32,9.6,34.07,3.3994698648974955E-6,"-","-","-","-"]
[null,192,"AEEAB128-A9D6-4DE1-ACE9-6CD791FCF82A","ВЛ 6 кВ на куст 3129.2 (габ. 6 кВ) Приразломное м/р. Правдинский (КС00091313)","ЛС 04-02-01","508-0097","Канат двойной свивки типа ТК, конструкции 6х19(1+6+12)+1 о.с., оцинкованный из проволок марки В, маркировочная группа 1770 н/мм2, диаметром 5,5 мм","10 м",3.25055E-2,83.91,2.73,"Подрядчик","-","-","Материалы",null,"-",null,null,"-","-",null,"-","-",null,"-",{"$f":"НМЦ!$K$227","v":0},null,0,"В","-","-","-",null,{"$f":"IF(AND(S209=\"\",V209=\"\"),ROUND((AC209+AW209)*AJ209,2),ROUND(S209*V209*НМЦ!$K$212,2))","v":0},5.6899999999999999E-2,null,null,"-","-","-","-","-","-","-","-","-","-",0,null,0,0,28.619999999999997,2.8556744212904699E-6,"-","-","-","-"]
[null,193,"5D57A968-2E2D-47A8-B7F4-6C635AF194C3","ВЛ 6 кВ на куст 3129.1 (габ.110 кВ) Приразломное м/р. Правдинский (КС00091309)","ЛС 04-01-02","508-0097","Канат двойной свивки типа ТК, конструкции 6х19(1+6+12)+1 о.с., оцинкованный из проволок марки В, маркировочная группа 1770 н/мм2, диаметром 5,5 мм","10 м",2.2684200000000002E-2,83.91,{"$f":"ROUND(I210*J210,2)","v":1.9},"Подрядчик","-","-","Материалы",null,"-",null,null,"-","-",null,"-","-",null,"-",{"$f":"НМЦ!$K$227","v":0},null,0,"В","-","-","-",null,{"$f":"IF(AND(S210=\"\",V210=\"\"),ROUND((AC210+AW210)*AJ210,2),ROUND(S210*V210*НМЦ!$K$212,2))","v":0},5.6899999999999999E-2,null,null,"-","-","-","-","-","-","-","-","-","-",0,null,0,0,28.619999999999997,2.8556744212904699E-6,"-","-","-","-"]
[null,194,"5D57A968-2E2D-47A8-B7F4-6C635AF194C3","ВЛ 6 кВ на куст 3129.1 (габ.110 кВ) Приразломное м/р. Правдинский (КС00091309)","ЛС 04-01-01","508-0097","Канат двойной свивки типа ТК, конструкции 6х19(1+6+12)+1 о.с., оцинкованный из проволок марки В, маркировочная группа 1770 н/мм2, диаметром 5,5 мм","10 м",2.0203100000000002E-2,83.91,1.7,"Подрядчик","-","-","Материалы",null,"-",null,null,"-","-",null,"-","-",null,"-",{"$f":"НМЦ!$K$227","v":0},null,0,"В","-","-","-",null,{"$f":"IF(AND(S211=\"\",V211=\"\"),ROUND((AC211+AW211)*AJ211,2),ROUND(S211*V211*НМЦ!$K$212,2))","v":0},5.6899999999999999E-2,null,null,"-","-","-","-","-","-","-","-","-","-",0,null,0,0,28.619999999999997,2.8556744212904699E-6,"-","-","-","-"]
[null,195,"5D57A968-2E2D-47A8-B7F4-6C635AF194C3","ВЛ 6 кВ на куст 3129.1 (габ.110 кВ) Приразломное м/р. Правдинский (КС00091309)","ЛС 04-01-02","101-0813","Проволока стальная низкоуглеродистая разного назначения оцинкованная диаметром 3,0 мм","т",4.4000000000000002E-4,13972.15,6.15,"Подрядчик","-","-","Материалы",null,"-",null,null,"-","-",null,"-","-",null,"-",{"$f":"НМЦ!$K$227","v":0},null,0,"В","-","-","-",null,{"$f":"IF(AND(S212=\"\",V212=\"\"),ROUND((AC212+AW212)*AJ212,2),ROUND(S212*V212*НМЦ!$K$212,2))","v":0},5.6899999999999999E-2,null,null,"-","-","-","-","-","-","-","-","-","-",0,null,0,0,27.81,2.774853447103004E-6,"-","-","-","-"]
[null,196,"5D57A968-2E2D-47A8-B7F4-6C635AF194C3","ВЛ 6 кВ на куст 3129.1 (габ.110 кВ) Приразломное м/р. Правдинский (КС00091309)","ЛС 04-01-01","101-0962","Смазка солидол жировой марки \"Ж\"","т",2.4000000000000001E-4,12866.32,3.09,"Подрядчик","-","-","Материалы",null,"-",null,null,"-","-",null,"-","-",null,"-",{"$f":"НМЦ!$K$227","v":0},null,{"$f":"IF(AA213<>\"\",IF(AB213<>\"\",\"Ошибка\",ROUND(J213*AA213,2)),ROUND(AB213,2))","v":0},"В","-","-","-",null,{"$f":"IF(AND(S213=\"\",V213=\"\"),ROUND((AC213+AW213)*AJ213,2),ROUND(S213*V213*НМЦ!$K$212,2))","v":0},5.6899999999999999E-2,null,null,"-","-","-","-","-","-","-","-","-","-",{"$f":"IF(AND(S213=\"\",V213=\"\"),ROUND(AC213*AX213,2),ROUND((AC213+AH213+AI213+AK213+AL213)*AX213,2))","v":0},null,{"$f":"ROUND(AC213+AH213+AI213+AK213+AL213+AW213,2)","v":0},{"$f":"ROUND(I213*AY213,2)","v":0},24.450000000000003,2.4395960726957377E-6,"-","-","-","-"]
[null,197,"AEEAB128-A9D6-4DE1-ACE9-6CD791FCF82A","ВЛ 6 кВ на куст 3129.2 (габ. 6 кВ) Приразломное м/р. Правдинский (КС00091313)","ЛС 04-02-01","101-0962","Смазка солидол жировой марки \"Ж\"","т",1.8000000000000001E-4,12866.32,2.3199999999999998,"Подрядчик","-","-","Материалы",null,"-",null,null,"-","-",null,"-","-",null,"-",{"$f":"НМЦ!$K$227","v":0},null,0,"В","-","-","-",null,{"$f":"IF(AND(S214=\"\",V214=\"\"),ROUND((AC214+AW214)*AJ214,2),ROUND(S214*V214*НМЦ!$K$212,2))","v":0},5.6899999999999999E-2,null,null,"-","-","-","-","-","-","-","-","-","-",0,null,0,0,24.450000000000003,2.4395960726957377E-6,"-","-","-","-"]
[null,198,"5D57A968-2E2D-47A8-B7F4-6C635AF194C3","ВЛ 6 кВ на куст 3129.1 (габ.110 кВ) Приразломное м/р. Правдинский (КС00091309)","ЛС 04-01-02","111-0086","Бирки маркировочные","100 шт.",8.4000000000000005E-2,60.28,5.0599999999999996,"Подрядчик","-","-","Материалы",null,"-",null,null,"-","-",null,"-","-",null,"-",{"$f":"НМЦ!$K$227","v":0},null,0,"В","-","-","-",null,{"$f":"IF(AND(S215=\"\",V215=\"\"),ROUND((AC215+AW215)*AJ215,2),ROUND(S215*V215*НМЦ!$K$212,2))","v":0},5.6899999999999999E-2,null,null,"-","-","-","-","-","-","-","-","-","-",0,null,0,0,22.91,2.2859364427590731E-6,"-","-","-","-"]
[null,199,"5D57A968-2E2D-47A8-B7F4-6C635AF194C3","ВЛ 6 кВ на куст 3129.1 (габ.110 кВ) Приразломное м/р. Правдинский (КС00091309)","ЛС 04-01-02","509-0070","Кнопки монтажные","1000 шт.",9.9680000000000005E-2,32.58,3.25,"Подрядчик","-","-","Материалы",null,"-",null,null,"-","-",null,"-","-",null,"-",{"$f":"НМЦ!$K$227","v":0},null,0,"В","-","-","-",null,{"$f":"IF(AND(S216=\"\",V216=\"\"),ROUND((AC216+AW216)*AJ216,2),ROUND(S216*V216*НМЦ!$K$212,2))","v":0},5.6899999999999999E-2,null,null,"-","-","-","-","-","-","-","-","-","-",0,null,0,0,14.69,1.4657532232270093E-6,"-","-","-","-"]
[null,200,"AEEAB128-A9D6-4DE1-ACE9-6CD791FCF82A","ВЛ 6 кВ на куст 3129.2 (габ. 6 кВ) Приразломное м/р. Правдинский (КС00091313)","ЛС 04-02-01","101-1757","Ветошь","кг",0.91949999999999998,1.95,1.79,"Подрядчик","-","-","Материалы",null,"-",null,null,"-","-",null,"-","-",null,"-",{"$f":"НМЦ!$K$227","v":0},null,0,"В","-","-","-",null,{"$f":"IF(AND(S217=\"\",V217=\"\"),ROUND((AC217+AW217)*AJ217,2),ROUND(S217*V217*НМЦ!$K$212,2))","v":0},5.6899999999999999E-2,null,null,"-","-","-","-","-","-","-","-","-","-",0,null,0,0,11.79,1.1763941798397849E-6,"-","-","-","-"]
[null,201,"5D57A968-2E2D-47A8-B7F4-6C635AF194C3","ВЛ 6 кВ на куст 3129.1 (габ.110 кВ) Приразломное м/р. Правдинский (КС00091309)","ЛС 04-01-01","101-1757","Ветошь","кг",0.41599999999999998,1.95,0.81,"Подрядчик","-","-","Материалы",null,"-",null,null,"-","-",null,"-","-",null,"-",{"$f":"НМЦ!$K$227","v":0},null,0,"В","-","-","-",null,{"$f":"IF(AND(S218=\"\",V218=\"\"),ROUND((AC218+AW218)*AJ218,2),ROUND(S218*V218*НМЦ!$K$212,2))","v":0},5.6899999999999999E-2,null,null,"-","-","-","-","-","-","-","-","-","-",0,null,0,0,11.79,1.1763941798397849E-6,"-","-","-","-"]
[null,202,"AEEAB128-A9D6-4DE1-ACE9-6CD791FCF82A","ВЛ 6 кВ на куст 3129.2 (габ. 6 кВ) Приразломное м/р. Правдинский (КС00091313)","ЛС 04-02-01","101-0797","Проволока горячекатаная в мотках, диаметром 6,3-6,5 мм","т",5.2099999999999999E-5,4819.3500000000004,0.25,"Подрядчик","-","-","Материалы",null,"-",null,null,"-","-",null,"-","-",null,"-",{"$f":"НМЦ!$K$227","v":0},null,0,"В","-","-","-",null,{"$f":"IF(AND(S219=\"\",V219=\"\"),ROUND((AC219+AW219)*AJ219,2),ROUND(S219*V219*НМЦ!$K$212,2))","v":0},5.6899999999999999E-2,null,null,"-","-","-","-","-","-","-","-","-","-",0,null,0,0,1.1399999999999999,1.1374803774532271E-7,"-","-","-","-"]
[null,203,"AEEAB128-A9D6-4DE1-ACE9-6CD791FCF82A","ВЛ 6 кВ на куст 3129.2 (габ. 6 кВ) Приразломное м/р. Правдинский (КС00091313)","ЛС 04-02-01","110-0179","Конструкции стальные порталов ОРУ, сталь 345-3, неогрунтовано","т",12.947100000000001,15564.36,201513.33,"Подрядчик","-","-","Металлоконструкции",null,"-",null,null,"-","-",null,"-","-",null,"-",null,129071.17,129071.17,"Ц","-","-","-",null,{"$f":"IF(AND(S220=\"\",V220=\"\"),ROUND((AC220+AW220)*AJ220,2),ROUND(S220*V220*НМЦ!$K$212,2))","v":8569.58},6.59E-2,null,null,"-","-","-","-","-","-","-","-","-","-",968.03,7.4999999999999997E-3,138608.78,1794581.74,2398771.87,0.23934701158875296,"-","-","-","-"]
[null,204,"5D57A968-2E2D-47A8-B7F4-6C635AF194C3","ВЛ 6 кВ на куст 3129.1 (габ.110 кВ) Приразломное м/р. Правдинский (КС00091309)","ЛС 04-01-01","110-0179","Конструкции стальные порталов ОРУ, сталь 345-3, неогрунтовано","т",4.3589599999999997,15564.36,67844.42,"Подрядчик","-","-","Металлоконструкции",null,"-",null,null,"-","-",null,"-","-",null,"-",null,129071.17,129071.17,"Ц","-","-","-",null,{"$f":"IF(AND(S221=\"\",V221=\"\"),ROUND((AC221+AW221)*AJ221,2),ROUND(S221*V221*НМЦ!$K$212,2))","v":8569.58},6.59E-2,null,null,"-","-","-","-","-","-","-","-","-","-",968.03,7.4999999999999997E-3,138608.78,604190.13,2398771.87,0.23934701158875296,"-","-","-","-"]
[null,205,"AEEAB128-A9D6-4DE1-ACE9-6CD791FCF82A","ВЛ 6 кВ на куст 3129.2 (габ. 6 кВ) Приразломное м/р. Правдинский (КС00091313)","ЛС 04-02-01","201-0764","Отдельные конструктивные элементы зданий и сооружений с преобладанием гнутосварных профилей и круглых труб, средняя масса сборочной единицы от 0,1 до 0,5 т, сталь 345-3, неогрунтовано","т",1.333,19476.22,25961.8,"Подрядчик","-","-","Металлоконструкции",null,"-",null,null,"-","-",null,"-","-",null,"-",null,129071.17,129071.17,"Ц","-","-","-",null,{"$f":"IF(AND(S222=\"\",V222=\"\"),ROUND((AC222+AW222)*AJ222,2),ROUND(S222*V222*НМЦ!$K$212,2))","v":8569.58},6.59E-2,null,null,"-","-","-","-","-","-","-","-","-","-",968.03,7.4999999999999997E-3,138608.78,184765.5,307988.71000000002,3.0730799482643206E-2,"-","-","-","-"]
[null,206,"5D57A968-2E2D-47A8-B7F4-6C635AF194C3","ВЛ 6 кВ на куст 3129.1 (габ.110 кВ) Приразломное м/р. Правдинский (КС00091309)","ЛС 04-01-01","201-0764","Отдельные конструктивные элементы зданий и сооружений с преобладанием гнутосварных профилей и круглых труб, средняя масса сборочной единицы от 0,1 до 0,5 т, сталь 345-3, неогрунтовано","т",0.88900000000000001,19476.22,17314.36,"Подрядчик","-","-","Металлоконструкции",null,"-",null,null,"-","-",null,"-","-",null,"-",null,129071.17,129071.17,"Ц","-","-","-",null,{"$f":"IF(AND(S223=\"\",V223=\"\"),ROUND((AC223+AW223)*AJ223,2),ROUND(S223*V223*НМЦ!$K$212,2))","v":8569.58},6.59E-2,null,null,"-","-","-","-","-","-","-","-","-","-",968.03,7.4999999999999997E-3,138608.78,123223.21,307988.71000000002,3.0730799482643206E-2,"-","-","-","-"]
[null,207,"5D57A968-2E2D-47A8-B7F4-6C635AF194C3","ВЛ 6 кВ на куст 3129.1 (габ.110 кВ) Приразломное м/р. Правдинский (КС00091309)","ЛС 04-01-02","201-0755","Отдельные конструктивные элементы зданий и сооружений с преобладанием горячекатаных профилей, средняя масса сборочной единицы до 0,1 т, сталь 345-3, неогрунтовано","т",0.76200000000000001,14938.94,11383.47,"Подрядчик","-","-","Металлоконструкции",null,"-",null,null,"-","-",null,"-","-",null,"-",null,129071.17,129071.17,"Ц","-","-","-",null,{"$f":"IF(AND(S224=\"\",V224=\"\"),ROUND((AC224+AW224)*AJ224,2),ROUND(S224*V224*НМЦ!$K$212,2))","v":8569.58},6.59E-2,null,null,"-","-","-","-","-","-","-","-","-","-",968.03,7.4999999999999997E-3,138608.78,105619.89,105619.89,1.0538644942435818E-2,"-","-","-","-"]
[null,208,"AEEAB128-A9D6-4DE1-ACE9-6CD791FCF82A","ВЛ 6 кВ на куст 3129.2 (габ. 6 кВ) Приразломное м/р. Правдинский (КС00091313)","ЛС 04-02-01","201-0777","Конструктивные элементы вспомогательного назначения с преобладанием профильного проката собираемые из двух и более деталей, с отверстиями и без отверстий, соединяемые на сварке, сталь 345-3, неогрунтовано","т",0.223,18618.060000000001,4151.83,"Подрядчик","-","-","Металлоконструкции",null,"-",null,null,"-","-",null,"-","-",null,"-",null,129071.17,129071.17,"Ц","-","-","-",null,{"$f":"IF(AND(S225=\"\",V225=\"\"),ROUND((AC225+AW225)*AJ225,2),ROUND(S225*V225*НМЦ!$K$212,2))","v":8569.58},6.59E-2,null,null,"-","-","-","-","-","-","-","-","-","-",968.03,7.4999999999999997E-3,138608.78,30909.759999999998,41582.639999999999,4.1490734247983914E-3,"-","-","-","-"]
[null,209,"5D57A968-2E2D-47A8-B7F4-6C635AF194C3","ВЛ 6 кВ на куст 3129.1 (габ.110 кВ) Приразломное м/р. Правдинский (КС00091309)","ЛС 04-01-01","201-0777","Конструктивные элементы вспомогательного назначения с преобладанием профильного проката собираемые из двух и более деталей, с отверстиями и без отверстий, соединяемые на сварке, сталь 345-3, неогрунтовано","т",7.6999999999999999E-2,18618.060000000001,1433.59,"Подрядчик","-","-","Металлоконструкции",null,"-",null,null,"-","-",null,"-","-",null,"-",null,129071.17,129071.17,"Ц","-","-","-",null,{"$f":"IF(AND(S226=\"\",V226=\"\"),ROUND((AC226+AW226)*AJ226,2),ROUND(S226*V226*НМЦ!$K$212,2))","v":8569.58},6.59E-2,null,null,"-","-","-","-","-","-","-","-","-","-",968.03,7.4999999999999997E-3,138608.78,10672.88,41582.639999999999,4.1490734247983914E-3,"-","-","-","-"]
[null,210,"5D57A968-2E2D-47A8-B7F4-6C635AF194C3","ВЛ 6 кВ на куст 3129.1 (габ.110 кВ) Приразломное м/р. Правдинский (КС00091309)","ЛС 04-01-02","201-0772","Конструктивные элементы вспомогательного назначения массой не более 50 кг с преобладанием толстолистовой стали без отверстий и сборосварочных операций, сталь 345-3, неогрунтовано","т",0.18,12140.21,2185.2399999999998,"Подрядчик","-","-","Металлоконструкции",null,"-",null,null,"-","-",null,"-","-",null,"-",null,129071.17,129071.17,"Ц","-","-","-",null,{"$f":"IF(AND(S227=\"\",V227=\"\"),ROUND((AC227+AW227)*AJ227,2),ROUND(S227*V227*НМЦ!$K$212,2))","v":8569.58},6.59E-2,null,null,"-","-","-","-","-","-","-","-","-","-",968.03,7.4999999999999997E-3,138608.78,24949.58,24949.58,2.4894436557631131E-3,"-","-","-","-"]
[null,211,"5D57A968-2E2D-47A8-B7F4-6C635AF194C3","ВЛ 6 кВ на куст 3129.1 (габ.110 кВ) Приразломное м/р. Правдинский (КС00091309)","ЛС 04-01-01","201-0774","Конструктивные элементы вспомогательного назначения массой не более 50 кг с преобладанием толстолистовой стали собираемые из двух и более деталей, с отверстиями и без отверстий, соединяемые на сварке, С345-3, неогрунтовано","т",0.1466325,20908.8,3065.91,"Подрядчик","-","-","Металлоконструкции",null,"-",null,null,"-","-",null,"-","-",null,"-",null,129071.17,129071.17,"Ц","-","-","-",null,{"$f":"IF(AND(S228=\"\",V228=\"\"),ROUND((AC228+AW228)*AJ228,2),ROUND(S228*V228*НМЦ!$K$212,2))","v":8569.58},6.59E-2,null,null,"-","-","-","-","-","-","-","-","-","-",968.03,7.4999999999999997E-3,138608.78,20324.55,24297.63,2.4243927494402508E-3,"-","-","-","-"]
[null,212,"AEEAB128-A9D6-4DE1-ACE9-6CD791FCF82A","ВЛ 6 кВ на куст 3129.2 (габ. 6 кВ) Приразломное м/р. Правдинский (КС00091313)","ЛС 04-02-01","201-0774","Конструктивные элементы вспомогательного назначения массой не более 50 кг с преобладанием толстолистовой стали собираемые из двух и более деталей, с отверстиями и без отверстий, соединяемые на сварке, С345-3, неогрунтовано","т",2.8101999999999999E-2,20908.8,587.58000000000004,"Подрядчик","-","-","Металлоконструкции",null,"-",null,null,"-","-",null,"-","-",null,"-",null,129071.17,129071.17,"Ц","-","-","-",null,{"$f":"IF(AND(S229=\"\",V229=\"\"),ROUND((AC229+AW229)*AJ229,2),ROUND(S229*V229*НМЦ!$K$212,2))","v":8569.58},6.59E-2,null,null,"-","-","-","-","-","-","-","-","-","-",968.03,7.4999999999999997E-3,138608.78,3895.18,24297.63,2.4243927494402508E-3,"-","-","-","-"]
[null,213,"5D57A968-2E2D-47A8-B7F4-6C635AF194C3","ВЛ 6 кВ на куст 3129.1 (габ.110 кВ) Приразломное м/р. Правдинский (КС00091309)","ЛС 04-01-02","201-0774","Конструктивные элементы вспомогательного назначения массой не более 50 кг с преобладанием толстолистовой стали собираемые из двух и более деталей, с отверстиями и без отверстий, соединяемые на сварке, С345-3, неогрунтовано","т",5.62E-4,20908.8,11.75,"Подрядчик","-","-","Металлоконструкции",null,"-",null,null,"-","-",null,"-","-",null,"-",null,129071.17,129071.17,"Ц","-","-","-",null,{"$f":"IF(AND(S230=\"\",V230=\"\"),ROUND((AC230+AW230)*AJ230,2),ROUND(S230*V230*НМЦ!$K$212,2))","v":8569.58},6.59E-2,null,null,"-","-","-","-","-","-","-","-","-","-",968.03,7.4999999999999997E-3,138608.78,77.900000000000006,24297.63,2.4243927494402508E-3,"-","-","-","-"]
[null,214,"5D57A968-2E2D-47A8-B7F4-6C635AF194C3","ВЛ 6 кВ на куст 3129.1 (габ.110 кВ) Приразломное м/р. Правдинский (КС00091309)","ЛС 04-01-02","201-0763","Отдельные конструктивные элементы зданий и сооружений с преобладанием гнутосварных профилей и круглых труб, средняя масса сборочной единицы до 0,1 т, сталь 345-3, неогрунтовано","т",0.14000000000000001,20860.75,2920.51,"Подрядчик","-","-","Металлоконструкции",null,"-",null,null,"-","-",null,"-","-",null,"-",null,129071.17,129071.17,"Ц","-","-","-",null,{"$f":"IF(AND(S231=\"\",V231=\"\"),ROUND((AC231+AW231)*AJ231,2),ROUND(S231*V231*НМЦ!$K$212,2))","v":8569.58},6.59E-2,null,null,"-","-","-","-","-","-","-","-","-","-",968.03,7.4999999999999997E-3,138608.78,19405.23,19405.23,1.9362340653479549E-3,"-","-","-","-"]
[null,215,"5D57A968-2E2D-47A8-B7F4-6C635AF194C3","ВЛ 6 кВ на куст 3129.1 (габ.110 кВ) Приразломное м/р. Правдинский (КС00091309)","ЛС 04-01-02","201-0756","Отдельные конструктивные элементы зданий и сооружений с преобладанием горячекатаных профилей, средняя масса сборочной единицы от 0,1 до 0,5 т, С345-3, неогрунтовано","т",8.5610000000000005E-4,14293.92,12.24,"Подрядчик","-","-","Металлоконструкции",null,"-",null,null,"-","-",null,"-","-",null,"-",null,129071.17,129071.17,"Ц","-","-","-",null,{"$f":"IF(AND(S232=\"\",V232=\"\"),ROUND((AC232+AW232)*AJ232,2),ROUND(S232*V232*НМЦ!$K$212,2))","v":8569.58},6.59E-2,null,null,"-","-","-","-","-","-","-","-","-","-",968.03,7.4999999999999997E-3,138608.78,118.66,187.65,1.872352568676299E-5,"-","-","-","-"]
[null,216,"AEEAB128-A9D6-4DE1-ACE9-6CD791FCF82A","ВЛ 6 кВ на куст 3129.2 (габ. 6 кВ) Приразломное м/р. Правдинский (КС00091313)","ЛС 04-02-01","201-0756","Отдельные конструктивные элементы зданий и сооружений с преобладанием горячекатаных профилей, средняя масса сборочной единицы от 0,1 до 0,5 т, С345-3, неогрунтовано","т",2.9859999999999999E-4,14293.92,4.2699999999999996,"Подрядчик","-","-","Металлоконструкции",null,"-",null,null,"-","-",null,"-","-",null,"-",null,129071.17,129071.17,"Ц","-","-","-",null,{"$f":"IF(AND(S233=\"\",V233=\"\"),ROUND((AC233+AW233)*AJ233,2),ROUND(S233*V233*НМЦ!$K$212,2))","v":8569.58},6.59E-2,null,null,"-","-","-","-","-","-","-","-","-","-",968.03,7.4999999999999997E-3,138608.78,41.39,187.65,1.872352568676299E-5,"-","-","-","-"]
[null,217,"5D57A968-2E2D-47A8-B7F4-6C635AF194C3","ВЛ 6 кВ на куст 3129.1 (габ.110 кВ) Приразломное м/р. Правдинский (КС00091309)","ЛС 04-01-01","201-0756","Отдельные конструктивные элементы зданий и сооружений с преобладанием горячекатаных профилей, средняя масса сборочной единицы от 0,1 до 0,5 т, С345-3, неогрунтовано","т",1.9909999999999999E-4,14293.92,2.85,"Подрядчик","-","-","Металлоконструкции",null,"-",null,null,"-","-",null,"-","-",null,"-",null,129071.17,129071.17,"Ц","-","-","-",null,{"$f":"IF(AND(S234=\"\",V234=\"\"),ROUND((AC234+AW234)*AJ234,2),ROUND(S234*V234*НМЦ!$K$212,2))","v":8569.58},6.59E-2,null,null,"-","-","-","-","-","-","-","-","-","-",968.03,7.4999999999999997E-3,138608.78,27.6,187.65,1.872352568676299E-5,"-","-","-","-"]
[]
[null,null,"Примечание:"]
[null,null,1]
[null,null,2]
[null,null,3]
[null,null,4]
[null,null,5]
[null,null,6]
[null,null,7]
[]
[null,null,null,null,null,null,null,null,"Ответственный исполнитель",null,"Ведущий специалист ОСОЭ УКС","Вед. Специалист ОСОЭ УКС","Волостников Н.А.","Волостников Н.А."]
[null,null,null,null,null,null,null,null,null,null,"должность",null,"Ф.И.О."]
[]
[null,null,null,null,null,null,null,null,"Ответственный исполнитель ОСП",null,"Главный специалист","Главный специалист","Фомина М.А.","Еременко С.В."]
[null,null,null,null,null,null,null,null,null,null,"должность",null,"Ф.И.О."]
[]
[null,null,null,null,null,null,null,null,"Ответственный исполнитель ОЦП по КВ ТМЦ Подрядчика",null,"Ведущий специалист","Главный специалист","Ушакова Т.А.","Федотов Е.А."]
[null,null,null,null,null,null,null,null,null,null,"должность",null,"Ф.И.О."]

{"sheet":"contractorMaterialReport_belich","index":27,"n_rows":50,"n_cols":45,"rows_kept":50,"cut":false,"hidden":true,"merged":[[1,33,1,44],[2,33,2,44],[9,20,10,20],[9,21,10,21],[9,22,10,22],[9,23,10,23],[9,24,9,27],[9,30,10,30],[9,31,10,31],[9,32,10,32],[9,33,9,37],[9,38,10,38],[9,43,9,44],[9,40,10,40],[9,41,10,41],[9,29,10,29],[9,1,10,1],[9,3,10,3],[9,4,10,4],[9,42,10,42],[9,12,9,15],[9,16,10,16],[9,5,10,5],[9,6,10,6],[9,28,10,28],[9,9,9,10],[9,11,10,11],[9,17,10,17],[9,18,10,18],[9,2,10,2],[49,9,49,10],[49,12,49,13],[38,1,38,5],[42,9,42,10],[42,11,42,15],[43,9,43,10],[43,11,43,15],[45,9,45,10],[45,11,45,15],[46,9,46,10],[46,11,46,15],[48,9,48,10],[48,11,48,15],[37,1,37,5],[20,1,20,5],[21,1,21,5],[22,1,22,5],[29,1,29,5],[30,1,30,5],[23,1,23,5],[24,1,24,5],[25,1,25,5],[26,1,26,5],[27,1,27,5],[28,1,28,5],[31,1,31,5],[32,1,32,5],[4,3,4,9],[0,33,0,44],[34,1,34,5],[35,1,35,5],[36,1,36,5],[33,1,33,5],[19,1,19,5],[9,39,10,39],[14,1,14,5],[15,1,15,5],[16,1,16,5],[17,1,17,5],[18,1,18,5],[13,1,13,44],[9,7,10,7],[9,8,10,8]]}
[null,null,null,null,null,null,null,null,null,null,null,null,null,null,null,null,null,null,null,null,null,null,null,null,null,null,null,null,null,null,null,null,null,{"$f":"'Сопроводительная записка'!executor7","v":"И.о. руководителя Службы стандартизации бизнеса, ценообразования  и договорной работы"}]
[]
["95B8996E-A92E-40F2-8A9B-251AB1F004D4",null,null,null,null,null,null,null,null,null,null,null,null,null,null,null,null,null,null,null,null,null,null,null,null,null,null,null,null,null,null,null,null,{"$f":"\"_________________________  \"&'Сопроводительная записка'!executor7Fio","v":"_________________________  О.Г. Верхоланцева"}]
[null,null,null,null,null,"Расчет стоимости по МТР Подрядчика"]
[null,null,null,{"$f":"'Исходные данные'!D19","v":"Строительство объектов энергетики Правдинского региона"}]
[null,null,null,"Шифр проекта",{"$f":"'Исходные данные'!projectcode","v":"1980615/0880Д"}]
[null,null,null,"Разработчик проекта",{"$f":"'Исходные данные'!projectdeveloper","v":"ООО «РН-УфаНИПИнефть»"},null,null,null,null,null,null,null,null,null,null,null,null,null,null,null,null,null,null,null,null,null,null,null,null,null,null,null,null,null,null,null,null,null,null,null,null,null,null,null,{"$f":"'Исходные данные'!lotNumber","v":"2000350438 (680-20-КС(ТЗ))"}]
[null,null,null,"Заказчик","ООО \"РН-Юганскнефтегаз\""]
[]
[null,"№ п/п","Наименование объекта","№ ЛСР","Шифр ресурсов | Код ФСНБ1","Наименование материалов | Наименование материала/оборудования","Наименование МТР входящих в состав комплектной поставки2","Класс груза","Ед. изм.","Масса, тн",null,"Количество","Цена определена на основании (с указанием номера и даты обосновывающего документа) 3:",null,null,null,"Наименование поставщика и его месторасположение","Наименование изготовителя \nи его месторасположение","Цена за ед. | Сметная цена за ед.изм. в руб., \nбез НДС в базовом уровне цен","Расчет отпускной цены","Отпускная цена за ед.изм. в руб., \nбез НДС в текущем уровне цен","Дата установления цены","Базис поставки \n(в соответствии с Инкотермс-2010)","Наименование ст. отправления","Транспортные расходы, \nна ед. изм., руб. без НДС",null,null,null,"Страхование,  \nна ед. изм., в руб., без НДС","Тара, упаковка, реквизит4, \nна ед. изм., в руб., без НДС","Снабженческо-сбытовая надбавка 5, \nна ед. изм., в руб., без НДС ","Таможенные расходы, \nна ед. изм., в руб., без НДС","Комиссионные и агентские вознаграждения, на ед. изм., в руб., без НДС","Дополнительные расходы \nсвязанные с поставкой оборудования",null,null,null,null,"Заготовительно-складские расходы, \nна ед. изм., в руб., без НДС8","ИТОГО , \nза ед. изм., в руб., без НДС \nв текущем уровне цен","ВСЕГО, \nв руб., без НДС","№ страницы\n обосновывающего документа","Индикатор отношения текущей цены \nк уровню цен базового периода","Справочно: по данным \nРегионального ЦЦС9"]
[null,null,null,null,null,null,null,null,null,"масса за ед.изм (тн)","брутто",null,"Аналог","Сметная цена на перевозку 1 тн груза в базисном уровне цен","Тендерная документация","Прайс-лист, коммерческое предложение, счет-фактура",null,null,null,"Индекс перехода стоимости МТР в текущий уровень цен  ",null,null,null,null,"ж/д","авто","авиа","Водный транспорт",null,null,null,null,null,"Комплектация оборудования, \n в руб.,  на ед. изм., без НДС6","Комплект запасных частей оборудования, \nна ед. изм., в руб., без НДС6","Шеф монтаж, \nна ед. изм., в руб.,  без НДС","Продление гарантии,  \nна ед. изм., в руб., без НДС","Прочие расходы, \nна ед. изм., в руб.,  без НДС7",null,null,null,null,null,"Сметная цена за ед.изм. в руб., без НДС в уровне цен на дату разработки ССР","Сметная цена за ед.изм. в руб., без НДС в уровне цен на дату заполнения опросного листа"]
[null,1,2,3,4,5,6,7,8,9,10,11,12,13,14,15,16,17,18,19,20,21,22,23,24,25,26,27,28,29,30,31,32,33,34,35,36,37,38,39,40,41,42,43,44]
[null,"C10","C67","C11","C12","C13","C20","C21","C14","C22","C23","C15","C24","C25","C26","C27","C28","C29","C16","C30","C32","C33","C34","C35","C36","C38","C40","C42","C44","C45","C46","C47","C48","C49","C50","C51","C52","C53","C54","C56","C57","C58","C59","C60","C61"]
[]
[null,"Раздел I. Ценообразующие материалы"]
["main_materials","Материалы "]
[null,"Итого Материалы"]
["main_metal","Металлоконструкции"]
[null,"Итого Металлоконструкции"]
["main_equipment","Оборудование"]
[null,"Итого Оборудование"]
[null,"Итого по Разделу I. Ценообразующие материалы",null,null,null,null,null,null,null,null,null,null,null,null,null,null,null,null,null,null,null,null,null,null,null,null,null,null,null,null,null,null,null,null,null,null,null,null,null,null,{"$f":"AO19+AO21+AO17","v":0}]
[null,"Раздел II. Вспомогательные материалы"]
["other_materials","Материалы "]
[null,"Итого Материалы"]
["other_metal","Металлоконструкции"]
[null,"Итого Металлоконструкции"]
["other_equipment","Оборудование"]
[null,"Итого Оборудование"]
[null,"Итого по Разделу II. Вспомогательные материалы",null,null,null,null,null,null,null,null,null,null,null,null,null,null,null,null,null,null,null,null,null,null,null,null,null,null,null,null,null,null,null,null,null,null,null,null,null,null,{"$f":"AO25+AO27+AO29","v":0}]
[null,"Раздел III. Материалы и оборудование, переданные от заказчика к подрядчику"]
["cont_from_cust_materials","Материалы "]
[null,"Итого Материалы"]
["cont_from_cust_metal","Металлоконструкции"]
[null,"Итого Металлоконструкции"]
["cont_from_cust_equipment","Оборудование"]
[null,"Итого Оборудование"]
[null,"Итого по Разделу III. Материалы и оборудование, переданные от заказчика к подрядчику",null,null,null,null,null,null,null,null,null,null,null,null,null,null,null,null,null,null,null,null,null,null,null,null,null,null,null,null,null,null,null,null,null,null,null,null,null,null,{"$f":"AO33+AO35+AO37","v":0}]
[null,"ВСЕГО",null,null,null,null,null,null,null,null,null,null,null,null,null,null,null,null,null,null,null,null,null,null,null,null,null,null,null,null,null,null,null,null,null,null,null,null,null,null,{"$f":"AO30+AO22+AO38","v":0}]
[]
[]
[]
[null,null,null,null,null,{"$f":"'Исходные данные'!executor","v":"Ответственный исполнитель"},null,null,null,{"$f":"'Исходные данные'!executorPosition","v":"Вед. Специалист ОСОЭ УКС"},null,{"$f":"'Исходные данные'!executorFio","v":"Волостников Н.А."}]
[null,null,null,null,null,null,null,null,null,"должность",null,"Ф.И.О."]
[]
[null,null,null,null,null,{"$f":"'Исходные данные'!executor3","v":"Ответственный исполнитель ОЦП по КВ ТМЦ Подрядчика"},null,null,null,{"$f":"'Исходные данные'!executor3Position","v":"Главный специалист"},null,{"$f":"'Исходные данные'!executor3Fio","v":"Федотов Е.А."}]
[null,null,null,null,null,null,null,null,null,"должность",null,"Ф.И.О."]
[]
[null,null,null,null,null,{"$f":"'Сопроводительная записка'!executor8","v":"Начальник ОЦЭ"},null,null,null,null,null,{"$f":"'Сопроводительная записка'!executor8Fio","v":"Н.Б. Кузнецова"}]
[null,null,null,null,null,null,null,null,null,"должность",null,null,"Ф.И.О."]

{"sheet":"materialReport_belich","index":28,"n_rows":48,"n_cols":13,"rows_kept":48,"cut":false,"hidden":true,"merged":[[27,1,27,7],[18,1,18,7],[14,1,14,12],[15,1,15,7],[16,1,16,7],[17,1,17,7],[35,1,35,7],[20,1,20,7],[19,1,19,7],[32,1,32,7],[33,1,33,7],[34,1,34,7],[29,1,29,7],[21,1,21,7],[22,1,22,7],[23,1,23,7],[28,1,28,7],[30,1,30,7],[24,1,24,7],[26,1,26,7],[25,1,25,7],[31,1,31,7],[3,1,3,12],[9,1,11,1],[9,3,11,3],[9,4,11,4],[9,5,11,5],[9,6,11,6],[9,7,11,7],[9,9,9,12],[10,9,10,10],[10,11,10,12],[9,2,11,2],[4,1,4,12],[47,9,47,10],[47,11,47,12],[36,1,36,7],[37,1,37,7],[38,1,38,7],[39,1,39,7],[39,9,39,12],[43,9,43,10],[43,11,43,12],[44,9,44,10],[44,11,44,12],[46,9,46,10],[46,11,46,12]]}
[]
[]
["95B8996E-A92E-40F2-8A9B-251AB1F004D4"]
[null,"Разделительная ведомость материалов поставки Заказчика/Подрядчика"]
[null,{"$f":"'Исходные данные'!D19","v":"Строительство объектов энергетики Правдинского региона"}]
[null,null,null,"Шифр проекта",{"$f":"'Исходные данные'!projectcode","v":"1980615/0880Д"},null,null,null,null,null,null,null,{"$f":"'Исходные данные'!lotNumber","v":"2000350438 (680-20-КС(ТЗ))"}]
[null,null,null,"Разработчик проекта",{"$f":"'Исходные данные'!projectdeveloper","v":"ООО «РН-УфаНИПИнефть»"}]
[null,null,null,"Заказчик","ООО \"РН-Юганскнефтегаз\""]
[]
[null,"№ п/п","Наименование объекта","№ ЛСР","Шифр ресурсов | Код ФСНБ1","Наименование материалов | Наименование материала/оборудования","Ед. изм.","Количество",null,"Поставщик"]
[null,null,null,null,null,null,null,null,null,"Заказчик",null,"Подрядчик"]
[null,null,null,null,null,null,null,null,null,"Цена за ед.","Сумма, руб","Цена за ед.","Сумма, руб"]
[null,1,2,3,4,5,6,7,null,8,9,10,11]
["object_code","C10","C67","C11","C12","C13","C14","C15","C16","C62","C63","C32","C57"]
[]
[null,"Раздел I: МТР, приобретаемые Подрядчиком самостоятельно"]
["cont_materials","Раздел. Материалы поставки Подрядчика"]
["cont_other_materials","Вспомогательные материалы"]
[null,"Итого (Материалы поставки Подрядчика)"]
["cont_metal","Раздел. Металлоконструкции поставки Подрядчика"]
[null,"Итого (Металлоконструкции поставки Подрядчика)"]
["cont_equipment","Раздел. Оборудование поставки Подрядчика"]
[null,"Итого (Оборудование поставки Подрядчика)"]
[null,"Раздел. Материалы и оборудование, переданные от заказчика к подрядчику"]
["cont_from_cust_materials","Материалы, переданные от заказчика к подрядчику"]
[null,"Итого (Материалы, переданные от заказчика к подрядчику)"]
["cont_from_cust_equipment","Оборудование, переданное от заказчика к подрядчику"]
[null,"Итого (Оборудование, переданное от заказчика к подрядчику)"]
[null,"Итого (Материалы и оборудование, переданные от заказчика к подрядчику)",null,null,null,null,null,null,null,null,null,null,{"$f":"M26+M28","v":0}]
[null,"Итого (Материалы, оборудование и металлоконструкции поставки Подрядчика)",null,null,null,null,null,null,null,null,null,null,{"$f":"M19+M23+M21+M29","v":0}]
[null,"Раздел II: МТР, приобретаемые Заказчиком "]
["cust_materials","Раздел. Материалы поставки Заказчика"]
[null,"Итого (Материалы поставки Заказчика)"]
["cust_metal","Раздел. Металлоконструкции поставки Заказчика"]
[null,"Итого (Металлоконструкции поставки Заказчика)"]
["cust_equipment","Раздел. Оборудование поставки Заказчика"]
[null,"Итого (Оборудование поставки Заказчика)"]
[null,"Итого (Материалы, оборудование и металлоконструкции поставки Заказчика)",null,null,null,null,null,null,null,null,{"$f":"K33+K37+K35","v":0}]
[null,"ИТОГО, без НДС",null,null,null,null,null,null,null,null,{"$f":"K38","v":0},null,{"$f":"M30","v":0}]
[null,"ВСЕГО, без НДС",null,null,null,null,null,null,null,{"$f":"K39+M39","v":0}]
[]
[]
[]
[null,null,null,null,null,{"$f":"'Исходные данные'!executor","v":"Ответственный исполнитель"},null,null,null,{"$f":"'Исходные данные'!executorPosition","v":"Вед. Специалист ОСОЭ УКС"},null,{"$f":"'Исходные данные'!executorFio","v":"Волостников Н.А."}]
[null,null,null,null,null,null,null,null,null,"должность",null,"Ф.И.О."]
[]
[null,null,null,null,null,{"$f":"'Исходные данные'!executor4","v":"Ответственный исполнитель ОСП"},null,null,null,{"$f":"'Исходные данные'!executor4Position","v":"Главный специалист"},null,{"$f":"'Исходные данные'!executor4Fio","v":"Еременко С.В."}]
[null,null,null,null,null,null,null,null,null,"должность",null,"Ф.И.О."]

{"sheet":"temp","index":29,"n_rows":0,"n_cols":0,"rows_kept":0,"cut":false,"hidden":true,"merged":[]}